| Back to Workflows build report for BioC 3.20 |
This page was generated on 2024-07-09 16:30 -0400 (Tue, 09 Jul 2024).
| Hostname | OS | Arch (*) | R version | Installed pkgs |
|---|---|---|---|---|
| nebbiolo2 | Linux (Ubuntu 22.04.3 LTS) | x86_64 | 4.4.1 (2024-06-14) -- "Race for Your Life" | 4643 |
| palomino6 | Windows Server 2022 Datacenter | x64 | 4.4.1 (2024-06-14 ucrt) -- "Race for Your Life" | 4414 |
| lconway | macOS 12.7.1 Monterey | x86_64 | 4.4.1 (2024-06-14) -- "Race for Your Life" | 4442 |
| Click on any hostname to see more info about the system (e.g. compilers) (*) as reported by 'uname -p', except on Windows and Mac OS X | ||||
| Package 25/30 | Hostname | OS / Arch | INSTALL | BUILD | ||||||||
| sequencing 1.29.0 (landing page) Bioconductor Package Maintainer
| nebbiolo2 | Linux (Ubuntu 22.04.3 LTS) / x86_64 | OK | OK | ||||||||
| palomino6 | Windows Server 2022 Datacenter / x64 | OK | OK | |||||||||
| lconway | macOS 12.7.1 Monterey / x86_64 | OK | OK | |||||||||
|
To the developers/maintainers of the sequencing package: - Use the following Renviron settings to reproduce errors and warnings. - If 'R CMD check' started to fail recently on the Linux builder(s) over a missing dependency, add the missing dependency to 'Suggests:' in your DESCRIPTION file. See Renviron.bioc for more information. |
| Package: sequencing |
| Version: 1.29.0 |
| Command: chmod a+r sequencing -R && C:\Users\biocbuild\bbs-3.20-bioc\R\bin\R.exe CMD build --keep-empty-dirs --no-resave-data sequencing |
| StartedAt: 2024-07-09 13:16:55 -0400 (Tue, 09 Jul 2024) |
| EndedAt: 2024-07-09 13:18:22 -0400 (Tue, 09 Jul 2024) |
| EllapsedTime: 87.2 seconds |
| RetCode: 0 |
| Status: OK |
| PackageFile: sequencing_1.29.0.tar.gz |
| PackageFileSize: 403.7 KiB |
############################################################################## ############################################################################## ### ### Running command: ### ### chmod a+r sequencing -R && C:\Users\biocbuild\bbs-3.20-bioc\R\bin\R.exe CMD build --keep-empty-dirs --no-resave-data sequencing ### ############################################################################## ############################################################################## * checking for file 'sequencing/DESCRIPTION' ... OK * preparing 'sequencing': * checking DESCRIPTION meta-information ... OK * installing the package to build vignettes * creating vignettes ... OK * checking for LF line-endings in source and make files and shell scripts * checking for empty or unneeded directories Omitted 'LazyData' from DESCRIPTION * creating default NAMESPACE file * building 'sequencing_1.29.0.tar.gz'