| Back to Workflows build report for BioC 3.20 |
This page was generated on 2024-11-15 16:30 -0500 (Fri, 15 Nov 2024).
| Hostname | OS | Arch (*) | R version | Installed pkgs |
|---|---|---|---|---|
| nebbiolo2 | Linux (Ubuntu 24.04.1 LTS) | x86_64 | 4.4.1 (2024-06-14) -- "Race for Your Life" | 4765 |
| palomino8 | Windows Server 2022 Datacenter | x64 | 4.4.1 (2024-06-14 ucrt) -- "Race for Your Life" | 4506 |
| lconway | macOS 12.7.1 Monterey | x86_64 | 4.4.1 (2024-06-14) -- "Race for Your Life" | 4538 |
| Click on any hostname to see more info about the system (e.g. compilers) (*) as reported by 'uname -p', except on Windows and Mac OS X | ||||
| Package 23/30 | Hostname | OS / Arch | INSTALL | BUILD | ||||||||
| RnaSeqGeneEdgeRQL 1.30.0 (landing page) Yunshun Chen
| nebbiolo2 | Linux (Ubuntu 24.04.1 LTS) / x86_64 | OK | OK | ||||||||
| palomino8 | Windows Server 2022 Datacenter / x64 | OK | OK | |||||||||
| lconway | macOS 12.7.1 Monterey / x86_64 | OK | OK | |||||||||
|
To the developers/maintainers of the RnaSeqGeneEdgeRQL package: - Use the following Renviron settings to reproduce errors and warnings. - If 'R CMD check' started to fail recently on the Linux builder(s) over a missing dependency, add the missing dependency to 'Suggests:' in your DESCRIPTION file. See Renviron.bioc for more information. |
| Package: RnaSeqGeneEdgeRQL |
| Version: 1.30.0 |
| Command: /Library/Frameworks/R.framework/Resources/bin/R CMD build --keep-empty-dirs --no-resave-data RnaSeqGeneEdgeRQL |
| StartedAt: 2024-11-15 13:09:19 -0500 (Fri, 15 Nov 2024) |
| EndedAt: 2024-11-15 13:10:37 -0500 (Fri, 15 Nov 2024) |
| EllapsedTime: 78.3 seconds |
| RetCode: 0 |
| Status: OK |
| PackageFile: RnaSeqGeneEdgeRQL_1.30.0.tar.gz |
| PackageFileSize: 2.561 MiB |
############################################################################## ############################################################################## ### ### Running command: ### ### /Library/Frameworks/R.framework/Resources/bin/R CMD build --keep-empty-dirs --no-resave-data RnaSeqGeneEdgeRQL ### ############################################################################## ############################################################################## * checking for file ‘RnaSeqGeneEdgeRQL/DESCRIPTION’ ... OK * preparing ‘RnaSeqGeneEdgeRQL’: * checking DESCRIPTION meta-information ... OK * installing the package to build vignettes * creating vignettes ... OK * checking for LF line-endings in source and make files and shell scripts * checking for empty or unneeded directories * creating default NAMESPACE file * building ‘RnaSeqGeneEdgeRQL_1.30.0.tar.gz’