| Back to Build/check report for BioC 3.20 experimental data | 
 | 
This page was generated on 2025-04-01 15:41 -0400 (Tue, 01 Apr 2025).
| Hostname | OS | Arch (*) | R version | Installed pkgs | 
|---|---|---|---|---|
| nebbiolo2 | Linux (Ubuntu 24.04.1 LTS) | x86_64 | 4.4.3 (2025-02-28) -- "Trophy Case" | 4764 | 
| Click on any hostname to see more info about the system (e.g. compilers) (*) as reported by 'uname -p', except on Windows and Mac OS X | ||||
| Package 274/431 | Hostname | OS / Arch | INSTALL | BUILD | CHECK | ||||||||
| Neve2006 0.44.0  (landing page) VJ Carey 
 | nebbiolo2 | Linux (Ubuntu 24.04.1 LTS) / x86_64 | OK | OK | OK |  | |||||||
| To the developers/maintainers of the Neve2006 package: - Use the following Renviron settings to reproduce errors and warnings. - If 'R CMD check' started to fail recently on the Linux builder(s) over a missing dependency, add the missing dependency to 'Suggests:' in your DESCRIPTION file. See Renviron.bioc for more information. | 
| Package: Neve2006 | 
| Version: 0.44.0 | 
| Command: /home/biocbuild/bbs-3.20-bioc/R/bin/R CMD INSTALL Neve2006 | 
| StartedAt: 2025-04-01 10:57:24 -0400 (Tue, 01 Apr 2025) | 
| EndedAt: 2025-04-01 10:57:40 -0400 (Tue, 01 Apr 2025) | 
| EllapsedTime: 15.9 seconds | 
| RetCode: 0 | 
| Status: OK | 
############################################################################## ############################################################################## ### ### Running command: ### ### /home/biocbuild/bbs-3.20-bioc/R/bin/R CMD INSTALL Neve2006 ### ############################################################################## ############################################################################## * installing to library ‘/home/biocbuild/bbs-3.20-bioc/R/site-library’ * installing *source* package ‘Neve2006’ ... ** using staged installation ** R ** data ** inst ** byte-compile and prepare package for lazy loading ** help *** installing help indices ** building package indices ** installing vignettes ** testing if installed package can be loaded from temporary location ** testing if installed package can be loaded from final location ** testing if installed package keeps a record of temporary installation path * DONE (Neve2006)