| Back to Build/check report for BioC 3.20 experimental data | 
 | 
This page was generated on 2025-04-01 15:41 -0400 (Tue, 01 Apr 2025).
| Hostname | OS | Arch (*) | R version | Installed pkgs | 
|---|---|---|---|---|
| nebbiolo2 | Linux (Ubuntu 24.04.1 LTS) | x86_64 | 4.4.3 (2025-02-28) -- "Trophy Case" | 4764 | 
| Click on any hostname to see more info about the system (e.g. compilers) (*) as reported by 'uname -p', except on Windows and Mac OS X | ||||
| Package 161/431 | Hostname | OS / Arch | INSTALL | BUILD | CHECK | ||||||||
| GSVAdata 1.42.0  (landing page) Robert Castelo 
 | nebbiolo2 | Linux (Ubuntu 24.04.1 LTS) / x86_64 | OK | OK | OK |  | |||||||
| To the developers/maintainers of the GSVAdata package: - Use the following Renviron settings to reproduce errors and warnings. - If 'R CMD check' started to fail recently on the Linux builder(s) over a missing dependency, add the missing dependency to 'Suggests:' in your DESCRIPTION file. See Renviron.bioc for more information. | 
| Package: GSVAdata | 
| Version: 1.42.0 | 
| Command: /home/biocbuild/bbs-3.20-bioc/R/bin/R CMD check --install=check:GSVAdata.install-out.txt --library=/home/biocbuild/bbs-3.20-bioc/R/site-library --timings GSVAdata_1.42.0.tar.gz | 
| StartedAt: 2025-04-01 12:04:47 -0400 (Tue, 01 Apr 2025) | 
| EndedAt: 2025-04-01 12:06:23 -0400 (Tue, 01 Apr 2025) | 
| EllapsedTime: 96.0 seconds | 
| RetCode: 0 | 
| Status: OK | 
| CheckDir: GSVAdata.Rcheck | 
| Warnings: 0 | 
##############################################################################
##############################################################################
###
### Running command:
###
###   /home/biocbuild/bbs-3.20-bioc/R/bin/R CMD check --install=check:GSVAdata.install-out.txt --library=/home/biocbuild/bbs-3.20-bioc/R/site-library --timings GSVAdata_1.42.0.tar.gz
###
##############################################################################
##############################################################################
* using log directory ‘/home/biocbuild/bbs-3.20-data-experiment/meat/GSVAdata.Rcheck’
* using R version 4.4.3 (2025-02-28)
* using platform: x86_64-pc-linux-gnu
* R was compiled by
    gcc (Ubuntu 13.3.0-6ubuntu2~24.04) 13.3.0
    GNU Fortran (Ubuntu 13.3.0-6ubuntu2~24.04) 13.3.0
* running under: Ubuntu 24.04.2 LTS
* using session charset: UTF-8
* checking for file ‘GSVAdata/DESCRIPTION’ ... OK
* this is package ‘GSVAdata’ version ‘1.42.0’
* checking package namespace information ... OK
* checking package dependencies ... OK
* checking if this is a source package ... OK
* checking if there is a namespace ... OK
* checking for hidden files and directories ... OK
* checking for portable file names ... OK
* checking for sufficient/correct file permissions ... OK
* checking whether package ‘GSVAdata’ can be installed ... OK
* checking installed package size ... NOTE
  installed size is 17.3Mb
  sub-directories of 1Mb or more:
    data     14.7Mb
    extdata   2.5Mb
* checking package directory ... OK
* checking DESCRIPTION meta-information ... OK
* checking top-level files ... OK
* checking for left-over files ... OK
* checking index information ... OK
* checking package subdirectories ... OK
* checking whether the package can be loaded ... OK
* checking whether the package can be loaded with stated dependencies ... OK
* checking whether the package can be unloaded cleanly ... OK
* checking whether the namespace can be loaded with stated dependencies ... OK
* checking whether the namespace can be unloaded cleanly ... OK
* checking loading without being on the library search path ... OK
* checking Rd files ... OK
* checking Rd metadata ... OK
* checking Rd cross-references ... OK
* checking for missing documentation entries ... OK
* checking for code/documentation mismatches ... OK
* checking Rd \usage sections ... OK
* checking Rd contents ... OK
* checking for unstated dependencies in examples ... OK
* checking contents of ‘data’ directory ... OK
* checking data for non-ASCII characters ... OK
* checking data for ASCII and uncompressed saves ... OK
* checking examples ... OK
* checking PDF version of manual ... OK
* DONE
Status: 1 NOTE
See
  ‘/home/biocbuild/bbs-3.20-data-experiment/meat/GSVAdata.Rcheck/00check.log’
for details.
GSVAdata.Rcheck/00install.out
############################################################################## ############################################################################## ### ### Running command: ### ### /home/biocbuild/bbs-3.20-bioc/R/bin/R CMD INSTALL GSVAdata ### ############################################################################## ############################################################################## * installing to library ‘/home/biocbuild/bbs-3.20-bioc/R/site-library’ * installing *source* package ‘GSVAdata’ ... ** using staged installation ** data ** inst ** help *** installing help indices ** building package indices ** testing if installed package can be loaded from temporary location ** testing if installed package can be loaded from final location ** testing if installed package keeps a record of temporary installation path * DONE (GSVAdata)
GSVAdata.Rcheck/GSVAdata-Ex.timings
| name | user | system | elapsed | |
| annotEntrez220212 | 0.076 | 0.002 | 0.078 | |
| brainTxDbSets | 0.001 | 0.001 | 0.003 | |
| c2BroadSets | 2.112 | 0.044 | 2.155 | |
| commonPickrellHuang | 0.096 | 0.009 | 0.104 | |
| gbm_VerhaakEtAl | 0.375 | 0.020 | 0.395 | |
| genderGenesEntrez | 0.000 | 0.001 | 0.002 | |
| geneprotExpCostaEtAl2021 | 0.065 | 0.002 | 0.068 | |
| leukemia | 0.340 | 0.005 | 0.345 | |