| Back to Build/check report for BioC 3.20 annotations | 
  | 
This page was generated on 2025-04-02 08:30 -0400 (Wed, 02 Apr 2025).
| Hostname | OS | Arch (*) | R version | Installed pkgs | 
|---|---|---|---|---|
| nebbiolo2 | Linux (Ubuntu 24.04.1 LTS) | x86_64 | 4.4.3 (2025-02-28) -- "Trophy Case" | 4764 | 
| Click on any hostname to see more info about the system (e.g. compilers) (*) as reported by 'uname -p', except on Windows and Mac OS X | ||||
| Package 38/47 | Hostname | OS / Arch | INSTALL | BUILD | CHECK | ||||||||
| phastCons30way.UCSC.hg38 3.13.0  (landing page) Robert Castelo 
  | nebbiolo2 | Linux (Ubuntu 24.04.1 LTS) / x86_64 | OK | OK | ERROR | ||||||||
| 
To the developers/maintainers of the phastCons30way.UCSC.hg38 package: - Use the following Renviron settings to reproduce errors and warnings. - If 'R CMD check' started to fail recently on the Linux builder(s) over a missing dependency, add the missing dependency to 'Suggests:' in your DESCRIPTION file. See Renviron.bioc for more information.  | 
| Package: phastCons30way.UCSC.hg38 | 
| Version: 3.13.0 | 
| Command: /home/biocbuild/bbs-3.20-bioc/R/bin/R CMD build --keep-empty-dirs --no-resave-data phastCons30way.UCSC.hg38 | 
| StartedAt: 2025-04-02 06:32:11 -0400 (Wed, 02 Apr 2025) | 
| EndedAt: 2025-04-02 06:32:31 -0400 (Wed, 02 Apr 2025) | 
| EllapsedTime: 19.7 seconds | 
| RetCode: 0 | 
| Status: OK | 
| PackageFile: phastCons30way.UCSC.hg38_3.13.0.tar.gz | 
| PackageFileSize: 299.9 KiB | 
############################################################################## ############################################################################## ### ### Running command: ### ### /home/biocbuild/bbs-3.20-bioc/R/bin/R CMD build --keep-empty-dirs --no-resave-data phastCons30way.UCSC.hg38 ### ############################################################################## ############################################################################## * checking for file ‘phastCons30way.UCSC.hg38/DESCRIPTION’ ... OK * preparing ‘phastCons30way.UCSC.hg38’: * checking DESCRIPTION meta-information ... OK * installing the package to build vignettes * creating vignettes ... OK * checking for LF line-endings in source and make files and shell scripts * checking for empty or unneeded directories * building ‘phastCons30way.UCSC.hg38_3.13.0.tar.gz’