Back to Books build report for BioC 3.20

This page was generated on 2025-01-31 14:30 -0500 (Fri, 31 Jan 2025).

HostnameOSArch (*)R versionInstalled pkgs
nebbiolo2Linux (Ubuntu 24.04.1 LTS)x86_644.4.2 (2024-10-31) -- "Pile of Leaves" 4746
Click on any hostname to see more info about the system (e.g. compilers)      (*) as reported by 'uname -p', except on Windows and Mac OS X

Package 8/10HostnameOS / ArchINSTALLBUILDCHECK
OSCA.multisample 1.14.3  (landing page)
Alan O'Callaghan
Snapshot Date: 2025-01-31 06:00 -0500 (Fri, 31 Jan 2025)
git_url: https://git.bioconductor.org/packages/OSCA.multisample
git_branch: RELEASE_3_20
git_last_commit: 38a8909
git_last_commit_date: 2025-01-20 09:37:42 -0500 (Mon, 20 Jan 2025)
nebbiolo2Linux (Ubuntu 24.04.1 LTS) / x86_64  OK    OK    OK  UNNEEDED, same version is already published


INSTALL results for OSCA.multisample on nebbiolo2

To the developers/maintainers of the OSCA.multisample package:
- Use the following Renviron settings to reproduce errors and warnings.
- If 'R CMD check' started to fail recently on the Linux builder(s) over a missing dependency, add the missing dependency to 'Suggests:' in your DESCRIPTION file. See Renviron.bioc for more information.

raw results


Summary

Package: OSCA.multisample
Version: 1.14.3
Command: /home/biocbuild/bbs-3.20-bioc/R/bin/R CMD INSTALL OSCA.multisample
StartedAt: 2025-01-31 06:15:44 -0500 (Fri, 31 Jan 2025)
EndedAt: 2025-01-31 06:16:08 -0500 (Fri, 31 Jan 2025)
EllapsedTime: 24.4 seconds
RetCode: 0
Status:   OK  

Command output

##############################################################################
##############################################################################
###
### Running command:
###
###   /home/biocbuild/bbs-3.20-bioc/R/bin/R CMD INSTALL OSCA.multisample
###
##############################################################################
##############################################################################


* installing to library ‘/home/biocbuild/bbs-3.20-bioc/R/site-library’
* installing *source* package ‘OSCA.multisample’ ...
** using staged installation
** inst
** help
No man pages found in package  ‘OSCA.multisample’ 
*** installing help indices
** building package indices
** installing vignettes
** testing if installed package can be loaded from temporary location
** testing if installed package can be loaded from final location
** testing if installed package keeps a record of temporary installation path
* DONE (OSCA.multisample)