Back to Books build report for BioC 3.20

This page was generated on 2025-01-29 14:30 -0500 (Wed, 29 Jan 2025).

HostnameOSArch (*)R versionInstalled pkgs
nebbiolo2Linux (Ubuntu 24.04.1 LTS)x86_644.4.2 (2024-10-31) -- "Pile of Leaves" 4746
Click on any hostname to see more info about the system (e.g. compilers)      (*) as reported by 'uname -p', except on Windows and Mac OS X

Package 7/10HostnameOS / ArchINSTALLBUILDCHECK
OSCA.intro 1.14.2  (landing page)
Ludwig Geistlinger
Snapshot Date: 2025-01-29 06:00 -0500 (Wed, 29 Jan 2025)
git_url: https://git.bioconductor.org/packages/OSCA.intro
git_branch: RELEASE_3_20
git_last_commit: df803df
git_last_commit_date: 2025-01-08 16:52:49 -0500 (Wed, 08 Jan 2025)
nebbiolo2Linux (Ubuntu 24.04.1 LTS) / x86_64  OK    OK    OK  UNNEEDED, same version is already published


CHECK results for OSCA.intro on nebbiolo2

To the developers/maintainers of the OSCA.intro package:
- Use the following Renviron settings to reproduce errors and warnings.
- If 'R CMD check' started to fail recently on the Linux builder(s) over a missing dependency, add the missing dependency to 'Suggests:' in your DESCRIPTION file. See Renviron.bioc for more information.

raw results


Summary

Package: OSCA.intro
Version: 1.14.2
Command: rm -rf OSCA.intro.book && mkdir OSCA.intro.book && /home/biocbuild/BBS/utils/deploy_book.py OSCA.intro_1.14.2.tar.gz OSCA.intro.book
StartedAt: 2025-01-29 08:34:48 -0500 (Wed, 29 Jan 2025)
EndedAt: 2025-01-29 08:34:50 -0500 (Wed, 29 Jan 2025)
EllapsedTime: 2.5 seconds
RetCode: 0
Status:   OK  
DeployDestDir: OSCA.intro.book
Warnings: 0

Command output

##############################################################################
##############################################################################
###
### Running command:
###
###   rm -rf OSCA.intro.book && mkdir OSCA.intro.book && /home/biocbuild/BBS/utils/deploy_book.py OSCA.intro_1.14.2.tar.gz OSCA.intro.book
###
##############################################################################
##############################################################################


Deploying content from book tarball 'OSCA.intro_1.14.2.tar.gz' to 'OSCA.intro.book/OSCA.intro/' ... OK