Back to Rapid builds (Linux only) of a subset of BioC 3.21
Report updated every 6 hours

This page was generated on 2025-01-31 10:00 -0500 (Fri, 31 Jan 2025).

HostnameOSArch (*)R versionInstalled pkgs
teran2Linux (Ubuntu 24.04.1 LTS)x86_64R Under development (unstable) (2025-01-20 r87609) -- "Unsuffered Consequences" 867
Click on any hostname to see more info about the system (e.g. compilers)      (*) as reported by 'uname -p', except on Windows and Mac OS X

Package 112/217HostnameOS / ArchINSTALLBUILDCHECK
h5mread 0.99.4  (landing page)
Hervé Pagès
Snapshot Date: 2025-01-31 06:00 -0500 (Fri, 31 Jan 2025)
git_url: https://git.bioconductor.org/packages/h5mread
git_branch: devel
git_last_commit: 8aced10
git_last_commit_date: 2025-01-21 16:44:07 -0500 (Tue, 21 Jan 2025)
teran2Linux (Ubuntu 24.04.1 LTS) / x86_64  OK    OK    WARNINGS  


INSTALL results for h5mread on teran2

To the developers/maintainers of the h5mread package:
- Use the following Renviron settings to reproduce errors and warnings.
- If 'R CMD check' started to fail recently on the Linux builder(s) over a missing dependency, add the missing dependency to 'Suggests:' in your DESCRIPTION file. See Renviron.bioc for more information.

raw results


Summary

Package: h5mread
Version: 0.99.4
Command: /home/rapidbuild/bbs-3.21-bioc-rapid/R/bin/R CMD INSTALL h5mread
StartedAt: 2025-01-31 06:14:36 -0500 (Fri, 31 Jan 2025)
EndedAt: 2025-01-31 06:14:54 -0500 (Fri, 31 Jan 2025)
EllapsedTime: 18.1 seconds
RetCode: 0
Status:   OK  

Command output

##############################################################################
##############################################################################
###
### Running command:
###
###   /home/rapidbuild/bbs-3.21-bioc-rapid/R/bin/R CMD INSTALL h5mread
###
##############################################################################
##############################################################################


* installing to library ‘/media/volume/teran2_disk/rapidbuild/bbs-3.21-bioc-rapid/R/site-library’
* installing *source* package ‘h5mread’ ...
** this is package ‘h5mread’ version ‘0.99.4’
** using staged installation
** libs
using C compiler: ‘gcc (Ubuntu 13.3.0-6ubuntu2~24.04) 13.3.0’
gcc -I"/home/rapidbuild/bbs-3.21-bioc-rapid/R/include" -DNDEBUG  -I'/media/volume/teran2_disk/rapidbuild/bbs-3.21-bioc-rapid/R/site-library/Rhdf5lib/include' -I'/media/volume/teran2_disk/rapidbuild/bbs-3.21-bioc-rapid/R/site-library/S4Vectors/include' -I/usr/local/include    -fpic  -g -O2  -Wall -Werror=format-security -c S4Vectors_stubs.c -o S4Vectors_stubs.o
gcc -I"/home/rapidbuild/bbs-3.21-bioc-rapid/R/include" -DNDEBUG  -I'/media/volume/teran2_disk/rapidbuild/bbs-3.21-bioc-rapid/R/site-library/Rhdf5lib/include' -I'/media/volume/teran2_disk/rapidbuild/bbs-3.21-bioc-rapid/R/site-library/S4Vectors/include' -I/usr/local/include    -fpic  -g -O2  -Wall -Werror=format-security -c H5File.c -o H5File.o
gcc -I"/home/rapidbuild/bbs-3.21-bioc-rapid/R/include" -DNDEBUG  -I'/media/volume/teran2_disk/rapidbuild/bbs-3.21-bioc-rapid/R/site-library/Rhdf5lib/include' -I'/media/volume/teran2_disk/rapidbuild/bbs-3.21-bioc-rapid/R/site-library/S4Vectors/include' -I/usr/local/include    -fpic  -g -O2  -Wall -Werror=format-security -c global_errmsg_buf.c -o global_errmsg_buf.o
gcc -I"/home/rapidbuild/bbs-3.21-bioc-rapid/R/include" -DNDEBUG  -I'/media/volume/teran2_disk/rapidbuild/bbs-3.21-bioc-rapid/R/site-library/Rhdf5lib/include' -I'/media/volume/teran2_disk/rapidbuild/bbs-3.21-bioc-rapid/R/site-library/S4Vectors/include' -I/usr/local/include    -fpic  -g -O2  -Wall -Werror=format-security -c H5DSetDescriptor.c -o H5DSetDescriptor.o
gcc -I"/home/rapidbuild/bbs-3.21-bioc-rapid/R/include" -DNDEBUG  -I'/media/volume/teran2_disk/rapidbuild/bbs-3.21-bioc-rapid/R/site-library/Rhdf5lib/include' -I'/media/volume/teran2_disk/rapidbuild/bbs-3.21-bioc-rapid/R/site-library/S4Vectors/include' -I/usr/local/include    -fpic  -g -O2  -Wall -Werror=format-security -c h5dimscales.c -o h5dimscales.o
gcc -I"/home/rapidbuild/bbs-3.21-bioc-rapid/R/include" -DNDEBUG  -I'/media/volume/teran2_disk/rapidbuild/bbs-3.21-bioc-rapid/R/site-library/Rhdf5lib/include' -I'/media/volume/teran2_disk/rapidbuild/bbs-3.21-bioc-rapid/R/site-library/S4Vectors/include' -I/usr/local/include    -fpic  -g -O2  -Wall -Werror=format-security -c uaselection.c -o uaselection.o
gcc -I"/home/rapidbuild/bbs-3.21-bioc-rapid/R/include" -DNDEBUG  -I'/media/volume/teran2_disk/rapidbuild/bbs-3.21-bioc-rapid/R/site-library/Rhdf5lib/include' -I'/media/volume/teran2_disk/rapidbuild/bbs-3.21-bioc-rapid/R/site-library/S4Vectors/include' -I/usr/local/include    -fpic  -g -O2  -Wall -Werror=format-security -c h5mread_helpers.c -o h5mread_helpers.o
gcc -I"/home/rapidbuild/bbs-3.21-bioc-rapid/R/include" -DNDEBUG  -I'/media/volume/teran2_disk/rapidbuild/bbs-3.21-bioc-rapid/R/site-library/Rhdf5lib/include' -I'/media/volume/teran2_disk/rapidbuild/bbs-3.21-bioc-rapid/R/site-library/S4Vectors/include' -I/usr/local/include    -fpic  -g -O2  -Wall -Werror=format-security -c h5mread_startscounts.c -o h5mread_startscounts.o
gcc -I"/home/rapidbuild/bbs-3.21-bioc-rapid/R/include" -DNDEBUG  -I'/media/volume/teran2_disk/rapidbuild/bbs-3.21-bioc-rapid/R/site-library/Rhdf5lib/include' -I'/media/volume/teran2_disk/rapidbuild/bbs-3.21-bioc-rapid/R/site-library/S4Vectors/include' -I/usr/local/include    -fpic  -g -O2  -Wall -Werror=format-security -c TouchedChunks.c -o TouchedChunks.o
gcc -I"/home/rapidbuild/bbs-3.21-bioc-rapid/R/include" -DNDEBUG  -I'/media/volume/teran2_disk/rapidbuild/bbs-3.21-bioc-rapid/R/site-library/Rhdf5lib/include' -I'/media/volume/teran2_disk/rapidbuild/bbs-3.21-bioc-rapid/R/site-library/S4Vectors/include' -I/usr/local/include    -fpic  -g -O2  -Wall -Werror=format-security -c h5mread_index.c -o h5mread_index.o
gcc -I"/home/rapidbuild/bbs-3.21-bioc-rapid/R/include" -DNDEBUG  -I'/media/volume/teran2_disk/rapidbuild/bbs-3.21-bioc-rapid/R/site-library/Rhdf5lib/include' -I'/media/volume/teran2_disk/rapidbuild/bbs-3.21-bioc-rapid/R/site-library/S4Vectors/include' -I/usr/local/include    -fpic  -g -O2  -Wall -Werror=format-security -c h5mread_sparse.c -o h5mread_sparse.o
gcc -I"/home/rapidbuild/bbs-3.21-bioc-rapid/R/include" -DNDEBUG  -I'/media/volume/teran2_disk/rapidbuild/bbs-3.21-bioc-rapid/R/site-library/Rhdf5lib/include' -I'/media/volume/teran2_disk/rapidbuild/bbs-3.21-bioc-rapid/R/site-library/S4Vectors/include' -I/usr/local/include    -fpic  -g -O2  -Wall -Werror=format-security -c h5mread.c -o h5mread.o
gcc -I"/home/rapidbuild/bbs-3.21-bioc-rapid/R/include" -DNDEBUG  -I'/media/volume/teran2_disk/rapidbuild/bbs-3.21-bioc-rapid/R/site-library/Rhdf5lib/include' -I'/media/volume/teran2_disk/rapidbuild/bbs-3.21-bioc-rapid/R/site-library/S4Vectors/include' -I/usr/local/include    -fpic  -g -O2  -Wall -Werror=format-security -c h5summarize.c -o h5summarize.o
gcc -I"/home/rapidbuild/bbs-3.21-bioc-rapid/R/include" -DNDEBUG  -I'/media/volume/teran2_disk/rapidbuild/bbs-3.21-bioc-rapid/R/site-library/Rhdf5lib/include' -I'/media/volume/teran2_disk/rapidbuild/bbs-3.21-bioc-rapid/R/site-library/S4Vectors/include' -I/usr/local/include    -fpic  -g -O2  -Wall -Werror=format-security -c R_init_h5mread.c -o R_init_h5mread.o
gcc -shared -L/usr/local/lib -o h5mread.so S4Vectors_stubs.o H5File.o global_errmsg_buf.o H5DSetDescriptor.o h5dimscales.o uaselection.o h5mread_helpers.o h5mread_startscounts.o TouchedChunks.o h5mread_index.o h5mread_sparse.o h5mread.o h5summarize.o R_init_h5mread.o /media/volume/teran2_disk/rapidbuild/bbs-3.21-bioc-rapid/R/site-library/Rhdf5lib/lib/libhdf5_hl.a /media/volume/teran2_disk/rapidbuild/bbs-3.21-bioc-rapid/R/site-library/Rhdf5lib/lib/libhdf5.a -L/media/volume/teran2_disk/rapidbuild/bbs-3.21-bioc-rapid/R/site-library/Rhdf5lib/lib -lcrypto -lcurl -lsz -laec -lz -ldl -lm
installing to /media/volume/teran2_disk/rapidbuild/bbs-3.21-bioc-rapid/R/site-library/00LOCK-h5mread/00new/h5mread/libs
** R
** inst
** byte-compile and prepare package for lazy loading
** help
*** installing help indices
** building package indices
** installing vignettes
** testing if installed package can be loaded from temporary location
** checking absolute paths in shared objects and dynamic libraries
** testing if installed package can be loaded from final location
** testing if installed package keeps a record of temporary installation path
* DONE (h5mread)