Back to Rapid builds (Linux only) of a subset of BioC 3.21
Report updated every 6 hours

This page was generated on 2025-01-31 10:00 -0500 (Fri, 31 Jan 2025).

HostnameOSArch (*)R versionInstalled pkgs
teran2Linux (Ubuntu 24.04.1 LTS)x86_64R Under development (unstable) (2025-01-20 r87609) -- "Unsuffered Consequences" 867
Click on any hostname to see more info about the system (e.g. compilers)      (*) as reported by 'uname -p', except on Windows and Mac OS X

Package 4/217HostnameOS / ArchINSTALLBUILDCHECK
affyPLM 1.83.3  (landing page)
Ben Bolstad
Snapshot Date: 2025-01-31 06:00 -0500 (Fri, 31 Jan 2025)
git_url: https://git.bioconductor.org/packages/affyPLM
git_branch: devel
git_last_commit: d5e983d
git_last_commit_date: 2025-01-29 10:23:37 -0500 (Wed, 29 Jan 2025)
teran2Linux (Ubuntu 24.04.1 LTS) / x86_64  OK    OK    WARNINGS  


BUILD results for affyPLM on teran2

To the developers/maintainers of the affyPLM package:
- Use the following Renviron settings to reproduce errors and warnings.
- If 'R CMD check' started to fail recently on the Linux builder(s) over a missing dependency, add the missing dependency to 'Suggests:' in your DESCRIPTION file. See Renviron.bioc for more information.

raw results


Summary

Package: affyPLM
Version: 1.83.3
Command: /home/rapidbuild/bbs-3.21-bioc-rapid/R/bin/R CMD build --keep-empty-dirs --no-resave-data affyPLM
StartedAt: 2025-01-31 06:30:28 -0500 (Fri, 31 Jan 2025)
EndedAt: 2025-01-31 06:31:58 -0500 (Fri, 31 Jan 2025)
EllapsedTime: 89.8 seconds
RetCode: 0
Status:   OK  
PackageFile: affyPLM_1.83.3.tar.gz
PackageFileSize: 7.159 MiB

Command output

##############################################################################
##############################################################################
###
### Running command:
###
###   /home/rapidbuild/bbs-3.21-bioc-rapid/R/bin/R CMD build --keep-empty-dirs --no-resave-data affyPLM
###
##############################################################################
##############################################################################


* checking for file ‘affyPLM/DESCRIPTION’ ... OK
* preparing ‘affyPLM’:
* checking DESCRIPTION meta-information ... OK
* cleaning src
* installing the package to build vignettes
* creating vignettes ... OK
* cleaning src
* checking for LF line-endings in source and make files and shell scripts
* checking for empty or unneeded directories
* building ‘affyPLM_1.83.3.tar.gz’