| Back to Multiple platform build/check report for BioC 3.20: simplified long |
|
This page was generated on 2024-11-20 12:03 -0500 (Wed, 20 Nov 2024).
| Hostname | OS | Arch (*) | R version | Installed pkgs |
|---|---|---|---|---|
| teran2 | Linux (Ubuntu 24.04.1 LTS) | x86_64 | 4.4.2 (2024-10-31) -- "Pile of Leaves" | 4481 |
| nebbiolo2 | Linux (Ubuntu 24.04.1 LTS) | x86_64 | 4.4.2 (2024-10-31) -- "Pile of Leaves" | 4479 |
| palomino8 | Windows Server 2022 Datacenter | x64 | 4.4.2 (2024-10-31 ucrt) -- "Pile of Leaves" | 4359 |
| lconway | macOS 12.7.1 Monterey | x86_64 | 4.4.1 (2024-06-14) -- "Race for Your Life" | 4539 |
| kunpeng2 | Linux (openEuler 22.03 LTS-SP1) | aarch64 | 4.4.1 (2024-06-14) -- "Race for Your Life" | 4493 |
| Click on any hostname to see more info about the system (e.g. compilers) (*) as reported by 'uname -p', except on Windows and Mac OS X | ||||
| Package 2271/2289 | Hostname | OS / Arch | INSTALL | BUILD | CHECK | BUILD BIN | ||||||||
| xcms 4.4.0 (landing page) Steffen Neumann
| teran2 | Linux (Ubuntu 24.04.1 LTS) / x86_64 | OK | OK | OK | |||||||||
| nebbiolo2 | Linux (Ubuntu 24.04.1 LTS) / x86_64 | OK | OK | OK | ||||||||||
| palomino8 | Windows Server 2022 Datacenter / x64 | OK | OK | WARNINGS | OK | |||||||||
| lconway | macOS 12.7.1 Monterey / x86_64 | OK | OK | ERROR | OK | |||||||||
| kunpeng2 | Linux (openEuler 22.03 LTS-SP1) / aarch64 | OK | OK | OK | ||||||||||
|
To the developers/maintainers of the xcms package: - Allow up to 24 hours (and sometimes 48 hours) for your latest push to git@git.bioconductor.org:packages/xcms.git to reflect on this report. See Troubleshooting Build Report for more information. - Use the following Renviron settings to reproduce errors and warnings. - If 'R CMD check' started to fail recently on the Linux builder(s) over a missing dependency, add the missing dependency to 'Suggests:' in your DESCRIPTION file. See Renviron.bioc for more information. |
| Package: xcms |
| Version: 4.4.0 |
| Command: /home/biocbuild/bbs-3.20-bioc/R/bin/R CMD check --install=check:xcms.install-out.txt --library=/home/biocbuild/bbs-3.20-bioc/R/site-library --timings xcms_4.4.0.tar.gz |
| StartedAt: 2024-11-20 11:20:48 -0500 (Wed, 20 Nov 2024) |
| EndedAt: 2024-11-20 11:42:18 -0500 (Wed, 20 Nov 2024) |
| EllapsedTime: 1289.0 seconds |
| RetCode: 0 |
| Status: OK |
| CheckDir: xcms.Rcheck |
| Warnings: 0 |
##############################################################################
##############################################################################
###
### Running command:
###
### /home/biocbuild/bbs-3.20-bioc/R/bin/R CMD check --install=check:xcms.install-out.txt --library=/home/biocbuild/bbs-3.20-bioc/R/site-library --timings xcms_4.4.0.tar.gz
###
##############################################################################
##############################################################################
* using log directory ‘/media/volume/teran2_disk/biocbuild/bbs-3.20-bioc/meat/xcms.Rcheck’
* using R version 4.4.2 (2024-10-31)
* using platform: x86_64-pc-linux-gnu
* R was compiled by
gcc (Ubuntu 13.2.0-23ubuntu4) 13.2.0
GNU Fortran (Ubuntu 13.2.0-23ubuntu4) 13.2.0
* running under: Ubuntu 24.04.1 LTS
* using session charset: UTF-8
* checking for file ‘xcms/DESCRIPTION’ ... OK
* this is package ‘xcms’ version ‘4.4.0’
* package encoding: UTF-8
* checking package namespace information ... OK
* checking package dependencies ... OK
* checking if this is a source package ... OK
* checking if there is a namespace ... OK
* checking for hidden files and directories ... NOTE
Found the following hidden files and directories:
.BBSoptions
These were most likely included in error. See section ‘Package
structure’ in the ‘Writing R Extensions’ manual.
* checking for portable file names ... OK
* checking for sufficient/correct file permissions ... OK
* checking whether package ‘xcms’ can be installed ... OK
* used C compiler: ‘gcc (Ubuntu 13.2.0-23ubuntu4) 13.2.0’
* used C++ compiler: ‘g++ (Ubuntu 13.2.0-23ubuntu4) 13.2.0’
* checking installed package size ... NOTE
installed size is 7.8Mb
sub-directories of 1Mb or more:
R 3.5Mb
help 1.0Mb
libs 2.4Mb
* checking package directory ... OK
* checking ‘build’ directory ... OK
* checking DESCRIPTION meta-information ... NOTE
License components with restrictions not permitted:
GPL (>= 2) + file LICENSE
* checking top-level files ... OK
* checking for left-over files ... OK
* checking index information ... OK
* checking package subdirectories ... OK
* checking code files for non-ASCII characters ... OK
* checking R files for syntax errors ... OK
* checking whether the package can be loaded ... OK
* checking whether the package can be loaded with stated dependencies ... OK
* checking whether the package can be unloaded cleanly ... OK
* checking whether the namespace can be loaded with stated dependencies ... OK
* checking whether the namespace can be unloaded cleanly ... OK
* checking loading without being on the library search path ... OK
* checking whether startup messages can be suppressed ... OK
* checking dependencies in R code ... NOTE
Unexported objects imported by ':::' calls:
‘MALDIquant:::.localMaxima’ ‘MSnbase:::.MSnExpReqFvarLabels’
‘MSnbase:::.plotXIC’ ‘MSnbase:::.vertical_sub_layout’
‘MSnbase:::formatFileSpectrumNames’ ‘Spectra:::.concatenate_spectra’
See the note in ?`:::` about the use of this operator.
There are ::: calls to the package's namespace in its code. A package
almost never needs to use ::: for its own objects:
‘.copy_env’ ‘MSW.cwt’ ‘MSW.getLocalMaximumCWT’ ‘MSW.getRidge’
‘descendMin’ ‘descendMinTol’ ‘estimateChromNoise’
‘getLocalNoiseEstimate’ ‘na.flatfill’ ‘patternVsRowScore’
* checking S3 generic/method consistency ... OK
* checking replacement functions ... OK
* checking foreign function calls ... OK
* checking R code for possible problems ... NOTE
.xcmsFragments.plotTree: no visible global function definition for
‘edgemode<-’
.xcmsFragments.plotTree: no visible global function definition for
‘addEdge’
buildAnalysisSummary: no visible global function definition for
‘newXMLNode’
buildAssayList : <anonymous>: no visible global function definition for
‘newXMLNode’
buildAssayList: no visible global function definition for ‘newXMLNode’
buildAuditCollection: no visible global function definition for
‘newXMLNode’
buildCVlist: no visible global function definition for ‘newXMLNode’
buildCVlist: no visible global function definition for ‘addChildren’
buildCvParams : <anonymous>: no visible global function definition for
‘newXMLNode’
buildDataProcessingList: no visible global function definition for
‘newXMLNode’
buildFeatureList : <anonymous>: no visible global function definition
for ‘newXMLNode’
buildInputFiles : <anonymous>: no visible global function definition
for ‘newXMLNode’
buildInputFiles: no visible global function definition for ‘newXMLNode’
buildMzq: no visible global function definition for ‘xmlTree’
buildSmallMoleculeList : <anonymous>: no visible global function
definition for ‘newXMLNode’
buildSmallMoleculeList: no visible global function definition for
‘newXMLNode’
buildSoftwareList: no visible global function definition for
‘newXMLNode’
buildStudyVariableList : <anonymous>: no visible global function
definition for ‘newXMLNode’
buildStudyVariableList : <anonymous> : <anonymous>: no visible global
function definition for ‘newXMLNode’
buildStudyVariableList: no visible global function definition for
‘newXMLNode’
plotQC: no visible global function definition for ‘sampleNames’
running: multiple local function definitions for ‘funct’ with different
formal arguments
verify.mzQuantML: no visible global function definition for
‘xmlTreeParse’
verify.mzQuantML: no visible global function definition for
‘xmlInternalTreeParse’
verify.mzQuantML: no visible global function definition for
‘xmlSchemaValidate’
xcmsClusterApply: no visible global function definition for
‘checkCluster’
xcmsClusterApply : submit: no visible global function definition for
‘sendCall’
xcmsClusterApply: no visible global function definition for
‘recvOneResult’
xcmsClusterApply: no visible global function definition for
‘checkForRemoteErrors’
xcmsPapply: no visible global function definition for ‘mpi.comm.size’
xcmsPapply: no visible global function definition for
‘mpi.spawn.Rslaves’
xcmsPapply: no visible global function definition for ‘mpi.comm.rank’
xcmsPapply : papply_int_slavefunction: no visible global function
definition for ‘mpi.send.Robj’
xcmsPapply : papply_int_slavefunction: no visible global function
definition for ‘mpi.recv.Robj’
xcmsPapply : papply_int_slavefunction: no visible global function
definition for ‘mpi.any.source’
xcmsPapply : papply_int_slavefunction: no visible global function
definition for ‘mpi.any.tag’
xcmsPapply : papply_int_slavefunction: no visible global function
definition for ‘mpi.get.sourcetag’
xcmsPapply: no visible global function definition for
‘mpi.bcast.Robj2slave’
xcmsPapply: no visible global function definition for ‘mpi.bcast.cmd’
xcmsPapply: no visible global function definition for ‘mpi.recv.Robj’
xcmsPapply: no visible global function definition for ‘mpi.any.source’
xcmsPapply: no visible global function definition for ‘mpi.any.tag’
xcmsPapply: no visible global function definition for
‘mpi.get.sourcetag’
xcmsPapply: no visible global function definition for ‘mpi.send.Robj’
xcmsParallelSetup: no visible global function definition for
‘mpi.spawn.Rslaves’
xcmsParallelSetup: no visible global function definition for
‘mpi.comm.size’
xcmsParallelSetup: no visible global function definition for
‘mpi.comm.rank’
xcmsParallelSetup: no visible global function definition for
‘makeCluster’
xcmsSet: no visible global function definition for ‘bpstopOnError’
xcmsSet: no visible global function definition for ‘bptry’
xcmsSet: no visible global function definition for ‘bpok’
estimatePrecursorIntensity,MsExperiment: no visible global function
definition for ‘spectraSampleIndex’
plotSurf,xcmsRaw: no visible global function definition for ‘clear3d’
plotSurf,xcmsRaw: no visible global function definition for ‘surface3d’
plotSurf,xcmsRaw: no visible global function definition for ‘points3d’
plotSurf,xcmsRaw: no visible global function definition for ‘bbox3d’
plotTree,xcmsFragments: no visible global function definition for
‘edgemode<-’
plotTree,xcmsFragments: no visible global function definition for
‘addEdge’
write.cdf,xcmsRaw: no visible global function definition for
‘ncdim_def’
write.cdf,xcmsRaw: no visible global function definition for
‘ncvar_def’
write.cdf,xcmsRaw: no visible global function definition for
‘nc_create’
write.cdf,xcmsRaw: no visible global function definition for
‘ncvar_put’
write.cdf,xcmsRaw: no visible global function definition for
‘ncatt_put’
write.cdf,xcmsRaw: no visible global function definition for ‘nc_close’
write.mzQuantML,xcmsSet: no visible global function definition for
‘saveXML’
write.mzdata,xcmsRaw: no visible global function definition for
‘base64encode’
Undefined global functions or variables:
addChildren addEdge base64encode bbox3d bpok bpstopOnError bptry
checkCluster checkForRemoteErrors clear3d edgemode<- makeCluster
mpi.any.source mpi.any.tag mpi.bcast.Robj2slave mpi.bcast.cmd
mpi.comm.rank mpi.comm.size mpi.get.sourcetag mpi.recv.Robj
mpi.send.Robj mpi.spawn.Rslaves nc_close nc_create ncatt_put
ncdim_def ncvar_def ncvar_put newXMLNode points3d recvOneResult
sampleNames saveXML sendCall spectraSampleIndex surface3d
xmlInternalTreeParse xmlSchemaValidate xmlTree xmlTreeParse
* checking Rd files ... OK
* checking Rd metadata ... OK
* checking Rd cross-references ... OK
* checking for missing documentation entries ... OK
* checking for code/documentation mismatches ... OK
* checking Rd \usage sections ... OK
* checking Rd contents ... OK
* checking for unstated dependencies in examples ... OK
* checking contents of ‘data’ directory ... OK
* checking data for non-ASCII characters ... OK
* checking data for ASCII and uncompressed saves ... OK
* checking line endings in C/C++/Fortran sources/headers ... OK
* checking line endings in Makefiles ... OK
* checking compilation flags in Makevars ... OK
* checking for GNU extensions in Makefiles ... OK
* checking for portable use of $(BLAS_LIBS) and $(LAPACK_LIBS) ... OK
* checking use of PKG_*FLAGS in Makefiles ... OK
* checking compiled code ... NOTE
Note: information on .o files is not available
* checking files in ‘vignettes’ ... OK
* checking examples ... OK
Examples with CPU (user + system) or elapsed time > 5s
user system elapsed
XcmsExperiment 9.558 0.647 11.004
findPeaks.massifquant-methods 6.821 0.024 7.302
LamaParama 4.761 0.907 5.704
* checking for unstated dependencies in ‘tests’ ... OK
* checking tests ...
Running ‘testthat.R’
OK
* checking for unstated dependencies in vignettes ... OK
* checking package vignettes ... OK
* checking re-building of vignette outputs ... OK
* checking PDF version of manual ... OK
* DONE
Status: 6 NOTEs
See
‘/media/volume/teran2_disk/biocbuild/bbs-3.20-bioc/meat/xcms.Rcheck/00check.log’
for details.
xcms.Rcheck/00install.out
##############################################################################
##############################################################################
###
### Running command:
###
### /home/biocbuild/bbs-3.20-bioc/R/bin/R CMD INSTALL xcms
###
##############################################################################
##############################################################################
* installing to library ‘/media/volume/teran2_disk/biocbuild/bbs-3.20-bioc/R/site-library’
* installing *source* package ‘xcms’ ...
** using staged installation
** libs
using C compiler: ‘gcc (Ubuntu 13.2.0-23ubuntu4) 13.2.0’
using C++ compiler: ‘g++ (Ubuntu 13.2.0-23ubuntu4) 13.2.0’
rm -f massifquant/xcms_massifquant.o massifquant/TrMgr.o massifquant/Tracker.o massifquant/SegProc.o massifquant/DataKeeper.o massifquant/OpOverload.o obiwarp/mat.o obiwarp/vec.o obiwarp/xcms_dynprog.o obiwarp/xcms_lmat.o xcms_obiwarp.o fastMatch.o mzClust_hclust.o mzROI.o util.o xcms.o binners.o
g++ -std=gnu++17 -I"/home/biocbuild/bbs-3.20-bioc/R/include" -DNDEBUG -I/usr/local/include -fpic -g -O2 -Wall -c massifquant/xcms_massifquant.cpp -o massifquant/xcms_massifquant.o
g++ -std=gnu++17 -I"/home/biocbuild/bbs-3.20-bioc/R/include" -DNDEBUG -I/usr/local/include -fpic -g -O2 -Wall -c massifquant/TrMgr.cpp -o massifquant/TrMgr.o
g++ -std=gnu++17 -I"/home/biocbuild/bbs-3.20-bioc/R/include" -DNDEBUG -I/usr/local/include -fpic -g -O2 -Wall -c massifquant/Tracker.cpp -o massifquant/Tracker.o
g++ -std=gnu++17 -I"/home/biocbuild/bbs-3.20-bioc/R/include" -DNDEBUG -I/usr/local/include -fpic -g -O2 -Wall -c massifquant/SegProc.cpp -o massifquant/SegProc.o
g++ -std=gnu++17 -I"/home/biocbuild/bbs-3.20-bioc/R/include" -DNDEBUG -I/usr/local/include -fpic -g -O2 -Wall -c massifquant/DataKeeper.cpp -o massifquant/DataKeeper.o
g++ -std=gnu++17 -I"/home/biocbuild/bbs-3.20-bioc/R/include" -DNDEBUG -I/usr/local/include -fpic -g -O2 -Wall -c massifquant/OpOverload.cpp -o massifquant/OpOverload.o
g++ -std=gnu++17 -I"/home/biocbuild/bbs-3.20-bioc/R/include" -DNDEBUG -I/usr/local/include -fpic -g -O2 -Wall -c obiwarp/mat.cpp -o obiwarp/mat.o
g++ -std=gnu++17 -I"/home/biocbuild/bbs-3.20-bioc/R/include" -DNDEBUG -I/usr/local/include -fpic -g -O2 -Wall -c obiwarp/vec.cpp -o obiwarp/vec.o
g++ -std=gnu++17 -I"/home/biocbuild/bbs-3.20-bioc/R/include" -DNDEBUG -I/usr/local/include -fpic -g -O2 -Wall -c obiwarp/xcms_dynprog.cpp -o obiwarp/xcms_dynprog.o
obiwarp/xcms_dynprog.cpp: In member function ‘void DynProg::find_path(VEC::MatF&, VEC::VecF&, int, float, float, int, float)’:
obiwarp/xcms_dynprog.cpp:1113:9: warning: variable ‘bestscore’ set but not used [-Wunused-but-set-variable]
1113 | float bestscore;
| ^~~~~~~~~
g++ -std=gnu++17 -I"/home/biocbuild/bbs-3.20-bioc/R/include" -DNDEBUG -I/usr/local/include -fpic -g -O2 -Wall -c obiwarp/xcms_lmat.cpp -o obiwarp/xcms_lmat.o
g++ -std=gnu++17 -I"/home/biocbuild/bbs-3.20-bioc/R/include" -DNDEBUG -I/usr/local/include -fpic -g -O2 -Wall -c xcms_obiwarp.cpp -o xcms_obiwarp.o
gcc -I"/home/biocbuild/bbs-3.20-bioc/R/include" -DNDEBUG -I/usr/local/include -fpic -g -O2 -Wall -c fastMatch.c -o fastMatch.o
gcc -I"/home/biocbuild/bbs-3.20-bioc/R/include" -DNDEBUG -I/usr/local/include -fpic -g -O2 -Wall -c mzClust_hclust.c -o mzClust_hclust.o
gcc -I"/home/biocbuild/bbs-3.20-bioc/R/include" -DNDEBUG -I/usr/local/include -fpic -g -O2 -Wall -c mzROI.c -o mzROI.o
gcc -I"/home/biocbuild/bbs-3.20-bioc/R/include" -DNDEBUG -I/usr/local/include -fpic -g -O2 -Wall -c util.c -o util.o
gcc -I"/home/biocbuild/bbs-3.20-bioc/R/include" -DNDEBUG -I/usr/local/include -fpic -g -O2 -Wall -c xcms.c -o xcms.o
gcc -I"/home/biocbuild/bbs-3.20-bioc/R/include" -DNDEBUG -I/usr/local/include -fpic -g -O2 -Wall -c binners.c -o binners.o
binners.c: In function ‘_breaks_on_binSize’:
binners.c:357:7: warning: unused variable ‘idx’ [-Wunused-variable]
357 | int idx = 0;
| ^~~
g++ -std=gnu++17 -shared -L/home/biocbuild/bbs-3.20-bioc/R/lib -L/usr/local/lib -o xcms.so massifquant/xcms_massifquant.o massifquant/TrMgr.o massifquant/Tracker.o massifquant/SegProc.o massifquant/DataKeeper.o massifquant/OpOverload.o obiwarp/mat.o obiwarp/vec.o obiwarp/xcms_dynprog.o obiwarp/xcms_lmat.o xcms_obiwarp.o fastMatch.o mzClust_hclust.o mzROI.o util.o xcms.o binners.o -L/home/biocbuild/bbs-3.20-bioc/R/lib -lR
installing to /media/volume/teran2_disk/biocbuild/bbs-3.20-bioc/R/site-library/00LOCK-xcms/00new/xcms/libs
** R
** data
** inst
** byte-compile and prepare package for lazy loading
Creating a new generic function for ‘group’ in package ‘xcms’
Creating a new generic function for ‘sigma’ in package ‘xcms’
** help
*** installing help indices
*** copying figures
** building package indices
** installing vignettes
** testing if installed package can be loaded from temporary location
** checking absolute paths in shared objects and dynamic libraries
** testing if installed package can be loaded from final location
** testing if installed package keeps a record of temporary installation path
* DONE (xcms)
xcms.Rcheck/tests/testthat.Rout
R version 4.4.2 (2024-10-31) -- "Pile of Leaves"
Copyright (C) 2024 The R Foundation for Statistical Computing
Platform: x86_64-pc-linux-gnu
R is free software and comes with ABSOLUTELY NO WARRANTY.
You are welcome to redistribute it under certain conditions.
Type 'license()' or 'licence()' for distribution details.
R is a collaborative project with many contributors.
Type 'contributors()' for more information and
'citation()' on how to cite R or R packages in publications.
Type 'demo()' for some demos, 'help()' for on-line help, or
'help.start()' for an HTML browser interface to help.
Type 'q()' to quit R.
> library(testthat)
> library(xcms)
Loading required package: BiocParallel
This is xcms version 4.4.0
Attaching package: 'xcms'
The following object is masked from 'package:stats':
sigma
> library(faahKO)
> library(MSnbase)
Loading required package: BiocGenerics
Attaching package: 'BiocGenerics'
The following objects are masked from 'package:stats':
IQR, mad, sd, var, xtabs
The following objects are masked from 'package:base':
Filter, Find, Map, Position, Reduce, anyDuplicated, aperm, append,
as.data.frame, basename, cbind, colnames, dirname, do.call,
duplicated, eval, evalq, get, grep, grepl, intersect, is.unsorted,
lapply, mapply, match, mget, order, paste, pmax, pmax.int, pmin,
pmin.int, rank, rbind, rownames, sapply, saveRDS, setdiff, table,
tapply, union, unique, unsplit, which.max, which.min
Loading required package: Biobase
Welcome to Bioconductor
Vignettes contain introductory material; view with
'browseVignettes()'. To cite Bioconductor, see
'citation("Biobase")', and for packages 'citation("pkgname")'.
Loading required package: mzR
Loading required package: Rcpp
Loading required package: S4Vectors
Loading required package: stats4
Attaching package: 'S4Vectors'
The following object is masked from 'package:utils':
findMatches
The following objects are masked from 'package:base':
I, expand.grid, unname
Loading required package: ProtGenerics
Attaching package: 'ProtGenerics'
The following object is masked from 'package:stats':
smooth
This is MSnbase version 2.32.0
Visit https://lgatto.github.io/MSnbase/ to get started.
Consider switching to the 'R for Mass Spectrometry'
packages - see https://RforMassSpectrometry.org for details.
Attaching package: 'MSnbase'
The following object is masked from 'package:base':
trimws
> library(msdata)
> library(BiocParallel)
> prm <- SerialParam()
>
> register(SerialParam())
>
> ## Create some objects we can re-use in different tests:
> faahko_3_files <- c(system.file('cdf/KO/ko15.CDF', package = "faahKO"),
+ system.file('cdf/KO/ko16.CDF', package = "faahKO"),
+ system.file('cdf/KO/ko18.CDF', package = "faahKO"))
>
> cwp <- CentWaveParam(noise = 10000, snthresh = 40, prefilter = c(3, 10000))
> faahko_od <- readMSData(faahko_3_files, mode = "onDisk")
Polarity can not be extracted from netCDF files, please set manually the polarity with the 'polarity' method.
> faahko_xod <- findChromPeaks(faahko_od, param = cwp, BPPARAM = SerialParam())
Detecting mass traces at 25 ppm ... OK
Detecting chromatographic peaks in 937 regions of interest ... OK: 87 found.
Detecting mass traces at 25 ppm ... OK
Detecting chromatographic peaks in 1025 regions of interest ... OK: 100 found.
Detecting mass traces at 25 ppm ... OK
Detecting chromatographic peaks in 919 regions of interest ... OK: 61 found.
> od_x <- faahko_od
> mzr <- matrix(c(335, 335, 344, 344), ncol = 2, byrow = TRUE)
> od_chrs <- chromatogram(od_x, mz = mzr)
> xod_x <- faahko_xod
> pdp <- PeakDensityParam(sampleGroups = rep(1, 3))
> xod_xg <- groupChromPeaks(xod_x, param = pdp)
> xod_xgr <- adjustRtime(xod_xg, param = PeakGroupsParam(span = 0.4))
Performing retention time correction using 19 peak groups.
Applying retention time adjustment to the identified chromatographic peaks ... OK
> xod_xgrg <- groupChromPeaks(xod_xgr, param = pdp)
> xod_r <- adjustRtime(as(od_x, "XCMSnExp"), param = ObiwarpParam())
Sample number 2 used as center sample.
Aligning ko15.CDF against ko16.CDF ... OK
Aligning ko18.CDF against ko16.CDF ... OK
>
> xod_chr <- findChromPeaks(filterMz(filterRt(od_x, rt = c(2500, 3500)),
+ mz = c(334.9, 344.1)),
+ param = CentWaveParam())
Detecting mass traces at 25 ppm ... OK
Detecting chromatographic peaks in 514 regions of interest ... OK: 23 found.
Detecting mass traces at 25 ppm ... OK
Detecting chromatographic peaks in 551 regions of interest ... OK: 29 found.
Detecting mass traces at 25 ppm ... OK
Detecting chromatographic peaks in 515 regions of interest ... OK: 20 found.
Warning message:
In .local(object, param, ...) :
Your data appears to be not centroided! CentWave works best on data in centroid mode.
>
> microtofq_fs <- c(system.file("microtofq/MM14.mzML", package = "msdata"),
+ system.file("microtofq/MM8.mzML", package = "msdata"))
> microtofq_od <- readMSData(microtofq_fs, mode = "onDisk")
>
> ## Direct injection data:
> fticrf <- list.files(system.file("fticr-mzML", package = "msdata"),
+ recursive = TRUE, full.names = TRUE)
> fticr <- readMSData(fticrf[1:2], msLevel. = 1, mode = "onDisk")
> fticr_xod <- findChromPeaks(fticr, MSWParam(scales = c(1, 7),
+ peakThr = 80000, ampTh = 0.005,
+ SNR.method = "data.mean",
+ winSize.noise = 500))
>
> ## Pesticide data
> fl <- system.file("TripleTOF-SWATH", "PestMix1_SWATH.mzML", package = "msdata")
> pest_swth <- readMSData(fl, mode = "onDisk")
> cwp2 <- CentWaveParam(snthresh = 5, noise = 100, ppm = 10,
+ peakwidth = c(3, 20), prefilter = c(3, 1000))
> pest_swth <- findChromPeaks(pest_swth, param = cwp2)
Detecting mass traces at 10 ppm ... OK
Detecting chromatographic peaks in 11 regions of interest ... OK: 11 found.
> pest_swth <- findChromPeaksIsolationWindow(pest_swth, param = cwp2)
Detecting mass traces at 10 ppm ... OK
Detecting mass traces at 10 ppm ... OK
Detecting chromatographic peaks in 2 regions of interest ... OK: 2 found.
Detecting mass traces at 10 ppm ... OK
Detecting chromatographic peaks in 7 regions of interest ... OK: 7 found.
Detecting mass traces at 10 ppm ... OK
Detecting chromatographic peaks in 3 regions of interest ... OK: 3 found.
Detecting mass traces at 10 ppm ... OK
Detecting chromatographic peaks in 17 regions of interest ... OK: 17 found.
Detecting mass traces at 10 ppm ... OK
Detecting chromatographic peaks in 3 regions of interest ... OK: 2 found.
Detecting mass traces at 10 ppm ... OK
Detecting chromatographic peaks in 10 regions of interest ... OK: 10 found.
Detecting mass traces at 10 ppm ... OK
Detecting chromatographic peaks in 3 regions of interest ... OK: 3 found.
Warning messages:
1: In .centWave_orig(mz = mz, int = int, scantime = scantime, valsPerSpect = valsPerSpect, :
No ROIs found!
2: In .processResultList(resList, getProcHist = return.type == "xcmsSet", :
No peaks found in sample number 1.
>
> fl <- system.file("TripleTOF-SWATH", "PestMix1_DDA.mzML", package = "msdata")
> pest_dda <- readMSData(fl, mode = "onDisk")
> pest_dda <- findChromPeaks(pest_dda, param = cwp2)
Detecting mass traces at 10 ppm ... OK
Detecting chromatographic peaks in 29 regions of interest ... OK: 28 found.
>
> ## Sciex test data.
> ## fl <- dir(system.file("sciex", package = "msdata"), full.names = TRUE)
> ## sciex_data <- readMSData(fl, mode = "onDisk")
> ## sciex_data <- pickPeaks(sciex_data)
>
> library(MsExperiment)
> fls <- normalizePath(faahko_3_files)
> df <- data.frame(mzML_file = basename(fls),
+ dataOrigin = fls,
+ sample = c("ko15", "ko16", "ko18"))
> mse <- readMsExperiment(spectraFiles = fls, sampleData = df)
> xmse <- findChromPeaks(mse, param = cwp)
> expect_true(length(processHistory(xmse)) == 1L)
> pdp <- PeakDensityParam(sampleGroups = rep(1, 3))
> xmseg <- groupChromPeaks(xmse, param = pdp, add = FALSE)
> expect_true(length(processHistory(xmseg)) == 2L)
>
> ## Data for LamaParama checks
> ref <- loadXcmsData("xmse")
> f <- sampleData(ref)$sample_type
> f[f == "QC"] <- NA
> ref <- filterFeatures(ref, PercentMissingFilter(threshold = 0, f = f))
5 features were removed
> ref_mz_rt <- featureDefinitions(ref)[, c("mzmed","rtmed")]
> tst <- loadXcmsData("faahko_sub2")
>
> test_check("xcms")
Object of class: CleanPeaksParam
Parameters:
- maxPeakwidth: [1] 13.2
Object of class: MergeNeighboringPeaksParam
Parameters:
- expandRt: [1] 5
- expandMz: [1] 0.1
- ppm: [1] 20
- minProp: [1] 0.9
8.00 16.00 24.00 28.00 32.00 40.00 48.00 52.00 56.00 60.00 64.00 72.00 80.00 84.00 88.00 96.00 100.00
8.00 16.00 24.00 28.00 32.00 40.00 48.00 52.00 56.00 60.00 64.00 72.00 80.00 84.00 88.00 96.00 100.00
8.00 16.00 24.00 28.00 32.00 40.00 48.00 52.00 56.00 60.00 64.00 72.00 80.00 84.00 88.00 96.00 100.00
8.00 16.00 28.00 32.00 40.00 64.00 80.00 96.00 100.00
8.00 16.00 24.00 28.00 32.00 40.00 48.00 52.00 56.00 60.00 64.00 72.00 80.00 84.00 88.00 96.00 100.00
8.00 16.00 28.00 32.00 40.00 56.00 64.00 80.00 88.00 96.00 100.00
8.00 16.00 24.00 28.00 32.00 40.00 48.00 52.00 56.00 60.00 64.00 72.00 80.00 84.00 88.00 96.00 100.00
Object of class: XChromatogram
length of object: 0
from file:
mz range: [NA, NA]
MS level: 1
Identified chromatographic peaks (0):
rt rtmin rtmax into maxo sn
[ FAIL 0 | WARN 984 | SKIP 14 | PASS 4186 ]
══ Skipped tests (14) ══════════════════════════════════════════════════════════
• empty test (14): 'test_XcmsExperiment-plotting.R:14:1',
'test_XcmsExperiment-plotting.R:45:1', 'test_XcmsExperiment-plotting.R:69:1',
'test_functions-XCMSnExp.R:80:1', 'test_functions-XCMSnExp.R:91:1',
'test_functions-XCMSnExp.R:449:1', 'test_functions-XChromatogram.R:60:1',
'test_functions-utils.R:49:1', 'test_matchpeaks.R:1:1',
'test_methods-MChromatograms.R:181:1', 'test_methods-XCMSnExp.R:2278:1',
'test_methods-XChromatogram.R:1:1', 'test_methods-XChromatogram.R:60:1',
'test_methods-XChromatograms.R:140:1'
[ FAIL 0 | WARN 984 | SKIP 14 | PASS 4186 ]
>
> proc.time()
user system elapsed
666.002 12.866 679.176
xcms.Rcheck/xcms-Ex.timings
| name | user | system | elapsed | |
| AutoLockMass-methods | 0.001 | 0.000 | 0.000 | |
| GenericParam | 0.001 | 0.001 | 0.001 | |
| LamaParama | 4.761 | 0.907 | 5.704 | |
| XCMSnExp-class | 1.089 | 0.338 | 1.472 | |
| XCMSnExp-filter-methods | 0.341 | 0.012 | 0.353 | |
| XChromatogram | 1.476 | 0.026 | 1.836 | |
| XcmsExperiment | 9.558 | 0.647 | 11.004 | |
| applyAdjustedRtime | 1.550 | 0.043 | 1.605 | |
| binYonX | 0.001 | 0.000 | 0.001 | |
| breaks_on_binSize | 0.001 | 0.000 | 0.001 | |
| breaks_on_nBins | 0.000 | 0.000 | 0.001 | |
| chromPeakChromatograms | 2.714 | 0.056 | 2.899 | |
| chromPeakSpectra | 2.596 | 0.097 | 3.060 | |
| chromatogram-method | 1.181 | 0.018 | 1.206 | |
| correlate-Chromatogram | 0.064 | 0.002 | 0.067 | |
| descendZero | 0.000 | 0.000 | 0.001 | |
| do_findChromPeaks_centWave | 0.564 | 0.009 | 0.592 | |
| do_findChromPeaks_massifquant | 1.379 | 0.011 | 1.407 | |
| do_findChromPeaks_matchedFilter | 0.717 | 0.004 | 0.766 | |
| do_groupChromPeaks_density | 0.204 | 0.004 | 0.207 | |
| extractMsData-method | 0.339 | 0.007 | 0.347 | |
| featureChromatograms | 1.305 | 0.015 | 1.389 | |
| fillChromPeaks | 1.335 | 0.009 | 1.454 | |
| filter-MChromatograms | 0.222 | 0.002 | 0.223 | |
| filterFeatures | 0.187 | 0.004 | 0.191 | |
| findChromPeaks-Chromatogram-CentWaveParam | 1.081 | 0.014 | 1.099 | |
| findChromPeaks-Chromatogram-MatchedFilter | 0.263 | 0.003 | 0.278 | |
| findChromPeaks-centWave | 1.111 | 0.006 | 1.413 | |
| findChromPeaks-centWaveWithPredIsoROIs | 0.010 | 0.001 | 0.011 | |
| findChromPeaks-massifquant | 3.846 | 0.005 | 3.916 | |
| findChromPeaks-matchedFilter | 2.358 | 0.007 | 2.412 | |
| findMZ | 0 | 0 | 0 | |
| findPeaks-MSW | 1.854 | 0.006 | 2.074 | |
| findPeaks.massifquant-methods | 6.821 | 0.024 | 7.302 | |
| findneutral | 0 | 0 | 0 | |
| group.mzClust | 0 | 0 | 0 | |
| group.nearest | 0 | 0 | 0 | |
| groupFeatures-abundance-correlation | 0.279 | 0.001 | 0.392 | |
| groupFeatures-eic-similarity | 1.853 | 0.063 | 2.037 | |
| groupFeatures-similar-rtime | 0.655 | 0.003 | 0.688 | |
| groupOverlaps | 0.001 | 0.000 | 0.000 | |
| highlightChromPeaks | 0.806 | 0.019 | 0.828 | |
| imputeLinInterpol | 0.002 | 0.001 | 0.004 | |
| imputeRowMin | 1.015 | 0.003 | 1.019 | |
| imputeRowMinRand | 1.043 | 0.001 | 1.044 | |
| loadXcmsData | 0.048 | 0.004 | 0.052 | |
| manualChromPeaks | 0.418 | 0.007 | 0.693 | |
| medianFilter | 0 | 0 | 0 | |
| msn2xcmsRaw | 1.214 | 0.008 | 1.309 | |
| overlappingFeatures | 0.304 | 0.002 | 0.306 | |
| peakTable-methods | 0 | 0 | 0 | |
| peaksWithCentWave | 0.214 | 0.002 | 0.217 | |
| peaksWithMatchedFilter | 0.247 | 0.013 | 0.259 | |
| phenoDataFromPaths | 0.000 | 0.001 | 0.001 | |
| plotAdjustedRtime | 0.272 | 0.003 | 0.375 | |
| plotChromPeakDensity | 0.079 | 0.002 | 0.081 | |
| plotChromPeaks | 0.247 | 0.004 | 0.251 | |
| plotChromatogramsOverlay | 3.733 | 0.021 | 4.369 | |
| plotPrecursorIons | 3.443 | 0.265 | 4.088 | |
| plotQC | 1.330 | 0.008 | 1.339 | |
| profGenerate | 0 | 0 | 0 | |
| profMat-xcmsSet | 1.219 | 0.050 | 1.269 | |
| profStep-methods | 0 | 0 | 0 | |
| rectUnique | 0.001 | 0.000 | 0.002 | |
| refineChromPeaks | 0.970 | 0.015 | 0.986 | |
| removeIntensity-Chromatogram | 0.056 | 0.003 | 0.059 | |
| rla | 0.001 | 0.000 | 0.000 | |
| stitch-methods | 0 | 0 | 0 | |
| sub-xcmsRaw-logicalOrNumeric-missing-missing-method | 1.108 | 0.002 | 1.117 | |
| writeMzTab | 0.965 | 0.001 | 0.972 | |
| xcmsRaw | 0 | 0 | 0 | |