| Back to Multiple platform build/check report for BioC 3.20: simplified long |
|
This page was generated on 2025-04-02 19:29 -0400 (Wed, 02 Apr 2025).
| Hostname | OS | Arch (*) | R version | Installed pkgs |
|---|---|---|---|---|
| nebbiolo2 | Linux (Ubuntu 24.04.1 LTS) | x86_64 | 4.4.3 (2025-02-28) -- "Trophy Case" | 4764 |
| palomino8 | Windows Server 2022 Datacenter | x64 | 4.4.3 (2025-02-28 ucrt) -- "Trophy Case" | 4495 |
| merida1 | macOS 12.7.5 Monterey | x86_64 | 4.4.3 (2025-02-28) -- "Trophy Case" | 4522 |
| kjohnson1 | macOS 13.6.6 Ventura | arm64 | 4.4.3 (2025-02-28) -- "Trophy Case" | 4449 |
| taishan | Linux (openEuler 24.03 LTS) | aarch64 | 4.4.3 (2025-02-28) -- "Trophy Case" | 4426 |
| Click on any hostname to see more info about the system (e.g. compilers) (*) as reported by 'uname -p', except on Windows and Mac OS X | ||||
| Package 2269/2289 | Hostname | OS / Arch | INSTALL | BUILD | CHECK | BUILD BIN | ||||||||
| wppi 1.14.0 (landing page) Ana Galhoz
| nebbiolo2 | Linux (Ubuntu 24.04.1 LTS) / x86_64 | OK | OK | OK | |||||||||
| palomino8 | Windows Server 2022 Datacenter / x64 | OK | OK | OK | OK | |||||||||
| merida1 | macOS 12.7.5 Monterey / x86_64 | OK | OK | OK | OK | |||||||||
| kjohnson1 | macOS 13.6.6 Ventura / arm64 | OK | OK | OK | OK | |||||||||
| taishan | Linux (openEuler 24.03 LTS) / aarch64 | OK | OK | OK | ||||||||||
|
To the developers/maintainers of the wppi package: - Allow up to 24 hours (and sometimes 48 hours) for your latest push to git@git.bioconductor.org:packages/wppi.git to reflect on this report. See Troubleshooting Build Report for more information. - Use the following Renviron settings to reproduce errors and warnings. - If 'R CMD check' started to fail recently on the Linux builder(s) over a missing dependency, add the missing dependency to 'Suggests:' in your DESCRIPTION file. See Renviron.bioc for more information. |
| Package: wppi |
| Version: 1.14.0 |
| Command: /home/biocbuild/bbs-3.20-bioc/R/bin/R CMD check --install=check:wppi.install-out.txt --library=/home/biocbuild/bbs-3.20-bioc/R/site-library --timings wppi_1.14.0.tar.gz |
| StartedAt: 2025-04-01 03:20:42 -0400 (Tue, 01 Apr 2025) |
| EndedAt: 2025-04-01 03:25:29 -0400 (Tue, 01 Apr 2025) |
| EllapsedTime: 286.9 seconds |
| RetCode: 0 |
| Status: OK |
| CheckDir: wppi.Rcheck |
| Warnings: 0 |
##############################################################################
##############################################################################
###
### Running command:
###
### /home/biocbuild/bbs-3.20-bioc/R/bin/R CMD check --install=check:wppi.install-out.txt --library=/home/biocbuild/bbs-3.20-bioc/R/site-library --timings wppi_1.14.0.tar.gz
###
##############################################################################
##############################################################################
* using log directory ‘/home/biocbuild/bbs-3.20-bioc/meat/wppi.Rcheck’
* using R version 4.4.3 (2025-02-28)
* using platform: x86_64-pc-linux-gnu
* R was compiled by
gcc (Ubuntu 13.3.0-6ubuntu2~24.04) 13.3.0
GNU Fortran (Ubuntu 13.3.0-6ubuntu2~24.04) 13.3.0
* running under: Ubuntu 24.04.2 LTS
* using session charset: UTF-8
* checking for file ‘wppi/DESCRIPTION’ ... OK
* checking extension type ... Package
* this is package ‘wppi’ version ‘1.14.0’
* package encoding: UTF-8
* checking package namespace information ... OK
* checking package dependencies ... OK
* checking if this is a source package ... OK
* checking if there is a namespace ... OK
* checking for hidden files and directories ... OK
* checking for portable file names ... OK
* checking for sufficient/correct file permissions ... OK
* checking whether package ‘wppi’ can be installed ... OK
* checking installed package size ... OK
* checking package directory ... OK
* checking ‘build’ directory ... OK
* checking DESCRIPTION meta-information ... NOTE
License stub is invalid DCF.
* checking top-level files ... OK
* checking for left-over files ... OK
* checking index information ... OK
* checking package subdirectories ... OK
* checking code files for non-ASCII characters ... OK
* checking R files for syntax errors ... OK
* checking whether the package can be loaded ... OK
* checking whether the package can be loaded with stated dependencies ... OK
* checking whether the package can be unloaded cleanly ... OK
* checking whether the namespace can be loaded with stated dependencies ... OK
* checking whether the namespace can be unloaded cleanly ... OK
* checking loading without being on the library search path ... OK
* checking whether startup messages can be suppressed ... NOTE
[2025-04-01 03:21:13] [TRACE] [OmnipathR] Reading JSON from `/home/biocbuild/.cache/OmnipathR/cache.json` (encoding: UTF-8).
[2025-04-01 03:21:13] [TRACE] [OmnipathR] JSON validation successful: TRUE
[2025-04-01 03:21:13] [INFO] [OmnipathR] Initialized cache: `/home/biocbuild/.cache/OmnipathR`.
[2025-04-01 03:21:13] [TRACE] [OmnipathR] Running on a build server, wiping cache.
[2025-04-01 03:21:13] [TRACE] [OmnipathR] Cache is at `/home/biocbuild/.cache/OmnipathR`.
[2025-04-01 03:21:13] [TRACE] [OmnipathR] Contains 1 files.
[2025-04-01 03:21:13] [TRACE] [OmnipathR] Cache is locked: FALSE.
[2025-04-01 03:21:13] [TRACE] [OmnipathR] Reading JSON from `/home/biocbuild/.cache/OmnipathR/cache.json` (encoding: UTF-8).
[2025-04-01 03:21:13] [TRACE] [OmnipathR] JSON validation successful: TRUE
[2025-04-01 03:21:13] [SUCCESS] [OmnipathR] Removing all cache contents from `/home/biocbuild/.cache/OmnipathR`.
[2025-04-01 03:21:13] [TRACE] [OmnipathR] Pandoc version: `2.7.3`.
[2025-04-01 03:21:13] [TRACE] [OmnipathR] Reading JSON from `/home/biocbuild/bbs-3.20-bioc/R/site-library/OmnipathR/db/db_def.json` (encoding: UTF-8).
[2025-04-01 03:21:13] [TRACE] [OmnipathR] JSON validation successful: TRUE
[2025-04-01 03:21:13] [TRACE] [OmnipathR] Reading JSON from `/home/biocbuild/bbs-3.20-bioc/R/site-library/OmnipathR/internal/magic_bytes.json` (encoding: UTF-8).
[2025-04-01 03:21:13] [TRACE] [OmnipathR] JSON validation successful: TRUE
[2025-04-01 03:21:13] [TRACE] [OmnipathR] Reading JSON from `/home/biocbuild/bbs-3.20-bioc/R/site-library/OmnipathR/internal/urls.json` (encoding: UTF-8).
[2025-04-01 03:21:13] [TRACE] [OmnipathR] JSON validation successful: TRUE
[2025-04-01 03:21:13] [TRACE] [OmnipathR] Reading JSON from `/home/biocbuild/bbs-3.20-bioc/R/site-library/OmnipathR/internal/id_types.json` (encoding: UTF-8).
[2025-04-01 03:21:13] [TRACE] [OmnipathR] JSON validation successful: TRUE
[2025-04-01 03:21:13] [TRACE] [OmnipathR] Cache locked: FALSE
It looks like this package (or a package it requires) has a startup
message which cannot be suppressed: see ?packageStartupMessage.
* checking dependencies in R code ... OK
* checking S3 generic/method consistency ... OK
* checking replacement functions ... OK
* checking foreign function calls ... OK
* checking R code for possible problems ... NOTE
[2025-04-01 03:21:28] [TRACE] [OmnipathR] Reading JSON from `/home/biocbuild/.cache/OmnipathR/cache.json` (encoding: UTF-8).
[2025-04-01 03:21:28] [TRACE] [OmnipathR] JSON validation successful: TRUE
[2025-04-01 03:21:28] [INFO] [OmnipathR] Initialized cache: `/home/biocbuild/.cache/OmnipathR`.
[2025-04-01 03:21:28] [TRACE] [OmnipathR] Running on a build server, wiping cache.
[2025-04-01 03:21:28] [TRACE] [OmnipathR] Cache is at `/home/biocbuild/.cache/OmnipathR`.
[2025-04-01 03:21:28] [TRACE] [OmnipathR] Contains 1 files.
[2025-04-01 03:21:28] [TRACE] [OmnipathR] Cache is locked: FALSE.
[2025-04-01 03:21:28] [TRACE] [OmnipathR] Reading JSON from `/home/biocbuild/.cache/OmnipathR/cache.json` (encoding: UTF-8).
[2025-04-01 03:21:28] [TRACE] [OmnipathR] JSON validation successful: TRUE
[2025-04-01 03:21:28] [SUCCESS] [OmnipathR] Removing all cache contents from `/home/biocbuild/.cache/OmnipathR`.
[2025-04-01 03:21:28] [TRACE] [OmnipathR] Pandoc version: `2.7.3`.
[2025-04-01 03:21:28] [TRACE] [OmnipathR] Reading JSON from `/home/biocbuild/bbs-3.20-bioc/R/site-library/OmnipathR/db/db_def.json` (encoding: UTF-8).
[2025-04-01 03:21:28] [TRACE] [OmnipathR] JSON validation successful: TRUE
[2025-04-01 03:21:28] [TRACE] [OmnipathR] Reading JSON from `/home/biocbuild/bbs-3.20-bioc/R/site-library/OmnipathR/internal/magic_bytes.json` (encoding: UTF-8).
[2025-04-01 03:21:28] [TRACE] [OmnipathR] JSON validation successful: TRUE
[2025-04-01 03:21:29] [TRACE] [OmnipathR] Reading JSON from `/home/biocbuild/bbs-3.20-bioc/R/site-library/OmnipathR/internal/urls.json` (encoding: UTF-8).
[2025-04-01 03:21:29] [TRACE] [OmnipathR] JSON validation successful: TRUE
[2025-04-01 03:21:29] [TRACE] [OmnipathR] Reading JSON from `/home/biocbuild/bbs-3.20-bioc/R/site-library/OmnipathR/internal/id_types.json` (encoding: UTF-8).
[2025-04-01 03:21:29] [TRACE] [OmnipathR] JSON validation successful: TRUE
[2025-04-01 03:21:29] [TRACE] [OmnipathR] Cache locked: FALSE
* checking Rd files ... OK
* checking Rd metadata ... OK
* checking Rd cross-references ... OK
* checking for missing documentation entries ... OK
* checking for code/documentation mismatches ... OK
* checking Rd \usage sections ... OK
* checking Rd contents ... OK
* checking for unstated dependencies in examples ... OK
* checking files in ‘vignettes’ ... OK
* checking examples ... OK
Examples with CPU (user + system) or elapsed time > 5s
user system elapsed
wppi 31.088 0.255 31.345
score_candidate_genes_from_PPI 16.615 0.277 16.892
random_walk 16.006 0.542 16.549
prioritization_genes 15.702 0.291 15.995
weighted_adj 12.601 0.194 12.795
count_genes 11.740 0.779 12.331
wppi_data 7.750 0.098 7.848
filter_annot_with_network 7.391 0.262 7.654
common_neighbors 6.169 0.444 11.921
* checking for unstated dependencies in vignettes ... OK
* checking package vignettes ... OK
* checking re-building of vignette outputs ... OK
* checking PDF version of manual ... OK
* DONE
Status: 3 NOTEs
See
‘/home/biocbuild/bbs-3.20-bioc/meat/wppi.Rcheck/00check.log’
for details.
wppi.Rcheck/00install.out
############################################################################## ############################################################################## ### ### Running command: ### ### /home/biocbuild/bbs-3.20-bioc/R/bin/R CMD INSTALL wppi ### ############################################################################## ############################################################################## * installing to library ‘/home/biocbuild/bbs-3.20-bioc/R/site-library’ * installing *source* package ‘wppi’ ... ** using staged installation ** R ** byte-compile and prepare package for lazy loading [2025-03-31 15:38:29] [TRACE] [OmnipathR] Reading JSON from `/home/biocbuild/.cache/OmnipathR/cache.json` (encoding: UTF-8). [2025-03-31 15:38:29] [TRACE] [OmnipathR] JSON validation successful: TRUE [2025-03-31 15:38:29] [INFO] [OmnipathR] Initialized cache: `/home/biocbuild/.cache/OmnipathR`. [2025-03-31 15:38:29] [TRACE] [OmnipathR] Running on a build server, wiping cache. [2025-03-31 15:38:29] [TRACE] [OmnipathR] Cache is at `/home/biocbuild/.cache/OmnipathR`. [2025-03-31 15:38:29] [TRACE] [OmnipathR] Contains 1 files. [2025-03-31 15:38:29] [TRACE] [OmnipathR] Cache is locked: FALSE. [2025-03-31 15:38:29] [TRACE] [OmnipathR] Reading JSON from `/home/biocbuild/.cache/OmnipathR/cache.json` (encoding: UTF-8). [2025-03-31 15:38:29] [TRACE] [OmnipathR] JSON validation successful: TRUE [2025-03-31 15:38:29] [SUCCESS] [OmnipathR] Removing all cache contents from `/home/biocbuild/.cache/OmnipathR`. [2025-03-31 15:38:29] [TRACE] [OmnipathR] Pandoc version: `2.7.3`. [2025-03-31 15:38:29] [TRACE] [OmnipathR] Reading JSON from `/home/biocbuild/bbs-3.20-bioc/R/site-library/OmnipathR/db/db_def.json` (encoding: UTF-8). [2025-03-31 15:38:29] [TRACE] [OmnipathR] JSON validation successful: TRUE [2025-03-31 15:38:29] [TRACE] [OmnipathR] Reading JSON from `/home/biocbuild/bbs-3.20-bioc/R/site-library/OmnipathR/internal/magic_bytes.json` (encoding: UTF-8). [2025-03-31 15:38:29] [TRACE] [OmnipathR] JSON validation successful: TRUE [2025-03-31 15:38:29] [TRACE] [OmnipathR] Reading JSON from `/home/biocbuild/bbs-3.20-bioc/R/site-library/OmnipathR/internal/urls.json` (encoding: UTF-8). [2025-03-31 15:38:29] [TRACE] [OmnipathR] JSON validation successful: TRUE [2025-03-31 15:38:29] [TRACE] [OmnipathR] Reading JSON from `/home/biocbuild/bbs-3.20-bioc/R/site-library/OmnipathR/internal/id_types.json` (encoding: UTF-8). [2025-03-31 15:38:29] [TRACE] [OmnipathR] JSON validation successful: TRUE [2025-03-31 15:38:29] [TRACE] [OmnipathR] Cache locked: FALSE Note: wrong number of arguments to '/' ** help *** installing help indices ** building package indices ** installing vignettes ** testing if installed package can be loaded from temporary location [2025-03-31 15:38:33] [TRACE] [OmnipathR] Reading JSON from `/home/biocbuild/.cache/OmnipathR/cache.json` (encoding: UTF-8). [2025-03-31 15:38:33] [TRACE] [OmnipathR] JSON validation successful: TRUE [2025-03-31 15:38:33] [INFO] [OmnipathR] Initialized cache: `/home/biocbuild/.cache/OmnipathR`. [2025-03-31 15:38:33] [TRACE] [OmnipathR] Running on a build server, wiping cache. [2025-03-31 15:38:33] [TRACE] [OmnipathR] Cache is at `/home/biocbuild/.cache/OmnipathR`. [2025-03-31 15:38:33] [TRACE] [OmnipathR] Contains 1 files. [2025-03-31 15:38:33] [TRACE] [OmnipathR] Cache is locked: FALSE. [2025-03-31 15:38:33] [TRACE] [OmnipathR] Reading JSON from `/home/biocbuild/.cache/OmnipathR/cache.json` (encoding: UTF-8). [2025-03-31 15:38:33] [TRACE] [OmnipathR] JSON validation successful: TRUE [2025-03-31 15:38:33] [SUCCESS] [OmnipathR] Removing all cache contents from `/home/biocbuild/.cache/OmnipathR`. [2025-03-31 15:38:33] [TRACE] [OmnipathR] Pandoc version: `2.7.3`. [2025-03-31 15:38:33] [TRACE] [OmnipathR] Reading JSON from `/home/biocbuild/bbs-3.20-bioc/R/site-library/OmnipathR/db/db_def.json` (encoding: UTF-8). [2025-03-31 15:38:33] [TRACE] [OmnipathR] JSON validation successful: TRUE [2025-03-31 15:38:33] [TRACE] [OmnipathR] Reading JSON from `/home/biocbuild/bbs-3.20-bioc/R/site-library/OmnipathR/internal/magic_bytes.json` (encoding: UTF-8). [2025-03-31 15:38:33] [TRACE] [OmnipathR] JSON validation successful: TRUE [2025-03-31 15:38:33] [TRACE] [OmnipathR] Reading JSON from `/home/biocbuild/bbs-3.20-bioc/R/site-library/OmnipathR/internal/urls.json` (encoding: UTF-8). [2025-03-31 15:38:33] [TRACE] [OmnipathR] JSON validation successful: TRUE [2025-03-31 15:38:33] [TRACE] [OmnipathR] Reading JSON from `/home/biocbuild/bbs-3.20-bioc/R/site-library/OmnipathR/internal/id_types.json` (encoding: UTF-8). [2025-03-31 15:38:33] [TRACE] [OmnipathR] JSON validation successful: TRUE [2025-03-31 15:38:33] [TRACE] [OmnipathR] Cache locked: FALSE ** testing if installed package can be loaded from final location [2025-03-31 15:38:36] [TRACE] [OmnipathR] Reading JSON from `/home/biocbuild/.cache/OmnipathR/cache.json` (encoding: UTF-8). [2025-03-31 15:38:36] [TRACE] [OmnipathR] JSON validation successful: TRUE [2025-03-31 15:38:36] [INFO] [OmnipathR] Initialized cache: `/home/biocbuild/.cache/OmnipathR`. [2025-03-31 15:38:36] [TRACE] [OmnipathR] Running on a build server, wiping cache. [2025-03-31 15:38:36] [TRACE] [OmnipathR] Cache is at `/home/biocbuild/.cache/OmnipathR`. [2025-03-31 15:38:36] [TRACE] [OmnipathR] Contains 1 files. [2025-03-31 15:38:36] [TRACE] [OmnipathR] Cache is locked: FALSE. [2025-03-31 15:38:36] [TRACE] [OmnipathR] Reading JSON from `/home/biocbuild/.cache/OmnipathR/cache.json` (encoding: UTF-8). [2025-03-31 15:38:36] [TRACE] [OmnipathR] JSON validation successful: TRUE [2025-03-31 15:38:36] [SUCCESS] [OmnipathR] Removing all cache contents from `/home/biocbuild/.cache/OmnipathR`. [2025-03-31 15:38:36] [TRACE] [OmnipathR] Pandoc version: `2.7.3`. [2025-03-31 15:38:36] [TRACE] [OmnipathR] Reading JSON from `/home/biocbuild/bbs-3.20-bioc/R/site-library/OmnipathR/db/db_def.json` (encoding: UTF-8). [2025-03-31 15:38:36] [TRACE] [OmnipathR] JSON validation successful: TRUE [2025-03-31 15:38:36] [TRACE] [OmnipathR] Reading JSON from `/home/biocbuild/bbs-3.20-bioc/R/site-library/OmnipathR/internal/magic_bytes.json` (encoding: UTF-8). [2025-03-31 15:38:36] [TRACE] [OmnipathR] JSON validation successful: TRUE [2025-03-31 15:38:36] [TRACE] [OmnipathR] Reading JSON from `/home/biocbuild/bbs-3.20-bioc/R/site-library/OmnipathR/internal/urls.json` (encoding: UTF-8). [2025-03-31 15:38:36] [TRACE] [OmnipathR] JSON validation successful: TRUE [2025-03-31 15:38:36] [TRACE] [OmnipathR] Reading JSON from `/home/biocbuild/bbs-3.20-bioc/R/site-library/OmnipathR/internal/id_types.json` (encoding: UTF-8). [2025-03-31 15:38:36] [TRACE] [OmnipathR] JSON validation successful: TRUE [2025-03-31 15:38:36] [TRACE] [OmnipathR] Cache locked: FALSE ** testing if installed package keeps a record of temporary installation path * DONE (wppi)
wppi.Rcheck/wppi-Ex.timings
| name | user | system | elapsed | |
| common_neighbors | 6.169 | 0.444 | 11.921 | |
| count_genes | 11.740 | 0.779 | 12.331 | |
| filter_annot_with_network | 7.391 | 0.262 | 7.654 | |
| functional_annot | 1.954 | 0.273 | 2.580 | |
| graph_from_op | 3.215 | 0.342 | 3.556 | |
| in_omnipath | 3.107 | 0.096 | 3.203 | |
| prioritization_genes | 15.702 | 0.291 | 15.995 | |
| process_annot | 0.840 | 0.002 | 0.843 | |
| random_walk | 16.006 | 0.542 | 16.549 | |
| score_candidate_genes_from_PPI | 16.615 | 0.277 | 16.892 | |
| subgraph_op | 3.188 | 0.037 | 3.226 | |
| weighted_adj | 12.601 | 0.194 | 12.795 | |
| wppi | 31.088 | 0.255 | 31.345 | |
| wppi_data | 7.750 | 0.098 | 7.848 | |
| wppi_go_data | 3.367 | 0.041 | 3.409 | |
| wppi_hpo_data | 0.784 | 0.006 | 0.790 | |
| wppi_omnipath_data | 3.020 | 0.006 | 3.027 | |