| Back to Multiple platform build/check report for BioC 3.20: simplified long |
|
This page was generated on 2025-04-02 19:35 -0400 (Wed, 02 Apr 2025).
| Hostname | OS | Arch (*) | R version | Installed pkgs |
|---|---|---|---|---|
| nebbiolo2 | Linux (Ubuntu 24.04.1 LTS) | x86_64 | 4.4.3 (2025-02-28) -- "Trophy Case" | 4764 |
| palomino8 | Windows Server 2022 Datacenter | x64 | 4.4.3 (2025-02-28 ucrt) -- "Trophy Case" | 4495 |
| merida1 | macOS 12.7.5 Monterey | x86_64 | 4.4.3 (2025-02-28) -- "Trophy Case" | 4522 |
| kjohnson1 | macOS 13.6.6 Ventura | arm64 | 4.4.3 (2025-02-28) -- "Trophy Case" | 4449 |
| taishan | Linux (openEuler 24.03 LTS) | aarch64 | 4.4.3 (2025-02-28) -- "Trophy Case" | 4426 |
| Click on any hostname to see more info about the system (e.g. compilers) (*) as reported by 'uname -p', except on Windows and Mac OS X | ||||
| Package 2265/2289 | Hostname | OS / Arch | INSTALL | BUILD | CHECK | BUILD BIN | ||||||||
| weitrix 1.18.0 (landing page) Paul Harrison
| nebbiolo2 | Linux (Ubuntu 24.04.1 LTS) / x86_64 | OK | OK | OK | |||||||||
| palomino8 | Windows Server 2022 Datacenter / x64 | OK | OK | OK | OK | |||||||||
| merida1 | macOS 12.7.5 Monterey / x86_64 | OK | OK | OK | OK | |||||||||
| kjohnson1 | macOS 13.6.6 Ventura / arm64 | OK | OK | OK | OK | |||||||||
| taishan | Linux (openEuler 24.03 LTS) / aarch64 | OK | OK | OK | ||||||||||
|
To the developers/maintainers of the weitrix package: - Allow up to 24 hours (and sometimes 48 hours) for your latest push to git@git.bioconductor.org:packages/weitrix.git to reflect on this report. See Troubleshooting Build Report for more information. - Use the following Renviron settings to reproduce errors and warnings. - If 'R CMD check' started to fail recently on the Linux builder(s) over a missing dependency, add the missing dependency to 'Suggests:' in your DESCRIPTION file. See Renviron.bioc for more information. |
| Package: weitrix |
| Version: 1.18.0 |
| Command: /Library/Frameworks/R.framework/Resources/bin/R CMD check --install=check:weitrix.install-out.txt --library=/Library/Frameworks/R.framework/Resources/library --no-vignettes --timings weitrix_1.18.0.tar.gz |
| StartedAt: 2025-04-02 12:43:22 -0400 (Wed, 02 Apr 2025) |
| EndedAt: 2025-04-02 12:48:32 -0400 (Wed, 02 Apr 2025) |
| EllapsedTime: 309.6 seconds |
| RetCode: 0 |
| Status: OK |
| CheckDir: weitrix.Rcheck |
| Warnings: 0 |
##############################################################################
##############################################################################
###
### Running command:
###
### /Library/Frameworks/R.framework/Resources/bin/R CMD check --install=check:weitrix.install-out.txt --library=/Library/Frameworks/R.framework/Resources/library --no-vignettes --timings weitrix_1.18.0.tar.gz
###
##############################################################################
##############################################################################
* using log directory ‘/Users/biocbuild/bbs-3.20-bioc/meat/weitrix.Rcheck’
* using R version 4.4.3 (2025-02-28)
* using platform: aarch64-apple-darwin20
* R was compiled by
Apple clang version 14.0.0 (clang-1400.0.29.202)
GNU Fortran (GCC) 12.2.0
* running under: macOS Ventura 13.7.1
* using session charset: UTF-8
* using option ‘--no-vignettes’
* checking for file ‘weitrix/DESCRIPTION’ ... OK
* this is package ‘weitrix’ version ‘1.18.0’
* package encoding: UTF-8
* checking package namespace information ... OK
* checking package dependencies ... OK
* checking if this is a source package ... OK
* checking if there is a namespace ... OK
* checking for hidden files and directories ... OK
* checking for portable file names ... OK
* checking for sufficient/correct file permissions ... OK
* checking whether package ‘weitrix’ can be installed ... OK
* checking installed package size ... OK
* checking package directory ... OK
* checking ‘build’ directory ... OK
* checking DESCRIPTION meta-information ... OK
* checking top-level files ... OK
* checking for left-over files ... OK
* checking index information ... OK
* checking package subdirectories ... OK
* checking code files for non-ASCII characters ... OK
* checking R files for syntax errors ... OK
* checking whether the package can be loaded ... OK
* checking whether the package can be loaded with stated dependencies ... OK
* checking whether the package can be unloaded cleanly ... OK
* checking whether the namespace can be loaded with stated dependencies ... OK
* checking whether the namespace can be unloaded cleanly ... OK
* checking dependencies in R code ... OK
* checking S3 generic/method consistency ... OK
* checking replacement functions ... OK
* checking foreign function calls ... OK
* checking R code for possible problems ... OK
* checking Rd files ... NOTE
checkRd: (-1) weitrix_calibrate_trend.Rd:27: Lost braces in \itemize; \value handles \item{}{} directly
checkRd: (-1) weitrix_calibrate_trend.Rd:28: Lost braces in \itemize; \value handles \item{}{} directly
checkRd: (-1) weitrix_calibrate_trend.Rd:29: Lost braces in \itemize; \value handles \item{}{} directly
checkRd: (-1) weitrix_calibrate_trend.Rd:30: Lost braces in \itemize; \value handles \item{}{} directly
checkRd: (-1) weitrix_components.Rd:64-68: Lost braces in \itemize; \value handles \item{}{} directly
checkRd: (-1) weitrix_components.Rd:69-73: Lost braces in \itemize; \value handles \item{}{} directly
checkRd: (-1) weitrix_components.Rd:74-76: Lost braces in \itemize; \value handles \item{}{} directly
checkRd: (-1) weitrix_components.Rd:77-80: Lost braces in \itemize; \value handles \item{}{} directly
checkRd: (-1) weitrix_components.Rd:81: Lost braces in \itemize; \value handles \item{}{} directly
checkRd: (-1) weitrix_components.Rd:82: Lost braces in \itemize; \value handles \item{}{} directly
checkRd: (-1) weitrix_confects.Rd:51: Lost braces in \itemize; \value handles \item{}{} directly
checkRd: (-1) weitrix_confects.Rd:52: Lost braces in \itemize; \value handles \item{}{} directly
checkRd: (-1) weitrix_confects.Rd:53: Lost braces in \itemize; \value handles \item{}{} directly
checkRd: (-1) weitrix_confects.Rd:54: Lost braces in \itemize; \value handles \item{}{} directly
checkRd: (-1) weitrix_confects.Rd:55: Lost braces in \itemize; \value handles \item{}{} directly
checkRd: (-1) weitrix_sd_confects.Rd:33: Lost braces in \itemize; \value handles \item{}{} directly
checkRd: (-1) weitrix_sd_confects.Rd:34: Lost braces in \itemize; \value handles \item{}{} directly
checkRd: (-1) weitrix_sd_confects.Rd:35: Lost braces in \itemize; \value handles \item{}{} directly
checkRd: (-1) weitrix_sd_confects.Rd:36: Lost braces in \itemize; \value handles \item{}{} directly
checkRd: (-1) weitrix_sd_confects.Rd:37: Lost braces in \itemize; \value handles \item{}{} directly
checkRd: (-1) weitrix_sd_confects.Rd:38: Lost braces in \itemize; \value handles \item{}{} directly
checkRd: (-1) weitrix_sd_confects.Rd:39: Lost braces in \itemize; \value handles \item{}{} directly
checkRd: (-1) weitrix_sd_confects.Rd:40: Lost braces in \itemize; \value handles \item{}{} directly
* checking Rd metadata ... OK
* checking Rd cross-references ... OK
* checking for missing documentation entries ... OK
* checking for code/documentation mismatches ... OK
* checking Rd \usage sections ... OK
* checking Rd contents ... OK
* checking for unstated dependencies in examples ... OK
* checking contents of ‘data’ directory ... OK
* checking data for non-ASCII characters ... OK
* checking LazyData ... OK
* checking data for ASCII and uncompressed saves ... OK
* checking line endings in Makefiles ... OK
* checking for GNU extensions in Makefiles ... OK
* checking include directives in Makefiles ... OK
* checking files in ‘vignettes’ ... OK
* checking examples ... OK
Examples with CPU (user + system) or elapsed time > 5s
user system elapsed
components_seq_scree 38.319 6.348 27.968
weitrix_calibrate_trend 11.220 4.077 9.903
weitrix_calplot 9.745 4.538 11.796
weitrix_dispersions 10.280 3.845 8.901
weitrix_calibrate 9.697 3.105 7.803
* checking for unstated dependencies in ‘tests’ ... OK
* checking tests ...
Running ‘testthat.R’
OK
* checking for unstated dependencies in vignettes ... OK
* checking package vignettes ... OK
* checking running R code from vignettes ... SKIPPED
* checking re-building of vignette outputs ... SKIPPED
* checking PDF version of manual ... OK
* DONE
Status: 1 NOTE
See
‘/Users/biocbuild/bbs-3.20-bioc/meat/weitrix.Rcheck/00check.log’
for details.
weitrix.Rcheck/00install.out
############################################################################## ############################################################################## ### ### Running command: ### ### /Library/Frameworks/R.framework/Resources/bin/R CMD INSTALL weitrix ### ############################################################################## ############################################################################## * installing to library ‘/Library/Frameworks/R.framework/Versions/4.4-arm64/Resources/library’ * installing *source* package ‘weitrix’ ... ** using staged installation ** R ** data *** moving datasets to lazyload DB ** inst ** byte-compile and prepare package for lazy loading ** help *** installing help indices ** building package indices ** installing vignettes ** testing if installed package can be loaded from temporary location ** testing if installed package can be loaded from final location ** testing if installed package keeps a record of temporary installation path * DONE (weitrix)
weitrix.Rcheck/tests/testthat.Rout
R version 4.4.3 (2025-02-28) -- "Trophy Case"
Copyright (C) 2025 The R Foundation for Statistical Computing
Platform: aarch64-apple-darwin20
R is free software and comes with ABSOLUTELY NO WARRANTY.
You are welcome to redistribute it under certain conditions.
Type 'license()' or 'licence()' for distribution details.
R is a collaborative project with many contributors.
Type 'contributors()' for more information and
'citation()' on how to cite R or R packages in publications.
Type 'demo()' for some demos, 'help()' for on-line help, or
'help.start()' for an HTML browser interface to help.
Type 'q()' to quit R.
> library(testthat)
> library(weitrix)
Loading required package: SummarizedExperiment
Loading required package: MatrixGenerics
Loading required package: matrixStats
Attaching package: 'MatrixGenerics'
The following objects are masked from 'package:matrixStats':
colAlls, colAnyNAs, colAnys, colAvgsPerRowSet, colCollapse,
colCounts, colCummaxs, colCummins, colCumprods, colCumsums,
colDiffs, colIQRDiffs, colIQRs, colLogSumExps, colMadDiffs,
colMads, colMaxs, colMeans2, colMedians, colMins, colOrderStats,
colProds, colQuantiles, colRanges, colRanks, colSdDiffs, colSds,
colSums2, colTabulates, colVarDiffs, colVars, colWeightedMads,
colWeightedMeans, colWeightedMedians, colWeightedSds,
colWeightedVars, rowAlls, rowAnyNAs, rowAnys, rowAvgsPerColSet,
rowCollapse, rowCounts, rowCummaxs, rowCummins, rowCumprods,
rowCumsums, rowDiffs, rowIQRDiffs, rowIQRs, rowLogSumExps,
rowMadDiffs, rowMads, rowMaxs, rowMeans2, rowMedians, rowMins,
rowOrderStats, rowProds, rowQuantiles, rowRanges, rowRanks,
rowSdDiffs, rowSds, rowSums2, rowTabulates, rowVarDiffs, rowVars,
rowWeightedMads, rowWeightedMeans, rowWeightedMedians,
rowWeightedSds, rowWeightedVars
Loading required package: GenomicRanges
Loading required package: stats4
Loading required package: BiocGenerics
Attaching package: 'BiocGenerics'
The following objects are masked from 'package:stats':
IQR, mad, sd, var, xtabs
The following objects are masked from 'package:base':
Filter, Find, Map, Position, Reduce, anyDuplicated, aperm, append,
as.data.frame, basename, cbind, colnames, dirname, do.call,
duplicated, eval, evalq, get, grep, grepl, intersect, is.unsorted,
lapply, mapply, match, mget, order, paste, pmax, pmax.int, pmin,
pmin.int, rank, rbind, rownames, sapply, saveRDS, setdiff, table,
tapply, union, unique, unsplit, which.max, which.min
Loading required package: S4Vectors
Attaching package: 'S4Vectors'
The following object is masked from 'package:utils':
findMatches
The following objects are masked from 'package:base':
I, expand.grid, unname
Loading required package: IRanges
Loading required package: GenomeInfoDb
Loading required package: Biobase
Welcome to Bioconductor
Vignettes contain introductory material; view with
'browseVignettes()'. To cite Bioconductor, see
'citation("Biobase")', and for packages 'citation("pkgname")'.
Attaching package: 'Biobase'
The following object is masked from 'package:MatrixGenerics':
rowMedians
The following objects are masked from 'package:matrixStats':
anyMissing, rowMedians
>
> test_check("weitrix")
[ FAIL 0 | WARN 0 | SKIP 0 | PASS 15 ]
>
> proc.time()
user system elapsed
21.138 5.101 23.487
weitrix.Rcheck/weitrix-Ex.timings
| name | user | system | elapsed | |
| as_weitrix | 0.075 | 0.001 | 0.078 | |
| bless_weitrix | 0.021 | 0.001 | 0.022 | |
| components_seq_scree | 38.319 | 6.348 | 27.968 | |
| counts_proportions | 0.067 | 0.006 | 0.076 | |
| counts_shift | 0.056 | 0.001 | 0.062 | |
| matrix_long | 0.021 | 0.002 | 0.024 | |
| weitrix_calibrate | 9.697 | 3.105 | 7.803 | |
| weitrix_calibrate_all | 1.427 | 0.795 | 1.729 | |
| weitrix_calibrate_trend | 11.220 | 4.077 | 9.903 | |
| weitrix_calplot | 9.745 | 4.538 | 11.796 | |
| weitrix_components | 3.271 | 1.387 | 3.050 | |
| weitrix_confects | 1.176 | 0.527 | 1.495 | |
| weitrix_dispersions | 10.280 | 3.845 | 8.901 | |
| weitrix_elist | 0.041 | 0.026 | 0.070 | |
| weitrix_hill | 0.026 | 0.006 | 0.033 | |
| weitrix_randomize | 0.026 | 0.008 | 0.035 | |
| weitrix_sd_confects | 2.898 | 1.830 | 3.878 | |
| weitrix_weights | 0.005 | 0.006 | 0.013 | |
| weitrix_x | 0.025 | 0.015 | 0.041 | |
| well_knotted_spline | 1.051 | 0.270 | 1.395 | |