| Back to Multiple platform build/check report for BioC 3.20: simplified long |
|
This page was generated on 2025-04-02 19:29 -0400 (Wed, 02 Apr 2025).
| Hostname | OS | Arch (*) | R version | Installed pkgs |
|---|---|---|---|---|
| nebbiolo2 | Linux (Ubuntu 24.04.1 LTS) | x86_64 | 4.4.3 (2025-02-28) -- "Trophy Case" | 4764 |
| palomino8 | Windows Server 2022 Datacenter | x64 | 4.4.3 (2025-02-28 ucrt) -- "Trophy Case" | 4495 |
| merida1 | macOS 12.7.5 Monterey | x86_64 | 4.4.3 (2025-02-28) -- "Trophy Case" | 4522 |
| kjohnson1 | macOS 13.6.6 Ventura | arm64 | 4.4.3 (2025-02-28) -- "Trophy Case" | 4449 |
| taishan | Linux (openEuler 24.03 LTS) | aarch64 | 4.4.3 (2025-02-28) -- "Trophy Case" | 4426 |
| Click on any hostname to see more info about the system (e.g. compilers) (*) as reported by 'uname -p', except on Windows and Mac OS X | ||||
| Package 2213/2289 | Hostname | OS / Arch | INSTALL | BUILD | CHECK | BUILD BIN | ||||||||
| twoddpcr 1.30.0 (landing page) Anthony Chiu
| nebbiolo2 | Linux (Ubuntu 24.04.1 LTS) / x86_64 | OK | OK | OK | |||||||||
| palomino8 | Windows Server 2022 Datacenter / x64 | OK | OK | OK | OK | |||||||||
| merida1 | macOS 12.7.5 Monterey / x86_64 | OK | OK | OK | OK | |||||||||
| kjohnson1 | macOS 13.6.6 Ventura / arm64 | OK | OK | OK | OK | |||||||||
| taishan | Linux (openEuler 24.03 LTS) / aarch64 | OK | OK | OK | ||||||||||
|
To the developers/maintainers of the twoddpcr package: - Allow up to 24 hours (and sometimes 48 hours) for your latest push to git@git.bioconductor.org:packages/twoddpcr.git to reflect on this report. See Troubleshooting Build Report for more information. - Use the following Renviron settings to reproduce errors and warnings. - If 'R CMD check' started to fail recently on the Linux builder(s) over a missing dependency, add the missing dependency to 'Suggests:' in your DESCRIPTION file. See Renviron.bioc for more information. |
| Package: twoddpcr |
| Version: 1.30.0 |
| Command: /home/biocbuild/bbs-3.20-bioc/R/bin/R CMD check --install=check:twoddpcr.install-out.txt --library=/home/biocbuild/bbs-3.20-bioc/R/site-library --timings twoddpcr_1.30.0.tar.gz |
| StartedAt: 2025-04-01 03:10:41 -0400 (Tue, 01 Apr 2025) |
| EndedAt: 2025-04-01 03:14:35 -0400 (Tue, 01 Apr 2025) |
| EllapsedTime: 233.3 seconds |
| RetCode: 0 |
| Status: OK |
| CheckDir: twoddpcr.Rcheck |
| Warnings: 0 |
##############################################################################
##############################################################################
###
### Running command:
###
### /home/biocbuild/bbs-3.20-bioc/R/bin/R CMD check --install=check:twoddpcr.install-out.txt --library=/home/biocbuild/bbs-3.20-bioc/R/site-library --timings twoddpcr_1.30.0.tar.gz
###
##############################################################################
##############################################################################
* using log directory ‘/home/biocbuild/bbs-3.20-bioc/meat/twoddpcr.Rcheck’
* using R version 4.4.3 (2025-02-28)
* using platform: x86_64-pc-linux-gnu
* R was compiled by
gcc (Ubuntu 13.3.0-6ubuntu2~24.04) 13.3.0
GNU Fortran (Ubuntu 13.3.0-6ubuntu2~24.04) 13.3.0
* running under: Ubuntu 24.04.2 LTS
* using session charset: UTF-8
* checking for file ‘twoddpcr/DESCRIPTION’ ... OK
* this is package ‘twoddpcr’ version ‘1.30.0’
* checking package namespace information ... OK
* checking package dependencies ... OK
* checking if this is a source package ... OK
* checking if there is a namespace ... OK
* checking for hidden files and directories ... OK
* checking for portable file names ... OK
* checking for sufficient/correct file permissions ... OK
* checking whether package ‘twoddpcr’ can be installed ... OK
* checking installed package size ... OK
* checking package directory ... OK
* checking ‘build’ directory ... OK
* checking DESCRIPTION meta-information ... OK
* checking top-level files ... OK
* checking for left-over files ... OK
* checking index information ... OK
* checking package subdirectories ... OK
* checking code files for non-ASCII characters ... OK
* checking R files for syntax errors ... OK
* checking whether the package can be loaded ... OK
* checking whether the package can be loaded with stated dependencies ... OK
* checking whether the package can be unloaded cleanly ... OK
* checking whether the namespace can be loaded with stated dependencies ... OK
* checking whether the namespace can be unloaded cleanly ... OK
* checking loading without being on the library search path ... OK
* checking dependencies in R code ... OK
* checking S3 generic/method consistency ... OK
* checking replacement functions ... OK
* checking foreign function calls ... OK
* checking R code for possible problems ... OK
* checking Rd files ... OK
* checking Rd metadata ... OK
* checking Rd cross-references ... OK
* checking for missing documentation entries ... OK
* checking for code/documentation mismatches ... OK
* checking Rd \usage sections ... NOTE
S3 methods shown with full name in Rd file 'ggplot.well.Rd':
‘ggplot.well’ ‘ggplot.plate’
The \usage entries for S3 methods should use the \method markup and not
their full name.
See chapter ‘Writing R documentation files’ in the ‘Writing R
Extensions’ manual.
* checking Rd contents ... OK
* checking for unstated dependencies in examples ... OK
* checking contents of ‘data’ directory ... OK
* checking data for non-ASCII characters ... OK
* checking LazyData ... OK
* checking data for ASCII and uncompressed saves ... OK
* checking files in ‘vignettes’ ... OK
* checking examples ... OK
Examples with CPU (user + system) or elapsed time > 5s
user system elapsed
knnClassify 6.874 0.051 6.927
ggplot.well 6.057 0.127 6.184
* checking for unstated dependencies in ‘tests’ ... OK
* checking tests ...
Running ‘testthat.R’
OK
* checking for unstated dependencies in vignettes ... OK
* checking package vignettes ... OK
* checking re-building of vignette outputs ... OK
* checking PDF version of manual ... OK
* DONE
Status: 1 NOTE
See
‘/home/biocbuild/bbs-3.20-bioc/meat/twoddpcr.Rcheck/00check.log’
for details.
twoddpcr.Rcheck/00install.out
############################################################################## ############################################################################## ### ### Running command: ### ### /home/biocbuild/bbs-3.20-bioc/R/bin/R CMD INSTALL twoddpcr ### ############################################################################## ############################################################################## * installing to library ‘/home/biocbuild/bbs-3.20-bioc/R/site-library’ * installing *source* package ‘twoddpcr’ ... ** using staged installation ** R ** data *** moving datasets to lazyload DB ** inst ** byte-compile and prepare package for lazy loading ** help *** installing help indices ** building package indices ** installing vignettes ** testing if installed package can be loaded from temporary location ** testing if installed package can be loaded from final location ** testing if installed package keeps a record of temporary installation path * DONE (twoddpcr)
twoddpcr.Rcheck/tests/testthat.Rout
R version 4.4.3 (2025-02-28) -- "Trophy Case"
Copyright (C) 2025 The R Foundation for Statistical Computing
Platform: x86_64-pc-linux-gnu
R is free software and comes with ABSOLUTELY NO WARRANTY.
You are welcome to redistribute it under certain conditions.
Type 'license()' or 'licence()' for distribution details.
R is a collaborative project with many contributors.
Type 'contributors()' for more information and
'citation()' on how to cite R or R packages in publications.
Type 'demo()' for some demos, 'help()' for on-line help, or
'help.start()' for an HTML browser interface to help.
Type 'q()' to quit R.
> library(testthat)
> library(twoddpcr)
>
> test_check("twoddpcr")
[ FAIL 0 | WARN 3 | SKIP 0 | PASS 155 ]
[ FAIL 0 | WARN 3 | SKIP 0 | PASS 155 ]
>
> proc.time()
user system elapsed
5.309 0.253 5.550
twoddpcr.Rcheck/twoddpcr-Ex.timings
| name | user | system | elapsed | |
| amplitudes | 0.240 | 0.030 | 0.272 | |
| basicsSummary | 0.005 | 0.001 | 0.005 | |
| castSummary | 0.015 | 0.001 | 0.016 | |
| classCov | 0.051 | 0.017 | 0.069 | |
| classMeans | 0.055 | 0.001 | 0.058 | |
| classStats | 0.063 | 0.002 | 0.066 | |
| clusterCentres | 0.586 | 0.014 | 0.601 | |
| copiesSummary | 0.004 | 0.000 | 0.004 | |
| ddpcrPlate-class | 0.191 | 0.000 | 0.192 | |
| ddpcrWell-class | 0.017 | 0.000 | 0.017 | |
| ddpcrWell-methods | 0.175 | 0.000 | 0.174 | |
| dropletPlot | 3.857 | 0.042 | 3.903 | |
| exportTable | 0.125 | 0.002 | 0.126 | |
| extractPlateName | 0.001 | 0.001 | 0.000 | |
| extractWellNames | 0.000 | 0.000 | 0.001 | |
| facetPlot | 1.974 | 0.060 | 2.033 | |
| flatPlot | 3.886 | 0.074 | 3.959 | |
| fullCopiesSummary | 0.004 | 0.002 | 0.007 | |
| fullCountsSummary | 0.022 | 0.003 | 0.026 | |
| ggplot.well | 6.057 | 0.127 | 6.184 | |
| gridClassify | 4.269 | 0.087 | 4.356 | |
| heatPlot | 1.193 | 0.012 | 1.205 | |
| kmeansClassify | 1.152 | 0.017 | 1.168 | |
| knnClassify | 6.874 | 0.051 | 6.927 | |
| mahalanobisRain | 0.553 | 0.011 | 0.564 | |
| mutantCopiesSummary | 0.004 | 0.000 | 0.004 | |
| numDroplets | 0.183 | 0.000 | 0.183 | |
| parseClusterCounts | 0.01 | 0.00 | 0.01 | |
| plateClassification | 0.79 | 0.01 | 0.80 | |
| plateClassificationMethod | 0.262 | 0.000 | 0.262 | |
| plateSummary | 1.883 | 0.007 | 1.890 | |
| positiveCounts | 0.023 | 0.001 | 0.024 | |
| readCSVDataFrame | 0.007 | 0.003 | 0.010 | |
| relabelClasses | 0.044 | 0.000 | 0.045 | |
| removeDropletClasses | 0.475 | 0.003 | 0.478 | |
| renormalisePlate | 2.467 | 0.006 | 2.473 | |
| sdRain | 2.654 | 0.028 | 2.682 | |
| setChannelNames | 0.001 | 0.000 | 0.001 | |
| setDropletVolume | 0 | 0 | 0 | |
| sortDataFrame | 0.002 | 0.000 | 0.001 | |
| sortWells | 0.175 | 0.001 | 0.176 | |
| thresholdClassify | 1.170 | 0.007 | 1.177 | |
| wellClassification | 0.017 | 0.000 | 0.017 | |
| wellClassificationMethod | 0.016 | 0.000 | 0.017 | |
| whiteTheme | 1.316 | 0.012 | 1.329 | |
| wildTypeCopiesSummary | 0.004 | 0.000 | 0.004 | |