| Back to Multiple platform build/check report for BioC 3.20: simplified long |
|
This page was generated on 2024-07-16 11:41 -0400 (Tue, 16 Jul 2024).
| Hostname | OS | Arch (*) | R version | Installed pkgs |
|---|---|---|---|---|
| nebbiolo2 | Linux (Ubuntu 22.04.3 LTS) | x86_64 | 4.4.1 (2024-06-14) -- "Race for Your Life" | 4677 |
| palomino6 | Windows Server 2022 Datacenter | x64 | 4.4.1 (2024-06-14 ucrt) -- "Race for Your Life" | 4416 |
| lconway | macOS 12.7.1 Monterey | x86_64 | 4.4.1 (2024-06-14) -- "Race for Your Life" | 4444 |
| kjohnson3 | macOS 13.6.5 Ventura | arm64 | 4.4.1 (2024-06-14) -- "Race for Your Life" | 4393 |
| palomino8 | Windows Server 2022 Datacenter | x64 | 4.4.1 (2024-06-14 ucrt) -- "Race for Your Life" | 4373 |
| Click on any hostname to see more info about the system (e.g. compilers) (*) as reported by 'uname -p', except on Windows and Mac OS X | ||||
| Package 2152/2243 | Hostname | OS / Arch | INSTALL | BUILD | CHECK | BUILD BIN | ||||||||
| trigger 1.51.0 (landing page) John D. Storey
| nebbiolo2 | Linux (Ubuntu 22.04.3 LTS) / x86_64 | OK | OK | OK | |||||||||
| palomino6 | Windows Server 2022 Datacenter / x64 | OK | OK | OK | OK | |||||||||
| lconway | macOS 12.7.1 Monterey / x86_64 | OK | OK | OK | OK | |||||||||
| kjohnson3 | macOS 13.6.5 Ventura / arm64 | OK | OK | OK | OK | |||||||||
| palomino8 | Windows Server 2022 Datacenter / x64 | OK | OK | OK | OK | |||||||||
|
To the developers/maintainers of the trigger package: - Allow up to 24 hours (and sometimes 48 hours) for your latest push to git@git.bioconductor.org:packages/trigger.git to reflect on this report. See Troubleshooting Build Report for more information. - Use the following Renviron settings to reproduce errors and warnings. - If 'R CMD check' started to fail recently on the Linux builder(s) over a missing dependency, add the missing dependency to 'Suggests:' in your DESCRIPTION file. See Renviron.bioc for more information. |
| Package: trigger |
| Version: 1.51.0 |
| Command: rm -rf trigger.buildbin-libdir && mkdir trigger.buildbin-libdir && C:\Users\biocbuild\bbs-3.20-bioc\R\bin\R.exe CMD INSTALL --build --library=trigger.buildbin-libdir trigger_1.51.0.tar.gz |
| StartedAt: 2024-07-16 06:52:17 -0400 (Tue, 16 Jul 2024) |
| EndedAt: 2024-07-16 06:53:05 -0400 (Tue, 16 Jul 2024) |
| EllapsedTime: 48.6 seconds |
| RetCode: 0 |
| Status: OK |
| PackageFile: trigger_1.51.0.zip |
| PackageFileSize: 2.08 MiB |
##############################################################################
##############################################################################
###
### Running command:
###
### rm -rf trigger.buildbin-libdir && mkdir trigger.buildbin-libdir && C:\Users\biocbuild\bbs-3.20-bioc\R\bin\R.exe CMD INSTALL --build --library=trigger.buildbin-libdir trigger_1.51.0.tar.gz
###
##############################################################################
##############################################################################
* installing *source* package 'trigger' ...
** using staged installation
** libs
using C compiler: 'gcc.exe (GCC) 13.2.0'
gcc -I"C:/Users/biocbuild/bbs-3.20-bioc/R/include" -DNDEBUG -I"C:/rtools44/x86_64-w64-mingw32.static.posix/include" -O2 -Wall -mfpmath=sse -msse2 -mstackrealign -c trigger.c -o trigger.o
trigger.c: In function 'mergeorder':
trigger.c:25:20: warning: variable 'n3' set but not used [-Wunused-but-set-variable]
25 | int i1,i2,i3,n1,n2,n3;
| ^~
trigger.c: In function 'sec_link_stat':
trigger.c:81:10: warning: variable 'nct' set but not used [-Wunused-but-set-variable]
81 | int ntr, nct, i, j;
| ^~~
trigger.c: In function 'sec_link_stat_x':
trigger.c:153:10: warning: variable 'nct' set but not used [-Wunused-but-set-variable]
153 | int ntr, nct, i, j, k, nk;
| ^~~
trigger.c: In function 'condi_indep_stat':
trigger.c:233:10: warning: variable 'nct' set but not used [-Wunused-but-set-variable]
233 | int ntr, nct, i, j;
| ^~~
trigger.c: In function 'condi_indep_stat_x':
trigger.c:310:10: warning: variable 'nct' set but not used [-Wunused-but-set-variable]
310 | int ntr, nct, i, j, k, nk;
| ^~~
trigger.c: In function 'condi_indep_stat_rx':
trigger.c:393:10: warning: variable 'nct' set but not used [-Wunused-but-set-variable]
393 | int ntr, nct, i, j, k, nk;
| ^~~
gcc -shared -s -static-libgcc -o trigger.dll tmp.def trigger.o -LC:/rtools44/x86_64-w64-mingw32.static.posix/lib/x64 -LC:/rtools44/x86_64-w64-mingw32.static.posix/lib -LC:/Users/biocbuild/bbs-3.20-bioc/R/bin/x64 -lR
installing to C:/Users/biocbuild/bbs-3.20-bioc/meat/trigger.buildbin-libdir/00LOCK-trigger/00new/trigger/libs/x64
** R
** data
** inst
** byte-compile and prepare package for lazy loading
** help
*** installing help indices
** building package indices
** installing vignettes
** testing if installed package can be loaded from temporary location
** testing if installed package can be loaded from final location
** testing if installed package keeps a record of temporary installation path
* MD5 sums
packaged installation of 'trigger' as trigger_1.51.0.zip
* DONE (trigger)