| Back to Multiple platform build/check report for BioC 3.20: simplified long |
|
This page was generated on 2025-04-02 19:33 -0400 (Wed, 02 Apr 2025).
| Hostname | OS | Arch (*) | R version | Installed pkgs |
|---|---|---|---|---|
| nebbiolo2 | Linux (Ubuntu 24.04.1 LTS) | x86_64 | 4.4.3 (2025-02-28) -- "Trophy Case" | 4764 |
| palomino8 | Windows Server 2022 Datacenter | x64 | 4.4.3 (2025-02-28 ucrt) -- "Trophy Case" | 4495 |
| merida1 | macOS 12.7.5 Monterey | x86_64 | 4.4.3 (2025-02-28) -- "Trophy Case" | 4522 |
| kjohnson1 | macOS 13.6.6 Ventura | arm64 | 4.4.3 (2025-02-28) -- "Trophy Case" | 4449 |
| taishan | Linux (openEuler 24.03 LTS) | aarch64 | 4.4.3 (2025-02-28) -- "Trophy Case" | 4426 |
| Click on any hostname to see more info about the system (e.g. compilers) (*) as reported by 'uname -p', except on Windows and Mac OS X | ||||
| Package 2141/2289 | Hostname | OS / Arch | INSTALL | BUILD | CHECK | BUILD BIN | ||||||||
| tidyFlowCore 1.0.0 (landing page) Timothy Keyes
| nebbiolo2 | Linux (Ubuntu 24.04.1 LTS) / x86_64 | OK | OK | OK | |||||||||
| palomino8 | Windows Server 2022 Datacenter / x64 | OK | OK | OK | OK | |||||||||
| merida1 | macOS 12.7.5 Monterey / x86_64 | OK | OK | OK | OK | |||||||||
| kjohnson1 | macOS 13.6.6 Ventura / arm64 | OK | OK | OK | OK | |||||||||
| taishan | Linux (openEuler 24.03 LTS) / aarch64 | OK | OK | OK | ||||||||||
|
To the developers/maintainers of the tidyFlowCore package: - Allow up to 24 hours (and sometimes 48 hours) for your latest push to git@git.bioconductor.org:packages/tidyFlowCore.git to reflect on this report. See Troubleshooting Build Report for more information. - Use the following Renviron settings to reproduce errors and warnings. - If 'R CMD check' started to fail recently on the Linux builder(s) over a missing dependency, add the missing dependency to 'Suggests:' in your DESCRIPTION file. See Renviron.bioc for more information. |
| Package: tidyFlowCore |
| Version: 1.0.0 |
| Command: /Library/Frameworks/R.framework/Resources/bin/R CMD check --install=check:tidyFlowCore.install-out.txt --library=/Library/Frameworks/R.framework/Resources/library --no-vignettes --timings tidyFlowCore_1.0.0.tar.gz |
| StartedAt: 2025-04-01 10:14:44 -0400 (Tue, 01 Apr 2025) |
| EndedAt: 2025-04-01 10:17:50 -0400 (Tue, 01 Apr 2025) |
| EllapsedTime: 185.3 seconds |
| RetCode: 0 |
| Status: OK |
| CheckDir: tidyFlowCore.Rcheck |
| Warnings: 0 |
##############################################################################
##############################################################################
###
### Running command:
###
### /Library/Frameworks/R.framework/Resources/bin/R CMD check --install=check:tidyFlowCore.install-out.txt --library=/Library/Frameworks/R.framework/Resources/library --no-vignettes --timings tidyFlowCore_1.0.0.tar.gz
###
##############################################################################
##############################################################################
* using log directory ‘/Users/biocbuild/bbs-3.20-bioc/meat/tidyFlowCore.Rcheck’
* using R version 4.4.3 (2025-02-28)
* using platform: x86_64-apple-darwin20
* R was compiled by
Apple clang version 14.0.0 (clang-1400.0.29.202)
GNU Fortran (GCC) 12.2.0
* running under: macOS Monterey 12.7.6
* using session charset: UTF-8
* using option ‘--no-vignettes’
* checking for file ‘tidyFlowCore/DESCRIPTION’ ... OK
* checking extension type ... Package
* this is package ‘tidyFlowCore’ version ‘1.0.0’
* package encoding: UTF-8
* checking package namespace information ... OK
* checking package dependencies ... OK
* checking if this is a source package ... OK
* checking if there is a namespace ... OK
* checking for hidden files and directories ... OK
* checking for portable file names ... OK
* checking for sufficient/correct file permissions ... OK
* checking whether package ‘tidyFlowCore’ can be installed ... OK
* checking installed package size ... OK
* checking package directory ... OK
* checking ‘build’ directory ... OK
* checking DESCRIPTION meta-information ... OK
* checking top-level files ... OK
* checking for left-over files ... OK
* checking index information ... OK
* checking package subdirectories ... OK
* checking code files for non-ASCII characters ... OK
* checking R files for syntax errors ... OK
* checking whether the package can be loaded ... OK
* checking whether the package can be loaded with stated dependencies ... OK
* checking whether the package can be unloaded cleanly ... OK
* checking whether the namespace can be loaded with stated dependencies ... OK
* checking whether the namespace can be unloaded cleanly ... OK
* checking dependencies in R code ... OK
* checking S3 generic/method consistency ... OK
* checking replacement functions ... OK
* checking foreign function calls ... OK
* checking R code for possible problems ... OK
* checking Rd files ... OK
* checking Rd metadata ... OK
* checking Rd cross-references ... OK
* checking for missing documentation entries ... OK
* checking for code/documentation mismatches ... OK
* checking Rd \usage sections ... OK
* checking Rd contents ... OK
* checking for unstated dependencies in examples ... OK
* checking contents of ‘data’ directory ... OK
* checking data for non-ASCII characters ... OK
* checking data for ASCII and uncompressed saves ... OK
* checking files in ‘vignettes’ ... OK
* checking examples ... OK
* checking for unstated dependencies in ‘tests’ ... OK
* checking tests ...
Running ‘testthat.R’
OK
* checking for unstated dependencies in vignettes ... OK
* checking package vignettes ... OK
* checking running R code from vignettes ... SKIPPED
* checking re-building of vignette outputs ... SKIPPED
* checking PDF version of manual ... OK
* DONE
Status: OK
tidyFlowCore.Rcheck/00install.out
############################################################################## ############################################################################## ### ### Running command: ### ### /Library/Frameworks/R.framework/Resources/bin/R CMD INSTALL tidyFlowCore ### ############################################################################## ############################################################################## * installing to library ‘/Library/Frameworks/R.framework/Versions/4.4-x86_64/Resources/library’ * installing *source* package ‘tidyFlowCore’ ... ** using staged installation ** R ** data ** inst ** byte-compile and prepare package for lazy loading ** help *** installing help indices *** copying figures ** building package indices ** installing vignettes ** testing if installed package can be loaded from temporary location ** testing if installed package can be loaded from final location ** testing if installed package keeps a record of temporary installation path * DONE (tidyFlowCore)
tidyFlowCore.Rcheck/tests/testthat.Rout
R version 4.4.3 (2025-02-28) -- "Trophy Case"
Copyright (C) 2025 The R Foundation for Statistical Computing
Platform: x86_64-apple-darwin20
R is free software and comes with ABSOLUTELY NO WARRANTY.
You are welcome to redistribute it under certain conditions.
Type 'license()' or 'licence()' for distribution details.
R is a collaborative project with many contributors.
Type 'contributors()' for more information and
'citation()' on how to cite R or R packages in publications.
Type 'demo()' for some demos, 'help()' for on-line help, or
'help.start()' for an HTML browser interface to help.
Type 'q()' to quit R.
> # This file is part of the standard setup for testthat.
> # It is recommended that you do not modify it.
> #
> # Where should you do additional test configuration?
> # Learn more about the roles of various files in:
> # * https://r-pkgs.org/testing-design.html#sec-tests-files-overview
> # * https://testthat.r-lib.org/articles/special-files.html
>
> library(testthat)
> library(tidyFlowCore)
>
> test_check("tidyFlowCore")
Attaching package: 'dplyr'
The following object is masked from 'package:testthat':
matches
The following objects are masked from 'package:stats':
filter, lag
The following objects are masked from 'package:base':
intersect, setdiff, setequal, union
Attaching package: 'tidyr'
The following object is masked from 'package:testthat':
matches
[ FAIL 0 | WARN 0 | SKIP 0 | PASS 104 ]
>
> proc.time()
user system elapsed
26.937 1.073 29.036
tidyFlowCore.Rcheck/tidyFlowCore-Ex.timings
| name | user | system | elapsed | |
| arrange.flowFrame | 0.514 | 0.021 | 0.579 | |
| arrange.flowSet | 0.906 | 0.019 | 0.935 | |
| as_flowFrame | 0.000 | 0.001 | 0.001 | |
| as_flowSet | 0.000 | 0.001 | 0.001 | |
| as_tof_tbl | 0.050 | 0.005 | 0.055 | |
| count.flowFrame | 0.635 | 0.023 | 0.673 | |
| count.flowSet | 0.370 | 0.013 | 0.397 | |
| filter.flowFrame | 0.344 | 0.011 | 0.361 | |
| filter.flowSet | 0.861 | 0.017 | 0.887 | |
| ggplot.flowFrame | 0.259 | 0.009 | 0.275 | |
| ggplot.flowSet | 0.301 | 0.010 | 0.317 | |
| group_by.flowFrame | 0.799 | 0.022 | 0.831 | |
| make_flowcore_annotated_data_frame | 0 | 0 | 0 | |
| mutate.flowFrame | 0.730 | 0.020 | 0.764 | |
| mutate.flowSet | 0.875 | 0.018 | 0.900 | |
| nest.flowFrame | 0.786 | 0.022 | 0.821 | |
| pull.flowFrame | 0.242 | 0.011 | 0.254 | |
| pull.flowSet | 0.231 | 0.016 | 0.250 | |
| reexports | 0.000 | 0.000 | 0.001 | |
| rename.flowFrame | 0.363 | 0.011 | 0.379 | |
| rename.flowSet | 0.848 | 0.017 | 0.874 | |
| rename_with.flowFrame | 0.350 | 0.011 | 0.370 | |
| rename_with.flowSet | 0.839 | 0.017 | 0.882 | |
| select.flowFrame | 0.335 | 0.009 | 0.349 | |
| select.flowSet | 0.757 | 0.016 | 0.789 | |
| simulate_cytometry_data | 0.231 | 0.008 | 0.243 | |
| slice.flowFrame | 0.351 | 0.010 | 0.372 | |
| slice.flowSet | 0.859 | 0.016 | 0.898 | |
| slice_head.flowFrame | 0.356 | 0.011 | 0.375 | |
| slice_head.flowSet | 0.870 | 0.017 | 0.982 | |
| slice_max.flowFrame | 0.349 | 0.011 | 0.364 | |
| slice_max.flowSet | 0.861 | 0.017 | 0.940 | |
| slice_min.flowFrame | 0.346 | 0.010 | 0.363 | |
| slice_min.flowSet | 0.854 | 0.018 | 0.891 | |
| slice_sample.flowFrame | 0.345 | 0.010 | 0.359 | |
| slice_sample.flowSet | 0.859 | 0.017 | 0.891 | |
| slice_tail.flowFrame | 0.362 | 0.011 | 0.380 | |
| slice_tail.flowSet | 0.841 | 0.016 | 0.876 | |
| summarise.flowFrame | 0.256 | 0.008 | 0.307 | |
| summarise.flowSet | 0.563 | 0.009 | 0.575 | |
| summarize.flowFrame | 0.243 | 0.008 | 0.253 | |
| summarize.flowSet | 0.372 | 0.044 | 0.422 | |
| tof_get_panel | 0.001 | 0.001 | 0.001 | |
| tof_set_panel | 0.000 | 0.001 | 0.001 | |
| transmute.flowFrame | 0.343 | 0.035 | 0.386 | |
| transmute.flowSet | 0.766 | 0.017 | 0.792 | |
| ungroup.flowSet | 0.403 | 0.012 | 0.419 | |
| unnest.flowSet | 0.756 | 0.016 | 0.781 | |