| Back to Multiple platform build/check report for BioC 3.20: simplified long |
|
This page was generated on 2024-11-20 12:03 -0500 (Wed, 20 Nov 2024).
| Hostname | OS | Arch (*) | R version | Installed pkgs |
|---|---|---|---|---|
| teran2 | Linux (Ubuntu 24.04.1 LTS) | x86_64 | 4.4.2 (2024-10-31) -- "Pile of Leaves" | 4481 |
| nebbiolo2 | Linux (Ubuntu 24.04.1 LTS) | x86_64 | 4.4.2 (2024-10-31) -- "Pile of Leaves" | 4479 |
| palomino8 | Windows Server 2022 Datacenter | x64 | 4.4.2 (2024-10-31 ucrt) -- "Pile of Leaves" | 4359 |
| lconway | macOS 12.7.1 Monterey | x86_64 | 4.4.1 (2024-06-14) -- "Race for Your Life" | 4539 |
| kunpeng2 | Linux (openEuler 22.03 LTS-SP1) | aarch64 | 4.4.1 (2024-06-14) -- "Race for Your Life" | 4493 |
| Click on any hostname to see more info about the system (e.g. compilers) (*) as reported by 'uname -p', except on Windows and Mac OS X | ||||
| Package 2079/2289 | Hostname | OS / Arch | INSTALL | BUILD | CHECK | BUILD BIN | ||||||||
| structToolbox 1.18.0 (landing page) Gavin Rhys Lloyd
| teran2 | Linux (Ubuntu 24.04.1 LTS) / x86_64 | OK | OK | OK | |||||||||
| nebbiolo2 | Linux (Ubuntu 24.04.1 LTS) / x86_64 | OK | OK | OK | ||||||||||
| palomino8 | Windows Server 2022 Datacenter / x64 | OK | OK | OK | OK | |||||||||
| lconway | macOS 12.7.1 Monterey / x86_64 | OK | OK | OK | OK | |||||||||
| kunpeng2 | Linux (openEuler 22.03 LTS-SP1) / aarch64 | OK | OK | OK | ||||||||||
|
To the developers/maintainers of the structToolbox package: - Allow up to 24 hours (and sometimes 48 hours) for your latest push to git@git.bioconductor.org:packages/structToolbox.git to reflect on this report. See Troubleshooting Build Report for more information. - Use the following Renviron settings to reproduce errors and warnings. - If 'R CMD check' started to fail recently on the Linux builder(s) over a missing dependency, add the missing dependency to 'Suggests:' in your DESCRIPTION file. See Renviron.bioc for more information. |
| Package: structToolbox |
| Version: 1.18.0 |
| Command: /home/biocbuild/bbs-3.20-bioc/R/bin/R CMD check --install=check:structToolbox.install-out.txt --library=/home/biocbuild/bbs-3.20-bioc/R/site-library --timings structToolbox_1.18.0.tar.gz |
| StartedAt: 2024-11-20 10:24:31 -0500 (Wed, 20 Nov 2024) |
| EndedAt: 2024-11-20 10:37:40 -0500 (Wed, 20 Nov 2024) |
| EllapsedTime: 789.1 seconds |
| RetCode: 0 |
| Status: OK |
| CheckDir: structToolbox.Rcheck |
| Warnings: 0 |
##############################################################################
##############################################################################
###
### Running command:
###
### /home/biocbuild/bbs-3.20-bioc/R/bin/R CMD check --install=check:structToolbox.install-out.txt --library=/home/biocbuild/bbs-3.20-bioc/R/site-library --timings structToolbox_1.18.0.tar.gz
###
##############################################################################
##############################################################################
* using log directory ‘/media/volume/teran2_disk/biocbuild/bbs-3.20-bioc/meat/structToolbox.Rcheck’
* using R version 4.4.2 (2024-10-31)
* using platform: x86_64-pc-linux-gnu
* R was compiled by
gcc (Ubuntu 13.2.0-23ubuntu4) 13.2.0
GNU Fortran (Ubuntu 13.2.0-23ubuntu4) 13.2.0
* running under: Ubuntu 24.04.1 LTS
* using session charset: UTF-8
* checking for file ‘structToolbox/DESCRIPTION’ ... OK
* checking extension type ... Package
* this is package ‘structToolbox’ version ‘1.18.0’
* package encoding: UTF-8
* checking package namespace information ... OK
* checking package dependencies ... OK
* checking if this is a source package ... OK
* checking if there is a namespace ... OK
* checking for hidden files and directories ... OK
* checking for portable file names ... OK
* checking for sufficient/correct file permissions ... OK
* checking whether package ‘structToolbox’ can be installed ... OK
* checking installed package size ... OK
* checking package directory ... OK
* checking ‘build’ directory ... OK
* checking DESCRIPTION meta-information ... OK
* checking top-level files ... OK
* checking for left-over files ... OK
* checking index information ... OK
* checking package subdirectories ... OK
* checking code files for non-ASCII characters ... OK
* checking R files for syntax errors ... OK
* checking whether the package can be loaded ... OK
* checking whether the package can be loaded with stated dependencies ... OK
* checking whether the package can be unloaded cleanly ... OK
* checking whether the namespace can be loaded with stated dependencies ... OK
* checking whether the namespace can be unloaded cleanly ... OK
* checking loading without being on the library search path ... OK
* checking dependencies in R code ... OK
* checking S3 generic/method consistency ... OK
* checking replacement functions ... OK
* checking foreign function calls ... OK
* checking R code for possible problems ... OK
* checking Rd files ... OK
* checking Rd metadata ... OK
* checking Rd cross-references ... OK
* checking for missing documentation entries ... OK
* checking for code/documentation mismatches ... OK
* checking Rd \usage sections ... OK
* checking Rd contents ... OK
* checking for unstated dependencies in examples ... OK
* checking R/sysdata.rda ... OK
* checking files in ‘vignettes’ ... OK
* checking examples ... OK
Examples with CPU (user + system) or elapsed time > 5s
user system elapsed
fold_change_int 11.246 0.007 11.254
fold_change 7.978 0.011 7.990
fisher_exact 6.730 0.006 6.736
* checking for unstated dependencies in ‘tests’ ... OK
* checking tests ...
Running ‘testthat.R’
OK
* checking for unstated dependencies in vignettes ... OK
* checking package vignettes ... OK
* checking re-building of vignette outputs ... OK
* checking PDF version of manual ... OK
* DONE
Status: OK
structToolbox.Rcheck/00install.out
############################################################################## ############################################################################## ### ### Running command: ### ### /home/biocbuild/bbs-3.20-bioc/R/bin/R CMD INSTALL structToolbox ### ############################################################################## ############################################################################## * installing to library ‘/media/volume/teran2_disk/biocbuild/bbs-3.20-bioc/R/site-library’ * installing *source* package ‘structToolbox’ ... ** using staged installation ** R ** inst ** byte-compile and prepare package for lazy loading ** help *** installing help indices ** building package indices ** installing vignettes ** testing if installed package can be loaded from temporary location ** testing if installed package can be loaded from final location ** testing if installed package keeps a record of temporary installation path * DONE (structToolbox)
structToolbox.Rcheck/tests/testthat.Rout
R version 4.4.2 (2024-10-31) -- "Pile of Leaves"
Copyright (C) 2024 The R Foundation for Statistical Computing
Platform: x86_64-pc-linux-gnu
R is free software and comes with ABSOLUTELY NO WARRANTY.
You are welcome to redistribute it under certain conditions.
Type 'license()' or 'licence()' for distribution details.
R is a collaborative project with many contributors.
Type 'contributors()' for more information and
'citation()' on how to cite R or R packages in publications.
Type 'demo()' for some demos, 'help()' for on-line help, or
'help.start()' for an HTML browser interface to help.
Type 'q()' to quit R.
> library(testthat)
> library(ggplot2)
> library(structToolbox)
Loading required package: struct
>
> test_check("structToolbox")
[ FAIL 0 | WARN 6 | SKIP 0 | PASS 166 ]
[ FAIL 0 | WARN 6 | SKIP 0 | PASS 166 ]
>
> proc.time()
user system elapsed
125.790 0.959 126.783
structToolbox.Rcheck/structToolbox-Ex.timings
| name | user | system | elapsed | |
| ANOVA | 0.147 | 0.003 | 0.150 | |
| AUC | 1.383 | 0.146 | 1.539 | |
| DFA | 0.135 | 0.001 | 0.138 | |
| DatasetExperiment_boxplot | 1.292 | 0.018 | 1.310 | |
| DatasetExperiment_dist | 1.038 | 0.040 | 1.078 | |
| DatasetExperiment_factor_boxplot | 0.143 | 0.000 | 0.143 | |
| DatasetExperiment_heatmap | 0.273 | 0.003 | 0.276 | |
| HCA | 0.045 | 0.001 | 0.046 | |
| HSD | 0.204 | 0.003 | 0.229 | |
| HSDEM | 0.217 | 0.002 | 0.220 | |
| MTBLS79_DatasetExperiment | 0.001 | 0.000 | 0.001 | |
| OPLSDA | 0.005 | 0.002 | 0.008 | |
| OPLSR | 0.01 | 0.00 | 0.01 | |
| PCA | 0.003 | 0.000 | 0.003 | |
| PLSDA | 0.017 | 0.000 | 0.017 | |
| PLSR | 0.007 | 0.000 | 0.007 | |
| SVM | 0.019 | 0.000 | 0.018 | |
| as_data_frame | 0.084 | 0.000 | 0.083 | |
| autoscale | 0.05 | 0.00 | 0.05 | |
| balanced_accuracy | 1.152 | 0.003 | 1.155 | |
| blank_filter | 0.227 | 0.008 | 0.240 | |
| blank_filter_hist | 0.000 | 0.000 | 0.001 | |
| bootstrap | 0.011 | 0.000 | 0.012 | |
| calculate | 0.003 | 0.000 | 0.004 | |
| chart_plot | 0.017 | 0.001 | 0.019 | |
| classical_lsq | 0.212 | 0.001 | 0.213 | |
| compare_dist | 3.318 | 0.074 | 3.394 | |
| confounders_clsq | 1.970 | 0.004 | 1.975 | |
| confounders_lsq_barchart | 2.041 | 0.009 | 2.051 | |
| confounders_lsq_boxplot | 1.985 | 0.005 | 1.990 | |
| constant_sum_norm | 0.01 | 0.00 | 0.01 | |
| corr_coef | 0.183 | 0.001 | 0.184 | |
| dfa_scores_plot | 0.485 | 0.000 | 0.485 | |
| dratio_filter | 0.188 | 0.000 | 0.188 | |
| equal_split | 0.086 | 0.000 | 0.086 | |
| feature_boxplot | 0.020 | 0.001 | 0.021 | |
| feature_profile | 0.261 | 0.001 | 0.262 | |
| feature_profile_array | 0.308 | 0.000 | 0.308 | |
| filter_by_name | 0.032 | 0.000 | 0.032 | |
| filter_na_count | 0.734 | 0.001 | 0.735 | |
| filter_smeta | 0.055 | 0.000 | 0.055 | |
| fisher_exact | 6.730 | 0.006 | 6.736 | |
| fold_change | 7.978 | 0.011 | 7.990 | |
| fold_change_int | 11.246 | 0.007 | 11.254 | |
| fold_change_plot | 0.008 | 0.000 | 0.009 | |
| forward_selection_by_rank | 4.261 | 0.039 | 4.300 | |
| fs_line | 4.871 | 0.019 | 4.890 | |
| glog_opt_plot | 0.321 | 0.000 | 0.321 | |
| glog_transform | 0.187 | 0.002 | 0.189 | |
| grid_search_1d | 2.267 | 0.019 | 2.286 | |
| gs_line | 0 | 0 | 0 | |
| hca_dendrogram | 0 | 0 | 0 | |
| kfold_xval | 2.255 | 0.008 | 2.262 | |
| kfoldxcv_grid | 2.455 | 0.006 | 2.467 | |
| kfoldxcv_metric | 0.001 | 0.000 | 0.001 | |
| knn_impute | 0.008 | 0.000 | 0.009 | |
| kw_p_hist | 0 | 0 | 0 | |
| kw_rank_sum | 0.055 | 0.000 | 0.055 | |
| linear_model | 0.018 | 0.000 | 0.019 | |
| log_transform | 0.009 | 0.000 | 0.009 | |
| mean_centre | 0.002 | 0.000 | 0.002 | |
| mean_of_medians | 0.092 | 0.000 | 0.092 | |
| mixed_effect | 0.107 | 0.000 | 0.106 | |
| model_apply | 0.015 | 0.000 | 0.015 | |
| model_predict | 0.036 | 0.000 | 0.036 | |
| model_reverse | 0.027 | 0.000 | 0.028 | |
| model_train | 0.032 | 0.001 | 0.033 | |
| mv_boxplot | 0.186 | 0.000 | 0.187 | |
| mv_feature_filter | 0.088 | 0.000 | 0.089 | |
| mv_feature_filter_hist | 0.001 | 0.000 | 0.000 | |
| mv_histogram | 0.17 | 0.00 | 0.17 | |
| mv_sample_filter | 0.010 | 0.001 | 0.011 | |
| mv_sample_filter_hist | 0.000 | 0.000 | 0.001 | |
| nroot_transform | 0.008 | 0.000 | 0.009 | |
| ontology_cache | 0 | 0 | 0 | |
| pairs_filter | 0.010 | 0.001 | 0.010 | |
| pareto_scale | 0.037 | 0.001 | 0.037 | |
| pca_biplot | 0.013 | 0.000 | 0.013 | |
| pca_correlation_plot | 0.008 | 0.000 | 0.007 | |
| pca_dstat_plot | 0.008 | 0.000 | 0.010 | |
| pca_loadings_plot | 0.010 | 0.000 | 0.009 | |
| pca_scores_plot | 0.352 | 0.001 | 0.354 | |
| pca_scree_plot | 0.007 | 0.000 | 0.008 | |
| permutation_test | 0.012 | 0.000 | 0.011 | |
| permutation_test_plot | 0.001 | 0.000 | 0.002 | |
| permute_sample_order | 0.010 | 0.000 | 0.009 | |
| pls_regcoeff_plot | 0.233 | 0.001 | 0.234 | |
| pls_scores_plot | 0.462 | 0.002 | 0.464 | |
| pls_vip_plot | 0.270 | 0.003 | 0.273 | |
| plsda_feature_importance_plot | 0.411 | 0.001 | 0.412 | |
| plsda_predicted_plot | 0.301 | 0.001 | 0.301 | |
| plsda_roc_plot | 0.797 | 0.003 | 0.802 | |
| plsr_cook_dist | 0.008 | 0.000 | 0.009 | |
| plsr_prediction_plot | 0.007 | 0.000 | 0.008 | |
| plsr_qq_plot | 0.008 | 0.000 | 0.007 | |
| plsr_residual_hist | 0.007 | 0.000 | 0.007 | |
| pqn_norm | 0.228 | 0.000 | 0.228 | |
| pqn_norm_hist | 0.001 | 0.000 | 0.001 | |
| prop_na | 0.012 | 0.000 | 0.012 | |
| r_squared | 0.001 | 0.000 | 0.000 | |
| resample | 0.015 | 0.001 | 0.015 | |
| resample_chart | 0.002 | 0.000 | 0.001 | |
| rsd_filter | 0.013 | 0.001 | 0.014 | |
| rsd_filter_hist | 0.001 | 0.000 | 0.000 | |
| run | 0.019 | 0.001 | 0.020 | |
| sb_corr | 0.022 | 0.000 | 0.023 | |
| scatter_chart | 0.240 | 0.000 | 0.239 | |
| split_data | 0.01 | 0.00 | 0.01 | |
| stratified_split | 0.080 | 0.001 | 0.080 | |
| svm_plot_2d | 0.440 | 0.000 | 0.444 | |
| tSNE | 0.021 | 0.000 | 0.021 | |
| tSNE_scatter | 0.007 | 0.000 | 0.008 | |
| tic_chart | 0.140 | 0.000 | 0.141 | |
| ttest | 0.014 | 0.000 | 0.015 | |
| vec_norm | 0.000 | 0.000 | 0.001 | |
| wilcox_p_hist | 0.000 | 0.000 | 0.001 | |
| wilcox_test | 0.016 | 0.000 | 0.017 | |