| Back to Multiple platform build/check report for BioC 3.20: simplified long | 
  | 
This page was generated on 2024-11-20 12:03 -0500 (Wed, 20 Nov 2024).
| Hostname | OS | Arch (*) | R version | Installed pkgs | 
|---|---|---|---|---|
| teran2 | Linux (Ubuntu 24.04.1 LTS) | x86_64 | 4.4.2 (2024-10-31) -- "Pile of Leaves" | 4481 | 
| nebbiolo2 | Linux (Ubuntu 24.04.1 LTS) | x86_64 | 4.4.2 (2024-10-31) -- "Pile of Leaves" | 4479 | 
| palomino8 | Windows Server 2022 Datacenter | x64 | 4.4.2 (2024-10-31 ucrt) -- "Pile of Leaves" | 4359 | 
| lconway | macOS 12.7.1 Monterey | x86_64 | 4.4.1 (2024-06-14) -- "Race for Your Life" | 4539 | 
| kunpeng2 | Linux (openEuler 22.03 LTS-SP1) | aarch64 | 4.4.1 (2024-06-14) -- "Race for Your Life" | 4493 | 
| Click on any hostname to see more info about the system (e.g. compilers) (*) as reported by 'uname -p', except on Windows and Mac OS X | ||||
| Package 2037/2289 | Hostname | OS / Arch | INSTALL | BUILD | CHECK | BUILD BIN | ||||||||
| spkTools 1.62.0  (landing page) Matthew N McCall 
  | teran2 | Linux (Ubuntu 24.04.1 LTS) / x86_64 | OK | OK | OK | |||||||||
| nebbiolo2 | Linux (Ubuntu 24.04.1 LTS) / x86_64 | OK | OK | OK | ||||||||||
| palomino8 | Windows Server 2022 Datacenter / x64 | OK | OK | OK | OK | |||||||||
| lconway | macOS 12.7.1 Monterey / x86_64 | OK | OK | OK | OK | |||||||||
| kunpeng2 | Linux (openEuler 22.03 LTS-SP1) / aarch64 | OK | OK | OK | ||||||||||
| 
To the developers/maintainers of the spkTools package: - Allow up to 24 hours (and sometimes 48 hours) for your latest push to git@git.bioconductor.org:packages/spkTools.git to reflect on this report. See Troubleshooting Build Report for more information. - Use the following Renviron settings to reproduce errors and warnings. - If 'R CMD check' started to fail recently on the Linux builder(s) over a missing dependency, add the missing dependency to 'Suggests:' in your DESCRIPTION file. See Renviron.bioc for more information.  | 
| Package: spkTools | 
| Version: 1.62.0 | 
| Command: /home/biocbuild/bbs-3.20-bioc/R/bin/R CMD check --install=check:spkTools.install-out.txt --library=/home/biocbuild/bbs-3.20-bioc/R/site-library --timings spkTools_1.62.0.tar.gz | 
| StartedAt: 2024-11-20 10:10:29 -0500 (Wed, 20 Nov 2024) | 
| EndedAt: 2024-11-20 10:11:37 -0500 (Wed, 20 Nov 2024) | 
| EllapsedTime: 68.1 seconds | 
| RetCode: 0 | 
| Status: OK | 
| CheckDir: spkTools.Rcheck | 
| Warnings: 0 | 
##############################################################################
##############################################################################
###
### Running command:
###
###   /home/biocbuild/bbs-3.20-bioc/R/bin/R CMD check --install=check:spkTools.install-out.txt --library=/home/biocbuild/bbs-3.20-bioc/R/site-library --timings spkTools_1.62.0.tar.gz
###
##############################################################################
##############################################################################
* using log directory ‘/media/volume/teran2_disk/biocbuild/bbs-3.20-bioc/meat/spkTools.Rcheck’
* using R version 4.4.2 (2024-10-31)
* using platform: x86_64-pc-linux-gnu
* R was compiled by
    gcc (Ubuntu 13.2.0-23ubuntu4) 13.2.0
    GNU Fortran (Ubuntu 13.2.0-23ubuntu4) 13.2.0
* running under: Ubuntu 24.04.1 LTS
* using session charset: UTF-8
* checking for file ‘spkTools/DESCRIPTION’ ... OK
* this is package ‘spkTools’ version ‘1.62.0’
* checking package namespace information ... OK
* checking package dependencies ... OK
* checking if this is a source package ... OK
* checking if there is a namespace ... OK
* checking for hidden files and directories ... OK
* checking for portable file names ... OK
* checking for sufficient/correct file permissions ... OK
* checking whether package ‘spkTools’ can be installed ... OK
* checking installed package size ... OK
* checking package directory ... OK
* checking ‘build’ directory ... OK
* checking DESCRIPTION meta-information ... NOTE
Package listed in more than one of Depends, Imports, Suggests, Enhances:
  ‘Biobase’
A package should be listed in only one of these fields.
* checking top-level files ... OK
* checking for left-over files ... OK
* checking index information ... OK
* checking package subdirectories ... OK
* checking code files for non-ASCII characters ... OK
* checking R files for syntax errors ... OK
* checking whether the package can be loaded ... OK
* checking whether the package can be loaded with stated dependencies ... OK
* checking whether the package can be unloaded cleanly ... OK
* checking whether the namespace can be loaded with stated dependencies ... OK
* checking whether the namespace can be unloaded cleanly ... OK
* checking loading without being on the library search path ... OK
* checking dependencies in R code ... OK
* checking S3 generic/method consistency ... OK
* checking replacement functions ... OK
* checking foreign function calls ... OK
* checking R code for possible problems ... OK
* checking Rd files ... OK
* checking Rd metadata ... OK
* checking Rd cross-references ... OK
* checking for missing documentation entries ... OK
* checking for code/documentation mismatches ... OK
* checking Rd \usage sections ... OK
* checking Rd contents ... OK
* checking for unstated dependencies in examples ... OK
* checking contents of ‘data’ directory ... OK
* checking data for non-ASCII characters ... OK
* checking data for ASCII and uncompressed saves ... OK
* checking files in ‘vignettes’ ... OK
* checking examples ... OK
Examples with CPU (user + system) or elapsed time > 5s
           user system elapsed
spkTools 17.048  0.064  17.141
spkAll   16.514  0.018  16.549
spkGNN    5.298  0.014   5.315
* checking for unstated dependencies in vignettes ... OK
* checking package vignettes ... OK
* checking re-building of vignette outputs ... OK
* checking PDF version of manual ... OK
* DONE
Status: 1 NOTE
See
  ‘/media/volume/teran2_disk/biocbuild/bbs-3.20-bioc/meat/spkTools.Rcheck/00check.log’
for details.
spkTools.Rcheck/00install.out
############################################################################## ############################################################################## ### ### Running command: ### ### /home/biocbuild/bbs-3.20-bioc/R/bin/R CMD INSTALL spkTools ### ############################################################################## ############################################################################## * installing to library ‘/media/volume/teran2_disk/biocbuild/bbs-3.20-bioc/R/site-library’ * installing *source* package ‘spkTools’ ... ** using staged installation ** R ** data ** byte-compile and prepare package for lazy loading ** help *** installing help indices ** building package indices ** installing vignettes ** testing if installed package can be loaded from temporary location ** testing if installed package can be loaded from final location ** testing if installed package keeps a record of temporary installation path * DONE (spkTools)
spkTools.Rcheck/spkTools-Ex.timings
| name | user | system | elapsed | |
| SpikeInExpressSet-class | 0.179 | 0.026 | 0.205 | |
| plotSpkBox | 0.501 | 0.020 | 0.521 | |
| spkAccSD | 0.097 | 0.008 | 0.106 | |
| spkAll | 16.514 | 0.018 | 16.549 | |
| spkAnova | 0.044 | 0.000 | 0.045 | |
| spkBal | 0.038 | 0.000 | 0.039 | |
| spkBox | 0.495 | 0.056 | 0.553 | |
| spkDensity | 0.121 | 0.004 | 0.125 | |
| spkGNN | 5.298 | 0.014 | 5.315 | |
| spkMA | 0.856 | 0.002 | 0.858 | |
| spkPair | 0.043 | 0.001 | 0.045 | |
| spkPairNS | 0.038 | 0.002 | 0.041 | |
| spkPot | 0.508 | 0.003 | 0.513 | |
| spkQuantile | 0.069 | 0.001 | 0.070 | |
| spkSlope | 0.068 | 0.000 | 0.068 | |
| spkTools | 17.048 | 0.064 | 17.141 | |
| spkVar | 0.036 | 0.000 | 0.037 | |
| summarySpkBox | 0.534 | 0.005 | 0.539 | |