| Back to Multiple platform build/check report for BioC 3.20: simplified long |
|
This page was generated on 2024-11-20 12:08 -0500 (Wed, 20 Nov 2024).
| Hostname | OS | Arch (*) | R version | Installed pkgs |
|---|---|---|---|---|
| teran2 | Linux (Ubuntu 24.04.1 LTS) | x86_64 | 4.4.2 (2024-10-31) -- "Pile of Leaves" | 4481 |
| nebbiolo2 | Linux (Ubuntu 24.04.1 LTS) | x86_64 | 4.4.2 (2024-10-31) -- "Pile of Leaves" | 4479 |
| palomino8 | Windows Server 2022 Datacenter | x64 | 4.4.2 (2024-10-31 ucrt) -- "Pile of Leaves" | 4359 |
| lconway | macOS 12.7.1 Monterey | x86_64 | 4.4.1 (2024-06-14) -- "Race for Your Life" | 4539 |
| kunpeng2 | Linux (openEuler 22.03 LTS-SP1) | aarch64 | 4.4.1 (2024-06-14) -- "Race for Your Life" | 4493 |
| Click on any hostname to see more info about the system (e.g. compilers) (*) as reported by 'uname -p', except on Windows and Mac OS X | ||||
| Package 1957/2289 | Hostname | OS / Arch | INSTALL | BUILD | CHECK | BUILD BIN | ||||||||
| signeR 2.8.0 (landing page) Renan Valieris
| teran2 | Linux (Ubuntu 24.04.1 LTS) / x86_64 | OK | OK | OK | |||||||||
| nebbiolo2 | Linux (Ubuntu 24.04.1 LTS) / x86_64 | OK | OK | OK | ||||||||||
| palomino8 | Windows Server 2022 Datacenter / x64 | ERROR | ERROR | skipped | skipped | |||||||||
| lconway | macOS 12.7.1 Monterey / x86_64 | OK | OK | OK | OK | |||||||||
| kunpeng2 | Linux (openEuler 22.03 LTS-SP1) / aarch64 | OK | OK | OK | ||||||||||
|
To the developers/maintainers of the signeR package: - Allow up to 24 hours (and sometimes 48 hours) for your latest push to git@git.bioconductor.org:packages/signeR.git to reflect on this report. See Troubleshooting Build Report for more information. - Use the following Renviron settings to reproduce errors and warnings. - If 'R CMD check' started to fail recently on the Linux builder(s) over a missing dependency, add the missing dependency to 'Suggests:' in your DESCRIPTION file. See Renviron.bioc for more information. - See Martin Grigorov's blog post for how to debug Linux ARM64 related issues on a x86_64 host. |
| Package: signeR |
| Version: 2.8.0 |
| Command: /home/biocbuild/R/R/bin/R CMD check --install=check:signeR.install-out.txt --library=/home/biocbuild/R/R/site-library --no-vignettes --timings signeR_2.8.0.tar.gz |
| StartedAt: 2024-11-20 12:29:22 -0000 (Wed, 20 Nov 2024) |
| EndedAt: 2024-11-20 12:38:20 -0000 (Wed, 20 Nov 2024) |
| EllapsedTime: 538.9 seconds |
| RetCode: 0 |
| Status: OK |
| CheckDir: signeR.Rcheck |
| Warnings: 0 |
##############################################################################
##############################################################################
###
### Running command:
###
### /home/biocbuild/R/R/bin/R CMD check --install=check:signeR.install-out.txt --library=/home/biocbuild/R/R/site-library --no-vignettes --timings signeR_2.8.0.tar.gz
###
##############################################################################
##############################################################################
* using log directory ‘/home/biocbuild/bbs-3.20-bioc/meat/signeR.Rcheck’
* using R version 4.4.1 (2024-06-14)
* using platform: aarch64-unknown-linux-gnu
* R was compiled by
gcc (GCC) 12.2.1 20220819 (openEuler 12.2.1-14)
GNU Fortran (GCC) 10.3.1
* running under: openEuler 22.03 (LTS-SP1)
* using session charset: UTF-8
* using option ‘--no-vignettes’
* checking for file ‘signeR/DESCRIPTION’ ... OK
* checking extension type ... Package
* this is package ‘signeR’ version ‘2.8.0’
* package encoding: UTF-8
* checking package namespace information ... OK
* checking package dependencies ... OK
* checking if this is a source package ... OK
* checking if there is a namespace ... OK
* checking for hidden files and directories ... OK
* checking for portable file names ... OK
* checking for sufficient/correct file permissions ... OK
* checking whether package ‘signeR’ can be installed ... OK
* used C compiler: ‘gcc (conda-forge gcc 14.2.0-1) 14.2.0’
* used C++ compiler: ‘g++ (conda-forge gcc 14.2.0-1) 14.2.0’
* checking C++ specification ... NOTE
Specified C++11: please drop specification unless essential
* checking installed package size ... OK
* checking package directory ... OK
* checking ‘build’ directory ... OK
* checking DESCRIPTION meta-information ... OK
* checking top-level files ... OK
* checking for left-over files ... OK
* checking index information ... OK
* checking package subdirectories ... OK
* checking code files for non-ASCII characters ... OK
* checking R files for syntax errors ... OK
* checking whether the package can be loaded ... OK
* checking whether the package can be loaded with stated dependencies ... OK
* checking whether the package can be unloaded cleanly ... OK
* checking whether the namespace can be loaded with stated dependencies ... OK
* checking whether the namespace can be unloaded cleanly ... OK
* checking loading without being on the library search path ... OK
* checking whether startup messages can be suppressed ... OK
* checking dependencies in R code ... OK
* checking S3 generic/method consistency ... OK
* checking replacement functions ... OK
* checking foreign function calls ... OK
* checking R code for possible problems ... NOTE
covariate: no visible binding for global variable ‘.’
explorepage: no visible binding for global variable ‘.’
genCountMatrixFromMAF: no visible binding for global variable
‘Variant_Type’
genCountMatrixFromMAF: no visible binding for global variable
‘Reference_Allele’
genCountMatrixFromMAF: no visible binding for global variable
‘Tumor_Seq_Allele2’
genCountMatrixFromMAF: no visible binding for global variable
‘Tumor_Seq_Allele1’
genCountMatrixFromVcf: no visible global function definition for
‘alt<-’
signeRFlow : server : loadSig: no visible binding for global variable
‘sig’
signeRFlow : server : loadSig: no visible binding for global variable
‘sig_test’
tcgaexplorer : get_similarities_tcga: no visible binding for global
variable ‘project’
tcgaexplorer: no visible binding for global variable ‘.’
DiffExp,SignExp-character: no visible binding for global variable ‘fc’
ExposureBarplot,SignExp: no visible binding for global variable
‘Samples’
ExposureBarplot,SignExp: no visible binding for global variable
‘Signatures’
ExposureBoxplot,SignExp: no visible binding for global variable
‘Signatures’
ExposureBoxplot,SignExp: no visible binding for global variable
‘Samples’
ExposureClassify,ANY-character: no visible binding for global variable
‘Col’
ExposureClassify,ANY-character: no visible binding for global variable
‘Frequency’
ExposureClassify,ANY-character: no visible binding for global variable
‘Row’
ExposureClassifyCV,ANY-character: no visible binding for global
variable ‘Col’
ExposureClassifyCV,ANY-character: no visible binding for global
variable ‘Frequency’
ExposureClassifyCV,ANY-character: no visible binding for global
variable ‘Row’
ExposureCorrelation,SignExp-numeric: no visible binding for global
variable ‘Feature’
ExposureCorrelation,SignExp-numeric: no visible binding for global
variable ‘exposure’
ExposureCorrelation,matrix-numeric: no visible binding for global
variable ‘Feature’
ExposureCorrelation,matrix-numeric: no visible binding for global
variable ‘exposure’
Undefined global functions or variables:
. Col Feature Frequency Reference_Allele Row Samples Signatures
Tumor_Seq_Allele1 Tumor_Seq_Allele2 Variant_Type alt<- exposure fc
project sig sig_test
* checking Rd files ... NOTE
prepare_Rd: cosmic_data.Rd:91-93: Dropping empty section \details
prepare_Rd: cosmic_data.Rd:98-100: Dropping empty section \references
prepare_Rd: cosmic_data.Rd:101-102: Dropping empty section \examples
prepare_Rd: tcga_similarities.Rd:96-98: Dropping empty section \details
prepare_Rd: tcga_similarities.Rd:99-101: Dropping empty section \source
prepare_Rd: tcga_similarities.Rd:102-104: Dropping empty section \references
prepare_Rd: tcga_similarities.Rd:105-106: Dropping empty section \examples
prepare_Rd: tcga_tumors.Rd:18-20: Dropping empty section \details
prepare_Rd: tcga_tumors.Rd:21-23: Dropping empty section \source
prepare_Rd: tcga_tumors.Rd:24-26: Dropping empty section \references
prepare_Rd: tcga_tumors.Rd:27-28: Dropping empty section \examples
* checking Rd metadata ... OK
* checking Rd cross-references ... OK
* checking for missing documentation entries ... OK
* checking for code/documentation mismatches ... OK
* checking Rd \usage sections ... OK
* checking Rd contents ... OK
* checking for unstated dependencies in examples ... OK
* checking contents of ‘data’ directory ... OK
* checking data for non-ASCII characters ... OK
* checking LazyData ... OK
* checking data for ASCII and uncompressed saves ... OK
* checking R/sysdata.rda ... OK
* checking line endings in C/C++/Fortran sources/headers ... OK
* checking line endings in Makefiles ... OK
* checking compilation flags in Makevars ... OK
* checking for GNU extensions in Makefiles ... OK
* checking for portable use of $(BLAS_LIBS) and $(LAPACK_LIBS) ... OK
* checking use of PKG_*FLAGS in Makefiles ... OK
* checking compiled code ... NOTE
Note: information on .o files is not available
* checking files in ‘vignettes’ ... OK
* checking examples ... OK
Examples with CPU (user + system) or elapsed time > 5s
user system elapsed
ExposureClassifyCV 7.867 0.235 8.119
ExposureFuzzyClustering 7.951 0.066 8.027
ExposureClassify 5.319 0.244 5.573
ExposureSurvModel 5.053 0.069 5.137
* checking for unstated dependencies in vignettes ... OK
* checking package vignettes ... OK
* checking running R code from vignettes ... SKIPPED
* checking re-building of vignette outputs ... SKIPPED
* checking PDF version of manual ... OK
* DONE
Status: 4 NOTEs
See
‘/home/biocbuild/bbs-3.20-bioc/meat/signeR.Rcheck/00check.log’
for details.
signeR.Rcheck/00install.out
##############################################################################
##############################################################################
###
### Running command:
###
### /home/biocbuild/R/R/bin/R CMD INSTALL signeR
###
##############################################################################
##############################################################################
* installing to library ‘/home/biocbuild/R/R-4.4.1/site-library’
* installing *source* package ‘signeR’ ...
** using staged installation
** libs
using C compiler: ‘gcc (conda-forge gcc 14.2.0-1) 14.2.0’
using C++ compiler: ‘g++ (conda-forge gcc 14.2.0-1) 14.2.0’
using C++11
g++ -std=gnu++11 -I"/home/biocbuild/R/R-4.4.1/include" -DNDEBUG -I'/home/biocbuild/R/R-4.4.1/site-library/Rcpp/include' -I'/home/biocbuild/R/R-4.4.1/site-library/RcppArmadillo/include' -I/usr/local/include -fPIC -g -O2 -Wall -c RcppExports.cpp -o RcppExports.o
g++ -std=gnu++11 -I"/home/biocbuild/R/R-4.4.1/include" -DNDEBUG -I'/home/biocbuild/R/R-4.4.1/site-library/Rcpp/include' -I'/home/biocbuild/R/R-4.4.1/site-library/RcppArmadillo/include' -I/usr/local/include -fPIC -g -O2 -Wall -c fuzzy.cpp -o fuzzy.o
fuzzy.cpp: In function 'Rcpp::List FuzzyClusterCpp(arma::cube, arma::mat, int, int, double)':
fuzzy.cpp:143:11: warning: comparison of integer expressions of different signedness: 'int' and 'size_t' {aka 'long unsigned int'} [-Wsign-compare]
143 | if(C>=j) C = j-1;
| ~^~~
g++ -std=gnu++11 -I"/home/biocbuild/R/R-4.4.1/include" -DNDEBUG -I'/home/biocbuild/R/R-4.4.1/site-library/Rcpp/include' -I'/home/biocbuild/R/R-4.4.1/site-library/RcppArmadillo/include' -I/usr/local/include -fPIC -g -O2 -Wall -c gibbs_2.cpp -o gibbs_2.o
gcc -I"/home/biocbuild/R/R-4.4.1/include" -DNDEBUG -I'/home/biocbuild/R/R-4.4.1/site-library/Rcpp/include' -I'/home/biocbuild/R/R-4.4.1/site-library/RcppArmadillo/include' -I/usr/local/include -fPIC -g -O2 -Wall -c signeR_init.c -o signeR_init.o
g++ -std=gnu++11 -shared -L/home/biocbuild/R/R-4.4.1/lib -L/usr/local/lib -o signeR.so RcppExports.o fuzzy.o gibbs_2.o signeR_init.o -Wl,-S -lopenblas -L/usr/lib/gcc/aarch64-linux-gnu/10.3.1 -lgfortran -lm -L/home/biocbuild/R/R-4.4.1/lib -lR
installing to /home/biocbuild/R/R-4.4.1/site-library/00LOCK-signeR/00new/signeR/libs
** R
** data
*** moving datasets to lazyload DB
** inst
** byte-compile and prepare package for lazy loading
** help
*** installing help indices
** building package indices
** installing vignettes
** testing if installed package can be loaded from temporary location
** checking absolute paths in shared objects and dynamic libraries
** testing if installed package can be loaded from final location
** testing if installed package keeps a record of temporary installation path
* DONE (signeR)
signeR.Rcheck/signeR-Ex.timings
| name | user | system | elapsed | |
| Diffexp | 4.211 | 0.275 | 4.494 | |
| ExposureClassify | 5.319 | 0.244 | 5.573 | |
| ExposureClassifyCV | 7.867 | 0.235 | 8.119 | |
| ExposureCorrelation | 2.674 | 0.120 | 2.800 | |
| ExposureFuzzyClustering | 7.951 | 0.066 | 8.027 | |
| ExposureGLM | 2.174 | 0.112 | 2.291 | |
| ExposureHierarchicalClustering | 1.926 | 0.009 | 1.939 | |
| ExposureSurvModel | 5.053 | 0.069 | 5.137 | |
| ExposureSurvival | 2.546 | 0.032 | 2.585 | |
| genMatrix | 3.376 | 0.151 | 3.487 | |
| methods | 3.436 | 0.088 | 3.531 | |
| plots | 2.758 | 0.032 | 2.795 | |
| signeR-package | 0.002 | 0.000 | 0.001 | |
| signeR | 0.001 | 0.000 | 0.001 | |