| Back to Multiple platform build/check report for BioC 3.20: simplified long | 
  | 
This page was generated on 2025-04-02 19:36 -0400 (Wed, 02 Apr 2025).
| Hostname | OS | Arch (*) | R version | Installed pkgs | 
|---|---|---|---|---|
| nebbiolo2 | Linux (Ubuntu 24.04.1 LTS) | x86_64 | 4.4.3 (2025-02-28) -- "Trophy Case" | 4764 | 
| palomino8 | Windows Server 2022 Datacenter | x64 | 4.4.3 (2025-02-28 ucrt) -- "Trophy Case" | 4495 | 
| merida1 | macOS 12.7.5 Monterey | x86_64 | 4.4.3 (2025-02-28) -- "Trophy Case" | 4522 | 
| kjohnson1 | macOS 13.6.6 Ventura | arm64 | 4.4.3 (2025-02-28) -- "Trophy Case" | 4449 | 
| taishan | Linux (openEuler 24.03 LTS) | aarch64 | 4.4.3 (2025-02-28) -- "Trophy Case" | 4426 | 
| Click on any hostname to see more info about the system (e.g. compilers) (*) as reported by 'uname -p', except on Windows and Mac OS X | ||||
| Package 1956/2289 | Hostname | OS / Arch | INSTALL | BUILD | CHECK | BUILD BIN | ||||||||
| signatureSearch 1.20.0  (landing page) Brendan Gongol 
  | nebbiolo2 | Linux (Ubuntu 24.04.1 LTS) / x86_64 | OK | OK | OK | |||||||||
| palomino8 | Windows Server 2022 Datacenter / x64 | OK | OK | OK | OK | |||||||||
| merida1 | macOS 12.7.5 Monterey / x86_64 | OK | OK | OK | OK | |||||||||
| kjohnson1 | macOS 13.6.6 Ventura / arm64 | OK | OK | OK | OK | |||||||||
| taishan | Linux (openEuler 24.03 LTS) / aarch64 | OK | OK | OK | ||||||||||
| 
To the developers/maintainers of the signatureSearch package: - Allow up to 24 hours (and sometimes 48 hours) for your latest push to git@git.bioconductor.org:packages/signatureSearch.git to reflect on this report. See Troubleshooting Build Report for more information. - Use the following Renviron settings to reproduce errors and warnings. - If 'R CMD check' started to fail recently on the Linux builder(s) over a missing dependency, add the missing dependency to 'Suggests:' in your DESCRIPTION file. See Renviron.bioc for more information. - See Martin Grigorov's blog post for how to debug Linux ARM64 related issues on a x86_64 host.  | 
| Package: signatureSearch | 
| Version: 1.20.0 | 
| Command: /home/biocbuild/R/R/bin/R CMD check --install=check:signatureSearch.install-out.txt --library=/home/biocbuild/R/R/site-library --no-vignettes --timings signatureSearch_1.20.0.tar.gz | 
| StartedAt: 2025-04-01 10:44:38 -0000 (Tue, 01 Apr 2025) | 
| EndedAt: 2025-04-01 10:53:56 -0000 (Tue, 01 Apr 2025) | 
| EllapsedTime: 557.8 seconds | 
| RetCode: 0 | 
| Status: OK | 
| CheckDir: signatureSearch.Rcheck | 
| Warnings: 0 | 
##############################################################################
##############################################################################
###
### Running command:
###
###   /home/biocbuild/R/R/bin/R CMD check --install=check:signatureSearch.install-out.txt --library=/home/biocbuild/R/R/site-library --no-vignettes --timings signatureSearch_1.20.0.tar.gz
###
##############################################################################
##############################################################################
* using log directory ‘/home/biocbuild/bbs-3.20-bioc/meat/signatureSearch.Rcheck’
* using R version 4.4.3 (2025-02-28)
* using platform: aarch64-unknown-linux-gnu
* R was compiled by
    aarch64-unknown-linux-gnu-gcc (GCC) 14.2.0
    GNU Fortran (GCC) 14.2.0
* running under: openEuler 24.03 (LTS)
* using session charset: UTF-8
* using option ‘--no-vignettes’
* checking for file ‘signatureSearch/DESCRIPTION’ ... OK
* this is package ‘signatureSearch’ version ‘1.20.0’
* package encoding: UTF-8
* checking package namespace information ... OK
* checking package dependencies ... OK
* checking if this is a source package ... OK
* checking if there is a namespace ... OK
* checking for hidden files and directories ... OK
* checking for portable file names ... OK
* checking for sufficient/correct file permissions ... OK
* checking whether package ‘signatureSearch’ can be installed ... OK
* used C compiler: ‘aarch64-unknown-linux-gnu-gcc (GCC) 14.2.0’
* used C++ compiler: ‘aarch64-unknown-linux-gnu-g++ (GCC) 14.2.0’
* checking C++ specification ... NOTE
  Specified C++11: please drop specification unless essential
* checking installed package size ... NOTE
  installed size is 88.7Mb
  sub-directories of 1Mb or more:
    R        82.8Mb
    data      2.0Mb
    extdata   1.9Mb
    libs      1.8Mb
* checking package directory ... OK
* checking ‘build’ directory ... OK
* checking DESCRIPTION meta-information ... OK
* checking top-level files ... OK
* checking for left-over files ... OK
* checking index information ... OK
* checking package subdirectories ... OK
* checking code files for non-ASCII characters ... OK
* checking R files for syntax errors ... OK
* checking whether the package can be loaded ... OK
* checking whether the package can be loaded with stated dependencies ... OK
* checking whether the package can be unloaded cleanly ... OK
* checking whether the namespace can be loaded with stated dependencies ... OK
* checking whether the namespace can be unloaded cleanly ... OK
* checking loading without being on the library search path ... OK
* checking dependencies in R code ... OK
* checking S3 generic/method consistency ... OK
* checking replacement functions ... OK
* checking foreign function calls ... OK
* checking R code for possible problems ... OK
* checking Rd files ... OK
* checking Rd metadata ... OK
* checking Rd cross-references ... OK
* checking for missing documentation entries ... OK
* checking for code/documentation mismatches ... OK
* checking Rd \usage sections ... OK
* checking Rd contents ... OK
* checking for unstated dependencies in examples ... OK
* checking contents of ‘data’ directory ... OK
* checking data for non-ASCII characters ... NOTE
  Note: found 147 marked UTF-8 strings
* checking data for ASCII and uncompressed saves ... OK
* checking R/sysdata.rda ... OK
* checking line endings in C/C++/Fortran sources/headers ... OK
* checking compiled code ... NOTE
Note: information on .o files is not available
* checking files in ‘vignettes’ ... OK
* checking examples ... OK
Examples with CPU (user + system) or elapsed time > 5s
                user system elapsed
set_readable  80.198  1.215  83.806
runWF          8.376  1.299  18.789
rand_query_ES  6.869  2.685   9.953
addGESSannot   2.752  0.080   6.573
* checking for unstated dependencies in ‘tests’ ... OK
* checking tests ...
  Running ‘testthat.R’
 OK
* checking for unstated dependencies in vignettes ... OK
* checking package vignettes ... OK
* checking running R code from vignettes ... SKIPPED
* checking re-building of vignette outputs ... SKIPPED
* checking PDF version of manual ... OK
* DONE
Status: 4 NOTEs
See
  ‘/home/biocbuild/bbs-3.20-bioc/meat/signatureSearch.Rcheck/00check.log’
for details.
signatureSearch.Rcheck/00install.out
##############################################################################
##############################################################################
###
### Running command:
###
###   /home/biocbuild/R/R/bin/R CMD INSTALL signatureSearch
###
##############################################################################
##############################################################################
* installing to library ‘/home/biocbuild/R/R-4.4.3/site-library’
* installing *source* package ‘signatureSearch’ ...
** using staged installation
** libs
using C compiler: ‘aarch64-unknown-linux-gnu-gcc (GCC) 14.2.0’
using C++ compiler: ‘aarch64-unknown-linux-gnu-g++ (GCC) 14.2.0’
using C++11
/opt/ohpc/pub/compiler/gcc/14.2.0/bin/aarch64-unknown-linux-gnu-g++ -std=gnu++11 -I"/home/biocbuild/R/R-4.4.3/include" -DNDEBUG  -I'/home/biocbuild/R/R-4.4.3/site-library/Rcpp/include' -I/usr/local/include    -fPIC  -g -O2  -Wall  -c RcppExports.cpp -o RcppExports.o
/opt/ohpc/pub/compiler/gcc/14.2.0/bin/aarch64-unknown-linux-gnu-g++ -std=gnu++11 -I"/home/biocbuild/R/R-4.4.3/include" -DNDEBUG  -I'/home/biocbuild/R/R-4.4.3/site-library/Rcpp/include' -I/usr/local/include    -fPIC  -g -O2  -Wall  -c fastGSEA.cpp -o fastGSEA.o
fastGSEA.cpp: In function ‘Rcpp::NumericVector calcGseaStatBatchCpp(const Rcpp::NumericVector&, const Rcpp::List&, const Rcpp::IntegerVector&)’:
fastGSEA.cpp:444:27: warning: comparison of integer expressions of different signedness: ‘int’ and ‘std::vector<int>::size_type’ {aka ‘long unsigned int’} [-Wsign-compare]
  444 |         for (int j = 0; j < S.size(); ++j) {
      |                         ~~^~~~~~~~~~
/opt/ohpc/pub/compiler/gcc/14.2.0/bin/aarch64-unknown-linux-gnu-gcc -I"/home/biocbuild/R/R-4.4.3/include" -DNDEBUG  -I'/home/biocbuild/R/R-4.4.3/site-library/Rcpp/include' -I/usr/local/include    -fPIC  -g -O2  -Wall -c fgsea_init.c -o fgsea_init.o
/opt/ohpc/pub/compiler/gcc/14.2.0/bin/aarch64-unknown-linux-gnu-g++ -std=gnu++11 -shared -L/home/biocbuild/R/R-4.4.3/lib -L/usr/local/lib -o signatureSearch.so RcppExports.o fastGSEA.o fgsea_init.o -L/home/biocbuild/R/R-4.4.3/lib -lR
installing to /home/biocbuild/R/R-4.4.3/site-library/00LOCK-signatureSearch/00new/signatureSearch/libs
** R
** data
** inst
** byte-compile and prepare package for lazy loading
** help
*** installing help indices
** building package indices
** installing vignettes
** testing if installed package can be loaded from temporary location
** checking absolute paths in shared objects and dynamic libraries
** testing if installed package can be loaded from final location
** testing if installed package keeps a record of temporary installation path
* DONE (signatureSearch)
signatureSearch.Rcheck/tests/testthat.Rout
R version 4.4.3 (2025-02-28) -- "Trophy Case"
Copyright (C) 2025 The R Foundation for Statistical Computing
Platform: aarch64-unknown-linux-gnu
R is free software and comes with ABSOLUTELY NO WARRANTY.
You are welcome to redistribute it under certain conditions.
Type 'license()' or 'licence()' for distribution details.
R is a collaborative project with many contributors.
Type 'contributors()' for more information and
'citation()' on how to cite R or R packages in publications.
Type 'demo()' for some demos, 'help()' for on-line help, or
'help.start()' for an HTML browser interface to help.
Type 'q()' to quit R.
> # library(testthat)
> # library(signatureSearch)
> # 
> # test_check("signatureSearch")
> 
> proc.time()
   user  system elapsed 
  0.187   0.041   0.212 
signatureSearch.Rcheck/signatureSearch-Ex.timings
| name | user | system | elapsed | |
| addGESSannot | 2.752 | 0.080 | 6.573 | |
| addMOA | 0.307 | 0.000 | 0.318 | |
| add_pcid | 0.219 | 0.000 | 0.219 | |
| append2H5 | 0.094 | 0.004 | 0.098 | |
| build_custom_db | 1.156 | 0.040 | 1.198 | |
| cellNtestPlot | 0.829 | 0.024 | 2.856 | |
| cell_info | 0.024 | 0.000 | 0.024 | |
| cell_info2 | 0.041 | 0.000 | 0.040 | |
| chembl_moa_list | 0.008 | 0.000 | 0.008 | |
| clue_moa_list | 0.009 | 0.000 | 0.009 | |
| comp_fea_res | 0.220 | 0.003 | 0.223 | |
| create_empty_h5 | 0.028 | 0.000 | 0.028 | |
| dim-methods | 0.008 | 0.000 | 0.008 | |
| drug_cell_ranks | 0.011 | 0.000 | 0.011 | |
| drugs-methods | 0.002 | 0.000 | 0.003 | |
| drugs10 | 0.001 | 0.000 | 0.002 | |
| dtnetplot | 2.072 | 0.079 | 4.529 | |
| enrichGO2 | 0.000 | 0.000 | 0.001 | |
| enrichKEGG2 | 0 | 0 | 0 | |
| enrichMOA | 0.039 | 0.003 | 0.045 | |
| enrichReactome | 0 | 0 | 0 | |
| fea | 0.002 | 0.000 | 0.002 | |
| feaResult | 0.002 | 0.000 | 0.002 | |
| gctx2h5 | 0.417 | 0.052 | 0.475 | |
| gess | 0.001 | 0.000 | 0.001 | |
| gessResult | 0.002 | 0.000 | 0.002 | |
| gess_res_vis | 0.486 | 0.000 | 0.486 | |
| getSig | 1.526 | 0.048 | 4.305 | |
| getTreats | 0.605 | 0.024 | 1.955 | |
| get_targets | 2.127 | 0.076 | 4.572 | |
| gmt2h5 | 0.117 | 0.008 | 0.127 | |
| gseGO2 | 0.002 | 0.000 | 0.002 | |
| gseKEGG2 | 0.01 | 0.00 | 0.01 | |
| gseReactome | 0.010 | 0.000 | 0.009 | |
| head-methods | 0.007 | 0.000 | 0.007 | |
| lincs_expr_inst_info | 0.051 | 0.004 | 0.054 | |
| lincs_pert_info | 0.295 | 0.000 | 0.295 | |
| lincs_pert_info2 | 1.265 | 0.000 | 1.267 | |
| lincs_sig_info | 0.063 | 0.000 | 0.062 | |
| list2df | 0.003 | 0.000 | 0.002 | |
| list_rev | 0.002 | 0.000 | 0.002 | |
| mabsGO | 0.002 | 0.000 | 0.002 | |
| mabsKEGG | 0.012 | 0.000 | 0.013 | |
| mabsReactome | 0.012 | 0.000 | 0.012 | |
| matrix2h5 | 0.072 | 0.000 | 0.072 | |
| meanExpr2h5 | 0.444 | 0.056 | 0.500 | |
| moa_conn | 0.034 | 0.000 | 0.034 | |
| parse_gctx | 0.210 | 0.000 | 0.211 | |
| qSig | 1.185 | 0.119 | 4.456 | |
| rand_query_ES | 6.869 | 2.685 | 9.953 | |
| read_gmt | 0.001 | 0.002 | 0.004 | |
| result-methods | 0.523 | 0.157 | 0.040 | |
| runWF | 8.376 | 1.299 | 18.789 | |
| set_readable | 80.198 | 1.215 | 83.806 | |
| show-methods | 0.041 | 0.000 | 0.041 | |
| sim_score_grp | 0.013 | 0.000 | 0.013 | |
| tail-methods | 0.004 | 0.004 | 0.008 | |
| tarReduce | 0.000 | 0.000 | 0.001 | |
| targetList | 0.000 | 0.004 | 0.004 | |
| vec_char_redu | 0.001 | 0.000 | 0.000 | |