Back to Multiple platform build/check report for BioC 3.20: simplified long |
|
This page was generated on 2025-02-06 12:09 -0500 (Thu, 06 Feb 2025).
Hostname | OS | Arch (*) | R version | Installed pkgs |
---|---|---|---|---|
nebbiolo2 | Linux (Ubuntu 24.04.1 LTS) | x86_64 | 4.4.2 (2024-10-31) -- "Pile of Leaves" | 4753 |
palomino8 | Windows Server 2022 Datacenter | x64 | 4.4.2 (2024-10-31 ucrt) -- "Pile of Leaves" | 4501 |
merida1 | macOS 12.7.5 Monterey | x86_64 | 4.4.2 (2024-10-31) -- "Pile of Leaves" | 4524 |
kjohnson1 | macOS 13.6.6 Ventura | arm64 | 4.4.2 (2024-10-31) -- "Pile of Leaves" | 4476 |
taishan | Linux (openEuler 24.03 LTS) | aarch64 | 4.4.2 (2024-10-31) -- "Pile of Leaves" | 4407 |
Click on any hostname to see more info about the system (e.g. compilers) (*) as reported by 'uname -p', except on Windows and Mac OS X |
Package 1938/2289 | Hostname | OS / Arch | INSTALL | BUILD | CHECK | BUILD BIN | ||||||||
sesame 1.24.0 (landing page) Wanding Zhou
| nebbiolo2 | Linux (Ubuntu 24.04.1 LTS) / x86_64 | OK | OK | OK | ![]() | ||||||||
palomino8 | Windows Server 2022 Datacenter / x64 | OK | OK | OK | OK | ![]() | ||||||||
merida1 | macOS 12.7.5 Monterey / x86_64 | OK | OK | OK | NA | |||||||||
kjohnson1 | macOS 13.6.6 Ventura / arm64 | OK | ERROR | skipped | skipped | |||||||||
taishan | Linux (openEuler 24.03 LTS) / aarch64 | OK | OK | OK | ||||||||||
To the developers/maintainers of the sesame package: - Allow up to 24 hours (and sometimes 48 hours) for your latest push to git@git.bioconductor.org:packages/sesame.git to reflect on this report. See Troubleshooting Build Report for more information. - Use the following Renviron settings to reproduce errors and warnings. - If 'R CMD check' started to fail recently on the Linux builder(s) over a missing dependency, add the missing dependency to 'Suggests:' in your DESCRIPTION file. See Renviron.bioc for more information. |
Package: sesame |
Version: 1.24.0 |
Command: /Library/Frameworks/R.framework/Resources/bin/R CMD check --install=check:sesame.install-out.txt --library=/Library/Frameworks/R.framework/Resources/library --no-vignettes --timings sesame_1.24.0.tar.gz |
StartedAt: 2025-02-04 10:04:19 -0500 (Tue, 04 Feb 2025) |
EndedAt: 2025-02-04 10:31:40 -0500 (Tue, 04 Feb 2025) |
EllapsedTime: 1641.0 seconds |
RetCode: 0 |
Status: OK |
CheckDir: sesame.Rcheck |
Warnings: 0 |
############################################################################## ############################################################################## ### ### Running command: ### ### /Library/Frameworks/R.framework/Resources/bin/R CMD check --install=check:sesame.install-out.txt --library=/Library/Frameworks/R.framework/Resources/library --no-vignettes --timings sesame_1.24.0.tar.gz ### ############################################################################## ############################################################################## * using log directory ‘/Users/biocbuild/bbs-3.20-bioc/meat/sesame.Rcheck’ * using R version 4.4.2 (2024-10-31) * using platform: x86_64-apple-darwin20 * R was compiled by Apple clang version 14.0.0 (clang-1400.0.29.202) GNU Fortran (GCC) 12.2.0 * running under: macOS Monterey 12.7.6 * using session charset: UTF-8 * using option ‘--no-vignettes’ * checking for file ‘sesame/DESCRIPTION’ ... OK * checking extension type ... Package * this is package ‘sesame’ version ‘1.24.0’ * package encoding: UTF-8 * checking package namespace information ... OK * checking package dependencies ... OK * checking if this is a source package ... OK * checking if there is a namespace ... OK * checking for hidden files and directories ... OK * checking for portable file names ... OK * checking for sufficient/correct file permissions ... OK * checking whether package ‘sesame’ can be installed ... OK * checking installed package size ... OK * checking package directory ... OK * checking ‘build’ directory ... OK * checking DESCRIPTION meta-information ... OK * checking top-level files ... OK * checking for left-over files ... OK * checking index information ... OK * checking package subdirectories ... OK * checking code files for non-ASCII characters ... OK * checking R files for syntax errors ... OK * checking whether the package can be loaded ... OK * checking whether the package can be loaded with stated dependencies ... OK * checking whether the package can be unloaded cleanly ... OK * checking whether the namespace can be loaded with stated dependencies ... OK * checking whether the namespace can be unloaded cleanly ... OK * checking whether startup messages can be suppressed ... OK * checking dependencies in R code ... OK * checking S3 generic/method consistency ... OK * checking replacement functions ... OK * checking foreign function calls ... OK * checking R code for possible problems ... OK * checking Rd files ... OK * checking Rd metadata ... OK * checking Rd cross-references ... OK * checking for missing documentation entries ... OK * checking for code/documentation mismatches ... OK * checking Rd \usage sections ... OK * checking Rd contents ... OK * checking for unstated dependencies in examples ... OK * checking files in ‘vignettes’ ... OK * checking examples ... OK Examples with CPU (user + system) or elapsed time > 5s user system elapsed testEnrichmentGene 66.856 4.703 74.106 imputeBetasByGenomicNeighbors 59.545 1.671 63.788 inferSex 38.361 1.399 40.966 sesameQC_calcStats 34.695 3.128 38.423 KYCG_plotMeta 32.664 1.343 38.471 sesameQC_plotHeatSNPs 30.761 2.668 33.995 KYCG_plotEnrichAll 29.605 1.667 32.516 compareMouseStrainReference 30.470 0.670 32.058 compareReference 28.488 1.219 33.142 imputeBetas 26.392 1.898 29.272 KYCG_annoProbes 23.328 1.224 26.047 diffRefSet 23.494 1.005 25.550 ELBAR 21.291 3.166 25.318 matchDesign 22.217 1.104 24.011 inferSpecies 20.764 1.071 22.570 sesameQC_plotBar 19.276 0.656 20.289 KYCG_plotMetaEnrichment 18.621 0.741 20.602 getRefSet 18.490 0.767 19.840 DML 17.289 1.728 20.674 testEnrichmentSEA 15.786 1.563 17.801 sesameQC_plotBetaByDesign 16.079 1.237 17.765 KYCG_buildGeneDBs 16.244 0.692 18.010 sdf_read_table 15.681 0.702 16.968 visualizeGene 15.523 0.723 16.587 DMR 15.215 0.403 16.474 deidentify 14.455 0.533 15.449 inferStrain 13.949 0.881 15.219 inferTissue 11.879 1.671 14.344 reIdentify 12.809 0.660 13.837 dbStats 10.818 0.892 12.493 estimateLeukocyte 10.556 0.659 11.809 dyeBiasNL 10.480 0.567 11.589 getMask 10.333 0.698 11.373 openSesame 9.675 1.345 11.655 KYCG_plotSetEnrichment 9.830 0.623 11.024 createUCSCtrack 9.685 0.522 11.209 dyeBiasCorrMostBalanced 9.440 0.418 10.311 testEnrichment 8.744 1.066 10.067 probeSuccessRate 8.477 0.803 9.484 bisConversionControl 7.380 0.337 8.103 visualizeProbes 6.500 0.304 7.064 prepSesame 6.504 0.253 6.970 noMasked 6.054 0.696 6.821 scrubSoft 5.271 1.433 6.804 KYCG_plotWaterfall 6.067 0.351 6.599 print.DMLSummary 4.809 1.402 6.673 sdf_write_table 5.797 0.361 6.411 sesameQC_rankStats 5.484 0.532 6.109 updateSigDF 5.340 0.525 5.921 parseGEOsignalMU 4.940 0.825 5.906 summaryExtractTest 4.483 1.179 5.794 totalIntensities 4.733 0.361 5.294 KYCG_getDBs 4.652 0.381 5.177 detectionPnegEcdf 4.812 0.200 5.165 dyeBiasCorr 4.580 0.321 5.138 mapToMammal40 4.335 0.444 5.160 * checking for unstated dependencies in ‘tests’ ... OK * checking tests ... Running ‘testthat.R’ OK * checking for unstated dependencies in vignettes ... OK * checking package vignettes ... OK * checking running R code from vignettes ... SKIPPED * checking re-building of vignette outputs ... SKIPPED * checking PDF version of manual ... OK * DONE Status: OK
sesame.Rcheck/00install.out
############################################################################## ############################################################################## ### ### Running command: ### ### /Library/Frameworks/R.framework/Resources/bin/R CMD INSTALL sesame ### ############################################################################## ############################################################################## * installing to library ‘/Library/Frameworks/R.framework/Versions/4.4-x86_64/Resources/library’ * installing *source* package ‘sesame’ ... ** using staged installation ** R ** inst ** byte-compile and prepare package for lazy loading ** help *** installing help indices ** building package indices ** installing vignettes ** testing if installed package can be loaded from temporary location ** testing if installed package can be loaded from final location ** testing if installed package keeps a record of temporary installation path * DONE (sesame)
sesame.Rcheck/tests/testthat.Rout
R version 4.4.2 (2024-10-31) -- "Pile of Leaves" Copyright (C) 2024 The R Foundation for Statistical Computing Platform: x86_64-apple-darwin20 R is free software and comes with ABSOLUTELY NO WARRANTY. You are welcome to redistribute it under certain conditions. Type 'license()' or 'licence()' for distribution details. R is a collaborative project with many contributors. Type 'contributors()' for more information and 'citation()' on how to cite R or R packages in publications. Type 'demo()' for some demos, 'help()' for on-line help, or 'help.start()' for an HTML browser interface to help. Type 'q()' to quit R. > library(testthat) > library(sesame) Loading required package: sesameData Loading required package: ExperimentHub Loading required package: BiocGenerics Attaching package: 'BiocGenerics' The following objects are masked from 'package:stats': IQR, mad, sd, var, xtabs The following objects are masked from 'package:base': Filter, Find, Map, Position, Reduce, anyDuplicated, aperm, append, as.data.frame, basename, cbind, colnames, dirname, do.call, duplicated, eval, evalq, get, grep, grepl, intersect, is.unsorted, lapply, mapply, match, mget, order, paste, pmax, pmax.int, pmin, pmin.int, rank, rbind, rownames, sapply, saveRDS, setdiff, table, tapply, union, unique, unsplit, which.max, which.min Loading required package: AnnotationHub Loading required package: BiocFileCache Loading required package: dbplyr Loading sesameData. ---------------------------------------------------------- | SEnsible Step-wise Analysis of DNA MEthylation (SeSAMe) | -------------------------------------------------------- | Please cache auxiliary data by "sesameDataCache()". | This needs to be done only once per SeSAMe installation. ---------------------------------------------------------- > > test_check("sesame") [ FAIL 0 | WARN 0 | SKIP 0 | PASS 5 ] > > proc.time() user system elapsed 36.082 3.336 41.949
sesame.Rcheck/sesame-Ex.timings
name | user | system | elapsed | |
BetaValueToMValue | 0.000 | 0.001 | 0.001 | |
DML | 17.289 | 1.728 | 20.674 | |
DMLpredict | 2.446 | 0.183 | 2.991 | |
DMR | 15.215 | 0.403 | 16.474 | |
ELBAR | 21.291 | 3.166 | 25.318 | |
KYCG_annoProbes | 23.328 | 1.224 | 26.047 | |
KYCG_buildGeneDBs | 16.244 | 0.692 | 18.010 | |
KYCG_getDBs | 4.652 | 0.381 | 5.177 | |
KYCG_listDBGroups | 0.474 | 0.034 | 0.523 | |
KYCG_loadDBs | 0.001 | 0.001 | 0.001 | |
KYCG_plotBar | 0.390 | 0.008 | 0.410 | |
KYCG_plotDot | 0.763 | 0.006 | 0.796 | |
KYCG_plotEnrichAll | 29.605 | 1.667 | 32.516 | |
KYCG_plotLollipop | 0.391 | 0.019 | 0.427 | |
KYCG_plotManhattan | 1.504 | 0.301 | 1.939 | |
KYCG_plotMeta | 32.664 | 1.343 | 38.471 | |
KYCG_plotMetaEnrichment | 18.621 | 0.741 | 20.602 | |
KYCG_plotPointRange | 4.053 | 0.237 | 4.517 | |
KYCG_plotSetEnrichment | 9.830 | 0.623 | 11.024 | |
KYCG_plotVolcano | 0.329 | 0.005 | 0.342 | |
KYCG_plotWaterfall | 6.067 | 0.351 | 6.599 | |
MValueToBetaValue | 0.000 | 0.001 | 0.001 | |
SigDF | 0.543 | 0.086 | 0.646 | |
addMask | 0.142 | 0.001 | 0.151 | |
aggregateTestEnrichments | 2.979 | 0.082 | 3.158 | |
betasCollapseToPfx | 0.027 | 0.001 | 0.028 | |
bisConversionControl | 7.380 | 0.337 | 8.103 | |
calcEffectSize | 2.063 | 0.180 | 2.318 | |
checkLevels | 4.326 | 0.366 | 4.863 | |
cnSegmentation | 0.539 | 0.107 | 0.681 | |
compareMouseStrainReference | 30.470 | 0.670 | 32.058 | |
compareMouseTissueReference | 0 | 0 | 0 | |
compareReference | 28.488 | 1.219 | 33.142 | |
controls | 3.559 | 0.364 | 4.108 | |
createUCSCtrack | 9.685 | 0.522 | 11.209 | |
dbStats | 10.818 | 0.892 | 12.493 | |
deidentify | 14.455 | 0.533 | 15.449 | |
detectionPnegEcdf | 4.812 | 0.200 | 5.165 | |
diffRefSet | 23.494 | 1.005 | 25.550 | |
dmContrasts | 3.071 | 0.275 | 3.561 | |
dyeBiasCorr | 4.580 | 0.321 | 5.138 | |
dyeBiasCorrMostBalanced | 9.440 | 0.418 | 10.311 | |
dyeBiasL | 4.051 | 0.218 | 4.438 | |
dyeBiasNL | 10.480 | 0.567 | 11.589 | |
estimateLeukocyte | 10.556 | 0.659 | 11.809 | |
formatVCF | 3.590 | 0.356 | 4.116 | |
getAFTypeIbySumAlleles | 2.867 | 0.287 | 3.246 | |
getAFs | 1.706 | 0.146 | 1.910 | |
getBetas | 1.373 | 0.216 | 1.653 | |
getMask | 10.333 | 0.698 | 11.373 | |
getRefSet | 18.490 | 0.767 | 19.840 | |
imputeBetas | 26.392 | 1.898 | 29.272 | |
imputeBetasByGenomicNeighbors | 59.545 | 1.671 | 63.788 | |
imputeBetasMatrixByMean | 0.002 | 0.001 | 0.004 | |
inferEthnicity | 0.001 | 0.001 | 0.002 | |
inferInfiniumIChannel | 0.870 | 1.494 | 2.436 | |
inferSex | 38.361 | 1.399 | 40.966 | |
inferSpecies | 20.764 | 1.071 | 22.570 | |
inferStrain | 13.949 | 0.881 | 15.219 | |
inferTissue | 11.879 | 1.671 | 14.344 | |
initFileSet | 2.108 | 0.276 | 2.481 | |
listAvailableMasks | 2.137 | 0.200 | 2.411 | |
mLiftOver | 0.001 | 0.004 | 0.004 | |
mapFileSet | 0.060 | 0.006 | 0.067 | |
mapToMammal40 | 4.335 | 0.444 | 5.160 | |
matchDesign | 22.217 | 1.104 | 24.011 | |
meanIntensity | 4.294 | 0.319 | 4.696 | |
medianTotalIntensity | 1.320 | 0.135 | 1.475 | |
noMasked | 6.054 | 0.696 | 6.821 | |
noob | 3.305 | 0.177 | 3.526 | |
openSesame | 9.675 | 1.345 | 11.655 | |
openSesameToFile | 2.848 | 0.055 | 2.926 | |
pOOBAH | 2.266 | 0.029 | 2.337 | |
palgen | 0.068 | 0.013 | 0.090 | |
parseGEOsignalMU | 4.940 | 0.825 | 5.906 | |
predictAge | 3.749 | 0.175 | 3.957 | |
predictAgeHorvath353 | 0.000 | 0.000 | 0.001 | |
predictAgeSkinBlood | 0.000 | 0.001 | 0.001 | |
predictMouseAgeInMonth | 0.000 | 0.001 | 0.000 | |
prefixMask | 1.256 | 0.004 | 1.276 | |
prefixMaskButC | 0.352 | 0.002 | 0.359 | |
prefixMaskButCG | 0.140 | 0.001 | 0.145 | |
prepSesame | 6.504 | 0.253 | 6.970 | |
prepSesameList | 0.003 | 0.002 | 0.005 | |
print.DMLSummary | 4.809 | 1.402 | 6.673 | |
print.fileSet | 2.120 | 0.422 | 2.631 | |
probeID_designType | 0.001 | 0.001 | 0.002 | |
probeSuccessRate | 8.477 | 0.803 | 9.484 | |
qualityMask | 3.606 | 0.513 | 4.154 | |
reIdentify | 12.809 | 0.660 | 13.837 | |
readFileSet | 0.088 | 0.014 | 0.101 | |
readIDATpair | 0.208 | 0.005 | 0.214 | |
recommendedMaskNames | 0.000 | 0.001 | 0.002 | |
resetMask | 0.818 | 0.146 | 1.022 | |
scrub | 3.638 | 0.116 | 3.783 | |
scrubSoft | 5.271 | 1.433 | 6.804 | |
sdfPlatform | 0.556 | 0.121 | 0.692 | |
sdf_read_table | 15.681 | 0.702 | 16.968 | |
sdf_write_table | 5.797 | 0.361 | 6.411 | |
searchIDATprefixes | 0.007 | 0.005 | 0.012 | |
sesame-package | 3.532 | 0.261 | 4.099 | |
sesameAnno_attachManifest | 0.000 | 0.001 | 0.000 | |
sesameAnno_buildAddressFile | 0.000 | 0.000 | 0.001 | |
sesameAnno_buildManifestGRanges | 0.000 | 0.000 | 0.001 | |
sesameAnno_download | 0.001 | 0.001 | 0.001 | |
sesameAnno_readManifestTSV | 0.000 | 0.001 | 0.001 | |
sesameQC_calcStats | 34.695 | 3.128 | 38.423 | |
sesameQC_getStats | 3.479 | 0.020 | 3.537 | |
sesameQC_plotBar | 19.276 | 0.656 | 20.289 | |
sesameQC_plotBetaByDesign | 16.079 | 1.237 | 17.765 | |
sesameQC_plotHeatSNPs | 30.761 | 2.668 | 33.995 | |
sesameQC_plotIntensVsBetas | 2.995 | 0.519 | 3.625 | |
sesameQC_plotRedGrnQQ | 2.000 | 0.232 | 2.251 | |
sesameQC_rankStats | 5.484 | 0.532 | 6.109 | |
sesameQCtoDF | 3.820 | 0.215 | 4.214 | |
sesame_checkVersion | 0.006 | 0.002 | 0.007 | |
sesamize | 0.001 | 0.000 | 0.000 | |
setMask | 0.172 | 0.001 | 0.176 | |
signalMU | 1.333 | 0.104 | 1.452 | |
sliceFileSet | 0.060 | 0.005 | 0.066 | |
summaryExtractTest | 4.483 | 1.179 | 5.794 | |
testEnrichment | 8.744 | 1.066 | 10.067 | |
testEnrichmentGene | 66.856 | 4.703 | 74.106 | |
testEnrichmentSEA | 15.786 | 1.563 | 17.801 | |
totalIntensities | 4.733 | 0.361 | 5.294 | |
updateSigDF | 5.340 | 0.525 | 5.921 | |
visualizeGene | 15.523 | 0.723 | 16.587 | |
visualizeProbes | 6.500 | 0.304 | 7.064 | |
visualizeRegion | 0.742 | 0.007 | 0.778 | |
visualizeSegments | 2.154 | 0.748 | 3.757 | |