| Back to Multiple platform build/check report for BioC 3.20: simplified long | 
  | 
This page was generated on 2025-04-02 19:29 -0400 (Wed, 02 Apr 2025).
| Hostname | OS | Arch (*) | R version | Installed pkgs | 
|---|---|---|---|---|
| nebbiolo2 | Linux (Ubuntu 24.04.1 LTS) | x86_64 | 4.4.3 (2025-02-28) -- "Trophy Case" | 4764 | 
| palomino8 | Windows Server 2022 Datacenter | x64 | 4.4.3 (2025-02-28 ucrt) -- "Trophy Case" | 4495 | 
| merida1 | macOS 12.7.5 Monterey | x86_64 | 4.4.3 (2025-02-28) -- "Trophy Case" | 4522 | 
| kjohnson1 | macOS 13.6.6 Ventura | arm64 | 4.4.3 (2025-02-28) -- "Trophy Case" | 4449 | 
| taishan | Linux (openEuler 24.03 LTS) | aarch64 | 4.4.3 (2025-02-28) -- "Trophy Case" | 4426 | 
| Click on any hostname to see more info about the system (e.g. compilers) (*) as reported by 'uname -p', except on Windows and Mac OS X | ||||
| Package 1934/2289 | Hostname | OS / Arch | INSTALL | BUILD | CHECK | BUILD BIN | ||||||||
| seqsetvis 1.26.0  (landing page) Joseph R Boyd 
  | nebbiolo2 | Linux (Ubuntu 24.04.1 LTS) / x86_64 | OK | OK | OK | |||||||||
| palomino8 | Windows Server 2022 Datacenter / x64 | OK | OK | OK | OK | |||||||||
| merida1 | macOS 12.7.5 Monterey / x86_64 | OK | OK | OK | OK | |||||||||
| kjohnson1 | macOS 13.6.6 Ventura / arm64 | OK | OK | OK | OK | |||||||||
| taishan | Linux (openEuler 24.03 LTS) / aarch64 | OK | OK | OK | ||||||||||
| 
To the developers/maintainers of the seqsetvis package: - Allow up to 24 hours (and sometimes 48 hours) for your latest push to git@git.bioconductor.org:packages/seqsetvis.git to reflect on this report. See Troubleshooting Build Report for more information. - Use the following Renviron settings to reproduce errors and warnings. - If 'R CMD check' started to fail recently on the Linux builder(s) over a missing dependency, add the missing dependency to 'Suggests:' in your DESCRIPTION file. See Renviron.bioc for more information.  | 
| Package: seqsetvis | 
| Version: 1.26.0 | 
| Command: /home/biocbuild/bbs-3.20-bioc/R/bin/R CMD check --install=check:seqsetvis.install-out.txt --library=/home/biocbuild/bbs-3.20-bioc/R/site-library --timings seqsetvis_1.26.0.tar.gz | 
| StartedAt: 2025-04-01 02:11:02 -0400 (Tue, 01 Apr 2025) | 
| EndedAt: 2025-04-01 02:20:35 -0400 (Tue, 01 Apr 2025) | 
| EllapsedTime: 572.6 seconds | 
| RetCode: 0 | 
| Status: OK | 
| CheckDir: seqsetvis.Rcheck | 
| Warnings: 0 | 
##############################################################################
##############################################################################
###
### Running command:
###
###   /home/biocbuild/bbs-3.20-bioc/R/bin/R CMD check --install=check:seqsetvis.install-out.txt --library=/home/biocbuild/bbs-3.20-bioc/R/site-library --timings seqsetvis_1.26.0.tar.gz
###
##############################################################################
##############################################################################
* using log directory ‘/home/biocbuild/bbs-3.20-bioc/meat/seqsetvis.Rcheck’
* using R version 4.4.3 (2025-02-28)
* using platform: x86_64-pc-linux-gnu
* R was compiled by
    gcc (Ubuntu 13.3.0-6ubuntu2~24.04) 13.3.0
    GNU Fortran (Ubuntu 13.3.0-6ubuntu2~24.04) 13.3.0
* running under: Ubuntu 24.04.2 LTS
* using session charset: UTF-8
* checking for file ‘seqsetvis/DESCRIPTION’ ... OK
* checking extension type ... Package
* this is package ‘seqsetvis’ version ‘1.26.0’
* package encoding: UTF-8
* checking package namespace information ... OK
* checking package dependencies ... OK
* checking if this is a source package ... OK
* checking if there is a namespace ... OK
* checking for hidden files and directories ... OK
* checking for portable file names ... OK
* checking for sufficient/correct file permissions ... OK
* checking whether package ‘seqsetvis’ can be installed ... OK
* checking installed package size ... OK
* checking package directory ... OK
* checking ‘build’ directory ... OK
* checking DESCRIPTION meta-information ... OK
* checking top-level files ... OK
* checking for left-over files ... OK
* checking index information ... OK
* checking package subdirectories ... OK
* checking code files for non-ASCII characters ... OK
* checking R files for syntax errors ... OK
* checking whether the package can be loaded ... OK
* checking whether the package can be loaded with stated dependencies ... OK
* checking whether the package can be unloaded cleanly ... OK
* checking whether the namespace can be loaded with stated dependencies ... OK
* checking whether the namespace can be unloaded cleanly ... OK
* checking loading without being on the library search path ... OK
* checking dependencies in R code ... OK
* checking S3 generic/method consistency ... OK
* checking replacement functions ... OK
* checking foreign function calls ... OK
* checking R code for possible problems ... OK
* checking Rd files ... OK
* checking Rd metadata ... OK
* checking Rd cross-references ... OK
* checking for missing documentation entries ... OK
* checking for code/documentation mismatches ... OK
* checking Rd \usage sections ... OK
* checking Rd contents ... OK
* checking for unstated dependencies in examples ... OK
* checking contents of ‘data’ directory ... OK
* checking data for non-ASCII characters ... OK
* checking data for ASCII and uncompressed saves ... OK
* checking files in ‘vignettes’ ... OK
* checking examples ... OK
Examples with CPU (user + system) or elapsed time > 5s
                         user system elapsed
ssvFeatureBinaryHeatmap 5.967  0.258   6.225
ssvFetchBam             5.736  0.014   5.684
* checking for unstated dependencies in ‘tests’ ... OK
* checking tests ...
  Running ‘testthat.R’
 OK
* checking for unstated dependencies in vignettes ... OK
* checking package vignettes ... OK
* checking re-building of vignette outputs ... OK
* checking PDF version of manual ... OK
* DONE
Status: OK
seqsetvis.Rcheck/00install.out
############################################################################## ############################################################################## ### ### Running command: ### ### /home/biocbuild/bbs-3.20-bioc/R/bin/R CMD INSTALL seqsetvis ### ############################################################################## ############################################################################## * installing to library ‘/home/biocbuild/bbs-3.20-bioc/R/site-library’ * installing *source* package ‘seqsetvis’ ... ** using staged installation ** R ** data ** inst ** byte-compile and prepare package for lazy loading ** help *** installing help indices ** building package indices ** installing vignettes ** testing if installed package can be loaded from temporary location ** testing if installed package can be loaded from final location ** testing if installed package keeps a record of temporary installation path * DONE (seqsetvis)
seqsetvis.Rcheck/tests/testthat.Rout
R version 4.4.3 (2025-02-28) -- "Trophy Case" Copyright (C) 2025 The R Foundation for Statistical Computing Platform: x86_64-pc-linux-gnu R is free software and comes with ABSOLUTELY NO WARRANTY. You are welcome to redistribute it under certain conditions. Type 'license()' or 'licence()' for distribution details. R is a collaborative project with many contributors. Type 'contributors()' for more information and 'citation()' on how to cite R or R packages in publications. Type 'demo()' for some demos, 'help()' for on-line help, or 'help.start()' for an HTML browser interface to help. Type 'q()' to quit R. > > ## load dependencies > library(testthat) > library(seqsetvis) Loading required package: ggplot2 > library(data.table) > > ## test package > test_check(package = "seqsetvis") [ FAIL 0 | WARN 0 | SKIP 0 | PASS 1284 ] > > proc.time() user system elapsed 247.498 1.637 243.815
seqsetvis.Rcheck/seqsetvis-Ex.timings
| name | user | system | elapsed | |
| add_cluster_annotation | 2.774 | 0.202 | 2.939 | |
| append_ynorm | 0.071 | 0.002 | 0.044 | |
| applyMovingAverage | 0.626 | 0.000 | 0.616 | |
| applySpline | 0.348 | 0.002 | 0.295 | |
| assemble_heatmap_cluster_bars | 0.713 | 0.020 | 0.668 | |
| calc_norm_factors | 0.029 | 0.003 | 0.022 | |
| centerAtMax | 0.315 | 0.003 | 0.237 | |
| centerFixedSizeGRanges | 0.113 | 0.002 | 0.115 | |
| centerGRangesAtMax | 0.409 | 0.009 | 0.347 | |
| clusteringKmeans | 0.036 | 0.001 | 0.025 | |
| clusteringKmeansNestedHclust | 0.055 | 0.001 | 0.029 | |
| col2hex | 0.001 | 0.000 | 0.001 | |
| collapse_gr | 0.613 | 0.001 | 0.614 | |
| convert_collapsed_coord | 0.149 | 0.001 | 0.150 | |
| copy_clust_info | 1.588 | 0.014 | 1.484 | |
| crossCorrByRle | 0.288 | 0.006 | 0.295 | |
| easyLoad_FUN | 0.063 | 0.007 | 0.070 | |
| easyLoad_IDRmerged | 0.041 | 0.001 | 0.042 | |
| easyLoad_bed | 0.108 | 0.002 | 0.109 | |
| easyLoad_broadPeak | 0.030 | 0.000 | 0.031 | |
| easyLoad_narrowPeak | 0.032 | 0.000 | 0.032 | |
| easyLoad_seacr | 0.035 | 0.000 | 0.036 | |
| expandCigar | 0.151 | 0.000 | 0.133 | |
| findMaxPos | 0.039 | 0.000 | 0.031 | |
| fragLen_calcStranded | 1.490 | 0.002 | 1.483 | |
| fragLen_fromMacs2Xls | 0.002 | 0.000 | 0.002 | |
| getReadLength | 0.048 | 0.001 | 0.048 | |
| get_mapped_reads | 0.008 | 0.000 | 0.009 | |
| ggellipse | 0.469 | 0.000 | 0.470 | |
| harmonize_seqlengths | 0.090 | 0.002 | 0.092 | |
| make_clustering_matrix | 0.077 | 0.001 | 0.066 | |
| merge_clusters | 3.041 | 0.006 | 2.911 | |
| prepare_fetch_GRanges | 0.026 | 0.000 | 0.026 | |
| prepare_fetch_GRanges_names | 0.071 | 0.000 | 0.070 | |
| prepare_fetch_GRanges_width | 0.026 | 0.000 | 0.025 | |
| quantileGRangesWidth | 0.003 | 0.000 | 0.002 | |
| reorder_clusters_hclust | 1.711 | 0.003 | 1.670 | |
| reorder_clusters_manual | 0.980 | 0.004 | 0.910 | |
| reorder_clusters_stepdown | 1.695 | 0.002 | 1.653 | |
| reverse_clusters | 1.967 | 0.009 | 1.887 | |
| safeBrew | 0.021 | 0.000 | 0.021 | |
| split_cluster | 2.432 | 0.110 | 2.452 | |
| ssvAnnotateSubjectGRanges | 0.835 | 0.001 | 0.836 | |
| ssvConsensusIntervalSets | 0.275 | 0.001 | 0.275 | |
| ssvFactorizeMembTable | 0.011 | 0.001 | 0.014 | |
| ssvFeatureBars | 0.465 | 0.011 | 0.477 | |
| ssvFeatureBinaryHeatmap | 5.967 | 0.258 | 6.225 | |
| ssvFeatureEuler | 0.461 | 0.003 | 0.465 | |
| ssvFeaturePie | 0.437 | 0.006 | 0.441 | |
| ssvFeatureUpset | 2.207 | 0.000 | 2.207 | |
| ssvFeatureVenn | 0.814 | 0.019 | 0.835 | |
| ssvFetchBam | 5.736 | 0.014 | 5.684 | |
| ssvFetchBamPE | 1.753 | 0.008 | 1.761 | |
| ssvFetchBamPE.RNA | 1.363 | 0.003 | 1.287 | |
| ssvFetchBigwig | 1.254 | 0.002 | 1.245 | |
| ssvFetchGRanges | 0.686 | 0.001 | 0.687 | |
| ssvFetchSignal | 1.333 | 0.004 | 1.337 | |
| ssvMakeMembTable-methods | 0.454 | 0.000 | 0.454 | |
| ssvOverlapIntervalSets | 0.225 | 0.003 | 0.228 | |
| ssvSignalBandedQuantiles | 3.492 | 0.008 | 3.300 | |
| ssvSignalClustering | 2.505 | 0.024 | 2.321 | |
| ssvSignalHeatmap.ClusterBars | 3.062 | 0.015 | 2.785 | |
| ssvSignalHeatmap | 3.521 | 0.026 | 3.317 | |
| ssvSignalLineplot | 1.991 | 0.043 | 2.027 | |
| ssvSignalLineplotAgg | 0.830 | 0.025 | 0.838 | |
| ssvSignalScatterplot | 0.829 | 0.001 | 0.760 | |
| viewGRangesWinSample_dt | 1.139 | 0.001 | 1.135 | |
| viewGRangesWinSummary_dt | 1.088 | 0.002 | 1.042 | |
| within_clust_sort | 1.433 | 0.056 | 1.379 | |