| Back to Multiple platform build/check report for BioC 3.20: simplified long |
|
This page was generated on 2025-04-02 19:36 -0400 (Wed, 02 Apr 2025).
| Hostname | OS | Arch (*) | R version | Installed pkgs |
|---|---|---|---|---|
| nebbiolo2 | Linux (Ubuntu 24.04.1 LTS) | x86_64 | 4.4.3 (2025-02-28) -- "Trophy Case" | 4764 |
| palomino8 | Windows Server 2022 Datacenter | x64 | 4.4.3 (2025-02-28 ucrt) -- "Trophy Case" | 4495 |
| merida1 | macOS 12.7.5 Monterey | x86_64 | 4.4.3 (2025-02-28) -- "Trophy Case" | 4522 |
| kjohnson1 | macOS 13.6.6 Ventura | arm64 | 4.4.3 (2025-02-28) -- "Trophy Case" | 4449 |
| taishan | Linux (openEuler 24.03 LTS) | aarch64 | 4.4.3 (2025-02-28) -- "Trophy Case" | 4426 |
| Click on any hostname to see more info about the system (e.g. compilers) (*) as reported by 'uname -p', except on Windows and Mac OS X | ||||
| Package 1936/2289 | Hostname | OS / Arch | INSTALL | BUILD | CHECK | BUILD BIN | ||||||||
| seqTools 1.40.0 (landing page) Wolfgang Kaisers
| nebbiolo2 | Linux (Ubuntu 24.04.1 LTS) / x86_64 | OK | OK | WARNINGS | |||||||||
| palomino8 | Windows Server 2022 Datacenter / x64 | OK | OK | WARNINGS | OK | |||||||||
| merida1 | macOS 12.7.5 Monterey / x86_64 | OK | OK | WARNINGS | OK | |||||||||
| kjohnson1 | macOS 13.6.6 Ventura / arm64 | OK | OK | WARNINGS | OK | |||||||||
| taishan | Linux (openEuler 24.03 LTS) / aarch64 | OK | OK | WARNINGS | ||||||||||
|
To the developers/maintainers of the seqTools package: - Allow up to 24 hours (and sometimes 48 hours) for your latest push to git@git.bioconductor.org:packages/seqTools.git to reflect on this report. See Troubleshooting Build Report for more information. - Use the following Renviron settings to reproduce errors and warnings. - If 'R CMD check' started to fail recently on the Linux builder(s) over a missing dependency, add the missing dependency to 'Suggests:' in your DESCRIPTION file. See Renviron.bioc for more information. - See Martin Grigorov's blog post for how to debug Linux ARM64 related issues on a x86_64 host. |
| Package: seqTools |
| Version: 1.40.0 |
| Command: /home/biocbuild/R/R/bin/R CMD INSTALL seqTools |
| StartedAt: 2025-03-31 20:11:10 -0000 (Mon, 31 Mar 2025) |
| EndedAt: 2025-03-31 20:11:27 -0000 (Mon, 31 Mar 2025) |
| EllapsedTime: 17.1 seconds |
| RetCode: 0 |
| Status: OK |
##############################################################################
##############################################################################
###
### Running command:
###
### /home/biocbuild/R/R/bin/R CMD INSTALL seqTools
###
##############################################################################
##############################################################################
* installing to library ‘/home/biocbuild/R/R-4.4.3/site-library’
* installing *source* package ‘seqTools’ ...
** using staged installation
** libs
using C compiler: ‘aarch64-unknown-linux-gnu-gcc (GCC) 14.2.0’
/opt/ohpc/pub/compiler/gcc/14.2.0/bin/aarch64-unknown-linux-gnu-gcc -I"/home/biocbuild/R/R-4.4.3/include" -DNDEBUG -I'/home/biocbuild/R/R-4.4.3/site-library/zlibbioc/include' -I/usr/local/include -fPIC -g -O2 -Wall -c seqTools.c -o seqTools.o
seqTools.c: In function ‘count_genome_Kmers’:
seqTools.c:851:93: warning: format ‘%u’ expects a matching ‘unsigned int’ argument [-Wformat=]
851 | error("[count_genome_Kmers] character mismatch at position %u!");
| ~^
| |
| unsigned int
seqTools.c: In function ‘scale_kmer_matrix’:
seqTools.c:3296:55: warning: format ‘%i’ expects argument of type ‘int’, but argument 3 has type ‘double’ [-Wformat=]
3296 | error("[scale_kmer_matrix] scale[%i]=%i must be >1!", column_index, scale);
| ~^ ~~~~~
| | |
| int double
| %f
seqTools.c:3306:73: warning: format ‘%i’ expects argument of type ‘int’, but argument 3 has type ‘double’ [-Wformat=]
3306 | error("[scale_kmer_matrix] scale[%i] = %i must be >1!", column_index, scale);
| ~^ ~~~~~
| | |
| int double
| %f
/opt/ohpc/pub/compiler/gcc/14.2.0/bin/aarch64-unknown-linux-gnu-gcc -shared -L/home/biocbuild/R/R-4.4.3/lib -L/usr/local/lib -o seqTools.so seqTools.o -lm -lz -L/home/biocbuild/R/R-4.4.3/lib -lR
installing to /home/biocbuild/R/R-4.4.3/site-library/00LOCK-seqTools/00new/seqTools/libs
** R
** inst
** byte-compile and prepare package for lazy loading
Warning message:
In fun(libname, pkgname) :
Package 'zlibbioc' is deprecated and will be removed from Bioconductor
version 3.22
** help
*** installing help indices
** building package indices
** installing vignettes
** testing if installed package can be loaded from temporary location
Warning in fun(libname, pkgname) :
Package 'zlibbioc' is deprecated and will be removed from Bioconductor
version 3.22
** checking absolute paths in shared objects and dynamic libraries
** testing if installed package can be loaded from final location
Warning in fun(libname, pkgname) :
Package 'zlibbioc' is deprecated and will be removed from Bioconductor
version 3.22
** testing if installed package keeps a record of temporary installation path
* DONE (seqTools)