| Back to Multiple platform build/check report for BioC 3.20: simplified long |
|
This page was generated on 2024-06-11 15:41 -0400 (Tue, 11 Jun 2024).
| Hostname | OS | Arch (*) | R version | Installed pkgs |
|---|---|---|---|---|
| nebbiolo2 | Linux (Ubuntu 22.04.3 LTS) | x86_64 | 4.4.0 RC (2024-04-16 r86468) -- "Puppy Cup" | 4679 |
| palomino4 | Windows Server 2022 Datacenter | x64 | 4.4.0 RC (2024-04-16 r86468 ucrt) -- "Puppy Cup" | 4414 |
| merida1 | macOS 12.7.4 Monterey | x86_64 | 4.4.0 Patched (2024-04-24 r86482) -- "Puppy Cup" | 4441 |
| kjohnson1 | macOS 13.6.6 Ventura | arm64 | 4.4.0 Patched (2024-04-24 r86482) -- "Puppy Cup" | 4394 |
| Click on any hostname to see more info about the system (e.g. compilers) (*) as reported by 'uname -p', except on Windows and Mac OS X | ||||
| Package 1878/2239 | Hostname | OS / Arch | INSTALL | BUILD | CHECK | BUILD BIN | ||||||||
| segmentSeq 2.39.0 (landing page) Samuel Granjeaud
| nebbiolo2 | Linux (Ubuntu 22.04.3 LTS) / x86_64 | OK | OK | OK | |||||||||
| palomino4 | Windows Server 2022 Datacenter / x64 | OK | OK | OK | OK | |||||||||
| merida1 | macOS 12.7.4 Monterey / x86_64 | OK | OK | OK | OK | |||||||||
| kjohnson1 | macOS 13.6.6 Ventura / arm64 | OK | OK | OK | OK | |||||||||
|
To the developers/maintainers of the segmentSeq package: - Allow up to 24 hours (and sometimes 48 hours) for your latest push to git@git.bioconductor.org:packages/segmentSeq.git to reflect on this report. See Troubleshooting Build Report for more information. - Use the following Renviron settings to reproduce errors and warnings. - If 'R CMD check' started to fail recently on the Linux builder(s) over a missing dependency, add the missing dependency to 'Suggests:' in your DESCRIPTION file. See Renviron.bioc for more information. |
| Package: segmentSeq |
| Version: 2.39.0 |
| Command: F:\biocbuild\bbs-3.20-bioc\R\bin\R.exe CMD check --no-multiarch --install=check:segmentSeq.install-out.txt --library=F:\biocbuild\bbs-3.20-bioc\R\library --no-vignettes --timings segmentSeq_2.39.0.tar.gz |
| StartedAt: 2024-06-10 09:27:04 -0400 (Mon, 10 Jun 2024) |
| EndedAt: 2024-06-10 09:37:44 -0400 (Mon, 10 Jun 2024) |
| EllapsedTime: 639.5 seconds |
| RetCode: 0 |
| Status: OK |
| CheckDir: segmentSeq.Rcheck |
| Warnings: 0 |
##############################################################################
##############################################################################
###
### Running command:
###
### F:\biocbuild\bbs-3.20-bioc\R\bin\R.exe CMD check --no-multiarch --install=check:segmentSeq.install-out.txt --library=F:\biocbuild\bbs-3.20-bioc\R\library --no-vignettes --timings segmentSeq_2.39.0.tar.gz
###
##############################################################################
##############################################################################
* using log directory 'F:/biocbuild/bbs-3.20-bioc/meat/segmentSeq.Rcheck'
* using R version 4.4.0 RC (2024-04-16 r86468 ucrt)
* using platform: x86_64-w64-mingw32
* R was compiled by
gcc.exe (GCC) 13.2.0
GNU Fortran (GCC) 13.2.0
* running under: Windows Server 2022 x64 (build 20348)
* using session charset: UTF-8
* using option '--no-vignettes'
* checking for file 'segmentSeq/DESCRIPTION' ... OK
* checking extension type ... Package
* this is package 'segmentSeq' version '2.39.0'
* checking package namespace information ... OK
* checking package dependencies ... OK
* checking if this is a source package ... OK
* checking if there is a namespace ... OK
* checking for hidden files and directories ... OK
* checking for portable file names ... OK
* checking whether package 'segmentSeq' can be installed ... OK
* checking installed package size ... OK
* checking package directory ... OK
* checking 'build' directory ... OK
* checking DESCRIPTION meta-information ... OK
* checking top-level files ... OK
* checking for left-over files ... OK
* checking index information ... OK
* checking package subdirectories ... OK
* checking code files for non-ASCII characters ... OK
* checking R files for syntax errors ... OK
* checking whether the package can be loaded ... OK
* checking whether the package can be loaded with stated dependencies ... OK
* checking whether the package can be unloaded cleanly ... OK
* checking whether the namespace can be loaded with stated dependencies ... OK
* checking whether the namespace can be unloaded cleanly ... OK
* checking dependencies in R code ... OK
* checking S3 generic/method consistency ... OK
* checking replacement functions ... OK
* checking foreign function calls ... OK
* checking R code for possible problems ... OK
* checking Rd files ... OK
* checking Rd metadata ... OK
* checking Rd cross-references ... OK
* checking for missing documentation entries ... OK
* checking for code/documentation mismatches ... OK
* checking Rd \usage sections ... OK
* checking Rd contents ... OK
* checking for unstated dependencies in examples ... OK
* checking contents of 'data' directory ... OK
* checking data for non-ASCII characters ... OK
* checking data for ASCII and uncompressed saves ... OK
* checking sizes of PDF files under 'inst/doc' ... OK
* checking files in 'vignettes' ... OK
* checking examples ... OK
Examples with CPU (user + system) or elapsed time > 5s
user system elapsed
classifySeg 33.97 0.18 34.14
heuristicSeg 16.95 0.01 16.97
lociLikelihoods 15.35 0.06 15.41
plotGenome 8.35 0.02 8.35
getCounts 5.80 0.00 5.81
segmentSeq-package 5.27 0.00 5.28
* checking for unstated dependencies in vignettes ... OK
* checking package vignettes ... OK
* checking running R code from vignettes ... SKIPPED
* checking re-building of vignette outputs ... SKIPPED
* checking PDF version of manual ... OK
* DONE
Status: OK
segmentSeq.Rcheck/00install.out
############################################################################## ############################################################################## ### ### Running command: ### ### F:\biocbuild\bbs-3.20-bioc\R\bin\R.exe CMD INSTALL segmentSeq ### ############################################################################## ############################################################################## * installing to library 'F:/biocbuild/bbs-3.20-bioc/R/library' * installing *source* package 'segmentSeq' ... ** using staged installation ** R ** data ** inst ** byte-compile and prepare package for lazy loading ** help *** installing help indices ** building package indices ** installing vignettes ** testing if installed package can be loaded from temporary location ** testing if installed package can be loaded from final location ** testing if installed package keeps a record of temporary installation path * DONE (segmentSeq)
segmentSeq.Rcheck/segmentSeq-Ex.timings
| name | user | system | elapsed | |
| alignmentData-class | 4.80 | 0.00 | 4.82 | |
| classifySeg | 33.97 | 0.18 | 34.14 | |
| findChunks | 3.67 | 0.00 | 3.67 | |
| getCounts | 5.80 | 0.00 | 5.81 | |
| getOverlaps | 4.31 | 0.00 | 4.33 | |
| heuristicSeg | 16.95 | 0.01 | 16.97 | |
| lociLikelihoods | 15.35 | 0.06 | 15.41 | |
| normaliseNC | 3.71 | 0.11 | 3.86 | |
| plotGenome | 8.35 | 0.02 | 8.35 | |
| processAD | 4.73 | 0.00 | 4.75 | |
| readMethods | 3.99 | 0.00 | 3.98 | |
| readMeths | 2.87 | 0.14 | 3.04 | |
| segData-class | 4.67 | 0.02 | 4.68 | |
| segmentSeq-package | 5.27 | 0.00 | 5.28 | |
| thresholdFinder | 2.84 | 0.08 | 2.93 | |