| Back to Multiple platform build/check report for BioC 3.20: simplified long | 
  | 
This page was generated on 2025-04-02 19:29 -0400 (Wed, 02 Apr 2025).
| Hostname | OS | Arch (*) | R version | Installed pkgs | 
|---|---|---|---|---|
| nebbiolo2 | Linux (Ubuntu 24.04.1 LTS) | x86_64 | 4.4.3 (2025-02-28) -- "Trophy Case" | 4764 | 
| palomino8 | Windows Server 2022 Datacenter | x64 | 4.4.3 (2025-02-28 ucrt) -- "Trophy Case" | 4495 | 
| merida1 | macOS 12.7.5 Monterey | x86_64 | 4.4.3 (2025-02-28) -- "Trophy Case" | 4522 | 
| kjohnson1 | macOS 13.6.6 Ventura | arm64 | 4.4.3 (2025-02-28) -- "Trophy Case" | 4449 | 
| taishan | Linux (openEuler 24.03 LTS) | aarch64 | 4.4.3 (2025-02-28) -- "Trophy Case" | 4426 | 
| Click on any hostname to see more info about the system (e.g. compilers) (*) as reported by 'uname -p', except on Windows and Mac OS X | ||||
| Package 1852/2289 | Hostname | OS / Arch | INSTALL | BUILD | CHECK | BUILD BIN | ||||||||
| scanMiRApp 1.12.0  (landing page) Pierre-Luc Germain 
  | nebbiolo2 | Linux (Ubuntu 24.04.1 LTS) / x86_64 | OK | OK | OK | |||||||||
| palomino8 | Windows Server 2022 Datacenter / x64 | OK | OK | OK | OK | |||||||||
| merida1 | macOS 12.7.5 Monterey / x86_64 | OK | OK | OK | OK | |||||||||
| kjohnson1 | macOS 13.6.6 Ventura / arm64 | OK | OK | OK | OK | |||||||||
| taishan | Linux (openEuler 24.03 LTS) / aarch64 | OK | OK | OK | ||||||||||
| 
To the developers/maintainers of the scanMiRApp package: - Allow up to 24 hours (and sometimes 48 hours) for your latest push to git@git.bioconductor.org:packages/scanMiRApp.git to reflect on this report. See Troubleshooting Build Report for more information. - Use the following Renviron settings to reproduce errors and warnings. - If 'R CMD check' started to fail recently on the Linux builder(s) over a missing dependency, add the missing dependency to 'Suggests:' in your DESCRIPTION file. See Renviron.bioc for more information.  | 
| Package: scanMiRApp | 
| Version: 1.12.0 | 
| Command: /home/biocbuild/bbs-3.20-bioc/R/bin/R CMD check --install=check:scanMiRApp.install-out.txt --library=/home/biocbuild/bbs-3.20-bioc/R/site-library --timings scanMiRApp_1.12.0.tar.gz | 
| StartedAt: 2025-04-01 01:50:42 -0400 (Tue, 01 Apr 2025) | 
| EndedAt: 2025-04-01 01:57:12 -0400 (Tue, 01 Apr 2025) | 
| EllapsedTime: 390.1 seconds | 
| RetCode: 0 | 
| Status: OK | 
| CheckDir: scanMiRApp.Rcheck | 
| Warnings: 0 | 
##############################################################################
##############################################################################
###
### Running command:
###
###   /home/biocbuild/bbs-3.20-bioc/R/bin/R CMD check --install=check:scanMiRApp.install-out.txt --library=/home/biocbuild/bbs-3.20-bioc/R/site-library --timings scanMiRApp_1.12.0.tar.gz
###
##############################################################################
##############################################################################
* using log directory ‘/home/biocbuild/bbs-3.20-bioc/meat/scanMiRApp.Rcheck’
* using R version 4.4.3 (2025-02-28)
* using platform: x86_64-pc-linux-gnu
* R was compiled by
    gcc (Ubuntu 13.3.0-6ubuntu2~24.04) 13.3.0
    GNU Fortran (Ubuntu 13.3.0-6ubuntu2~24.04) 13.3.0
* running under: Ubuntu 24.04.2 LTS
* using session charset: UTF-8
* checking for file ‘scanMiRApp/DESCRIPTION’ ... OK
* checking extension type ... Package
* this is package ‘scanMiRApp’ version ‘1.12.0’
* checking package namespace information ... OK
* checking package dependencies ... OK
* checking if this is a source package ... OK
* checking if there is a namespace ... OK
* checking for hidden files and directories ... OK
* checking for portable file names ... OK
* checking for sufficient/correct file permissions ... OK
* checking whether package ‘scanMiRApp’ can be installed ... OK
* checking installed package size ... OK
* checking package directory ... OK
* checking ‘build’ directory ... OK
* checking DESCRIPTION meta-information ... OK
* checking top-level files ... OK
* checking for left-over files ... OK
* checking index information ... OK
* checking package subdirectories ... OK
* checking code files for non-ASCII characters ... OK
* checking R files for syntax errors ... OK
* checking whether the package can be loaded ... OK
* checking whether the package can be loaded with stated dependencies ... OK
* checking whether the package can be unloaded cleanly ... OK
* checking whether the namespace can be loaded with stated dependencies ... OK
* checking whether the namespace can be unloaded cleanly ... OK
* checking loading without being on the library search path ... OK
* checking dependencies in R code ... NOTE
':::' calls which should be '::':
  'BSgenome.Hsapiens.UCSC.hg38:::BSgenome.Hsapiens.UCSC.hg38'
  'BSgenome.Mmusculus.UCSC.mm10:::BSgenome.Mmusculus.UCSC.mm10'
  'BSgenome.Mmusculus.UCSC.mm39:::BSgenome.Mmusculus.UCSC.mm39'
  'BSgenome.Rnorvegicus.UCSC.rn6:::BSgenome.Rnorvegicus.UCSC.rn6'
  See the note in ?`:::` about the use of this operator.
* checking S3 generic/method consistency ... OK
* checking replacement functions ... OK
* checking foreign function calls ... OK
* checking R code for possible problems ... NOTE
.fakeAnno: no visible binding for global variable 'SampleTranscript'
.fakeAnno: no visible binding for global variable 'SampleKdModel'
plotSitesOnUTR: no visible binding for global variable 'logKd'
plotSitesOnUTR: no visible binding for global variable 'note'
plotSitesOnUTR: no visible binding for global variable 'type'
Undefined global functions or variables:
  SampleKdModel SampleTranscript logKd note type
* checking Rd files ... OK
* checking Rd metadata ... OK
* checking Rd cross-references ... OK
* checking for missing documentation entries ... OK
* checking for code/documentation mismatches ... OK
* checking Rd \usage sections ... OK
* checking Rd contents ... OK
* checking for unstated dependencies in examples ... OK
* checking files in ‘vignettes’ ... OK
* checking examples ... OK
* checking for unstated dependencies in ‘tests’ ... OK
* checking tests ...
  Running ‘testthat.R’
 OK
* checking for unstated dependencies in vignettes ... OK
* checking package vignettes ... OK
* checking re-building of vignette outputs ... OK
* checking PDF version of manual ... OK
* DONE
Status: 2 NOTEs
See
  ‘/home/biocbuild/bbs-3.20-bioc/meat/scanMiRApp.Rcheck/00check.log’
for details.
scanMiRApp.Rcheck/00install.out
############################################################################## ############################################################################## ### ### Running command: ### ### /home/biocbuild/bbs-3.20-bioc/R/bin/R CMD INSTALL scanMiRApp ### ############################################################################## ############################################################################## * installing to library ‘/home/biocbuild/bbs-3.20-bioc/R/site-library’ * installing *source* package ‘scanMiRApp’ ... ** using staged installation ** R ** inst ** byte-compile and prepare package for lazy loading ** help *** installing help indices ** building package indices ** installing vignettes ** testing if installed package can be loaded from temporary location ** testing if installed package can be loaded from final location ** testing if installed package keeps a record of temporary installation path * DONE (scanMiRApp)
scanMiRApp.Rcheck/tests/testthat.Rout
R version 4.4.3 (2025-02-28) -- "Trophy Case"
Copyright (C) 2025 The R Foundation for Statistical Computing
Platform: x86_64-pc-linux-gnu
R is free software and comes with ABSOLUTELY NO WARRANTY.
You are welcome to redistribute it under certain conditions.
Type 'license()' or 'licence()' for distribution details.
R is a collaborative project with many contributors.
Type 'contributors()' for more information and
'citation()' on how to cite R or R packages in publications.
Type 'demo()' for some demos, 'help()' for on-line help, or
'help.start()' for an HTML browser interface to help.
Type 'q()' to quit R.
> library(testthat)
> library(scanMiRApp)
Loading required package: scanMiR
> 
> test_check("scanMiRApp")
Loading annotation
Extracting transcripts
Scanning with 1 thread(s)
Loading annotation
Extracting transcripts
Scanning with 1 thread(s)
Prepare miRNA model
Get Transcript Sequence
Scan
Prepare miRNA model
Get Transcript Sequence
Scan
[ FAIL 0 | WARN 1 | SKIP 2 | PASS 13 ]
══ Skipped tests (2) ═══════════════════════════════════════════════════════════
• On CRAN (1): 'test-shiny.R:10:3'
• empty test (1): 'test-utils.R:46:1'
[ FAIL 0 | WARN 1 | SKIP 2 | PASS 13 ]
> 
> proc.time()
   user  system elapsed 
 21.515   1.246  22.754 
scanMiRApp.Rcheck/scanMiRApp-Ex.timings
| name | user | system | elapsed | |
| IndexedFst-class | 0.043 | 0.015 | 0.058 | |
| ScanMiRAnno | 0.873 | 0.152 | 1.023 | |
| enrichedMirTxPairs | 0.644 | 0.248 | 0.890 | |
| getTranscriptSequence | 1.431 | 0.207 | 1.637 | |
| plotSitesOnUTR | 2.742 | 0.734 | 3.477 | |
| runFullScan | 0.954 | 0.053 | 1.008 | |
| save-load-IndexedFst | 0.012 | 0.001 | 0.012 | |
| scanMiRApp | 0 | 0 | 0 | |
| scanMiRserver | 0.470 | 0.029 | 0.500 | |
| scanMiRui | 0.191 | 0.018 | 0.211 | |