| Back to Multiple platform build/check report for BioC 3.20: simplified long |
|
This page was generated on 2024-06-11 15:41 -0400 (Tue, 11 Jun 2024).
| Hostname | OS | Arch (*) | R version | Installed pkgs |
|---|---|---|---|---|
| nebbiolo2 | Linux (Ubuntu 22.04.3 LTS) | x86_64 | 4.4.0 RC (2024-04-16 r86468) -- "Puppy Cup" | 4679 |
| palomino4 | Windows Server 2022 Datacenter | x64 | 4.4.0 RC (2024-04-16 r86468 ucrt) -- "Puppy Cup" | 4414 |
| merida1 | macOS 12.7.4 Monterey | x86_64 | 4.4.0 Patched (2024-04-24 r86482) -- "Puppy Cup" | 4441 |
| kjohnson1 | macOS 13.6.6 Ventura | arm64 | 4.4.0 Patched (2024-04-24 r86482) -- "Puppy Cup" | 4394 |
| Click on any hostname to see more info about the system (e.g. compilers) (*) as reported by 'uname -p', except on Windows and Mac OS X | ||||
| Package 1835/2239 | Hostname | OS / Arch | INSTALL | BUILD | CHECK | BUILD BIN | ||||||||
| scDesign3 1.3.0 (landing page) Dongyuan Song
| nebbiolo2 | Linux (Ubuntu 22.04.3 LTS) / x86_64 | OK | OK | OK | |||||||||
| palomino4 | Windows Server 2022 Datacenter / x64 | OK | OK | OK | OK | |||||||||
| merida1 | macOS 12.7.4 Monterey / x86_64 | OK | OK | OK | OK | |||||||||
| kjohnson1 | macOS 13.6.6 Ventura / arm64 | OK | OK | OK | OK | |||||||||
|
To the developers/maintainers of the scDesign3 package: - Allow up to 24 hours (and sometimes 48 hours) for your latest push to git@git.bioconductor.org:packages/scDesign3.git to reflect on this report. See Troubleshooting Build Report for more information. - Use the following Renviron settings to reproduce errors and warnings. - If 'R CMD check' started to fail recently on the Linux builder(s) over a missing dependency, add the missing dependency to 'Suggests:' in your DESCRIPTION file. See Renviron.bioc for more information. |
| Package: scDesign3 |
| Version: 1.3.0 |
| Command: F:\biocbuild\bbs-3.20-bioc\R\bin\R.exe CMD check --no-multiarch --install=check:scDesign3.install-out.txt --library=F:\biocbuild\bbs-3.20-bioc\R\library --no-vignettes --timings scDesign3_1.3.0.tar.gz |
| StartedAt: 2024-06-10 09:04:28 -0400 (Mon, 10 Jun 2024) |
| EndedAt: 2024-06-10 09:16:36 -0400 (Mon, 10 Jun 2024) |
| EllapsedTime: 727.7 seconds |
| RetCode: 0 |
| Status: OK |
| CheckDir: scDesign3.Rcheck |
| Warnings: 0 |
##############################################################################
##############################################################################
###
### Running command:
###
### F:\biocbuild\bbs-3.20-bioc\R\bin\R.exe CMD check --no-multiarch --install=check:scDesign3.install-out.txt --library=F:\biocbuild\bbs-3.20-bioc\R\library --no-vignettes --timings scDesign3_1.3.0.tar.gz
###
##############################################################################
##############################################################################
* using log directory 'F:/biocbuild/bbs-3.20-bioc/meat/scDesign3.Rcheck'
* using R version 4.4.0 RC (2024-04-16 r86468 ucrt)
* using platform: x86_64-w64-mingw32
* R was compiled by
gcc.exe (GCC) 13.2.0
GNU Fortran (GCC) 13.2.0
* running under: Windows Server 2022 x64 (build 20348)
* using session charset: UTF-8
* using option '--no-vignettes'
* checking for file 'scDesign3/DESCRIPTION' ... OK
* checking extension type ... Package
* this is package 'scDesign3' version '1.3.0'
* package encoding: UTF-8
* checking package namespace information ... OK
* checking package dependencies ... OK
* checking if this is a source package ... OK
* checking if there is a namespace ... OK
* checking for hidden files and directories ... OK
* checking for portable file names ... OK
* checking whether package 'scDesign3' can be installed ... OK
* checking installed package size ... OK
* checking package directory ... OK
* checking 'build' directory ... OK
* checking DESCRIPTION meta-information ... NOTE
License stub is invalid DCF.
* checking top-level files ... OK
* checking for left-over files ... OK
* checking index information ... OK
* checking package subdirectories ... OK
* checking code files for non-ASCII characters ... OK
* checking R files for syntax errors ... OK
* checking whether the package can be loaded ... OK
* checking whether the package can be loaded with stated dependencies ... OK
* checking whether the package can be unloaded cleanly ... OK
* checking whether the namespace can be loaded with stated dependencies ... OK
* checking whether the namespace can be unloaded cleanly ... OK
* checking dependencies in R code ... OK
* checking S3 generic/method consistency ... OK
* checking replacement functions ... OK
* checking foreign function calls ... OK
* checking R code for possible problems ... OK
* checking Rd files ... OK
* checking Rd metadata ... OK
* checking Rd cross-references ... OK
* checking for missing documentation entries ... OK
* checking for code/documentation mismatches ... OK
* checking Rd \usage sections ... OK
* checking Rd contents ... OK
* checking for unstated dependencies in examples ... OK
* checking contents of 'data' directory ... OK
* checking data for non-ASCII characters ... OK
* checking data for ASCII and uncompressed saves ... OK
* checking files in 'vignettes' ... OK
* checking examples ... OK
Examples with CPU (user + system) or elapsed time > 5s
user system elapsed
construct_data 5.77 5.78 11.65
scdesign3 10.05 0.47 122.28
perform_lrt 7.13 0.45 32.19
simu_new 7.26 0.14 7.40
extract_para 5.61 0.64 6.28
* checking for unstated dependencies in 'tests' ... OK
* checking tests ...
Running 'testthat.R'
OK
* checking for unstated dependencies in vignettes ... OK
* checking package vignettes ... OK
* checking running R code from vignettes ... SKIPPED
* checking re-building of vignette outputs ... SKIPPED
* checking PDF version of manual ... OK
* DONE
Status: 1 NOTE
See
'F:/biocbuild/bbs-3.20-bioc/meat/scDesign3.Rcheck/00check.log'
for details.
scDesign3.Rcheck/00install.out
############################################################################## ############################################################################## ### ### Running command: ### ### F:\biocbuild\bbs-3.20-bioc\R\bin\R.exe CMD INSTALL scDesign3 ### ############################################################################## ############################################################################## * installing to library 'F:/biocbuild/bbs-3.20-bioc/R/library' * installing *source* package 'scDesign3' ... ** using staged installation ** R ** data ** inst ** byte-compile and prepare package for lazy loading ** help *** installing help indices *** copying figures ** building package indices ** installing vignettes ** testing if installed package can be loaded from temporary location ** testing if installed package can be loaded from final location ** testing if installed package keeps a record of temporary installation path * DONE (scDesign3)
scDesign3.Rcheck/tests/testthat.Rout
R version 4.4.0 RC (2024-04-16 r86468 ucrt) -- "Puppy Cup"
Copyright (C) 2024 The R Foundation for Statistical Computing
Platform: x86_64-w64-mingw32/x64
R is free software and comes with ABSOLUTELY NO WARRANTY.
You are welcome to redistribute it under certain conditions.
Type 'license()' or 'licence()' for distribution details.
R is a collaborative project with many contributors.
Type 'contributors()' for more information and
'citation()' on how to cite R or R packages in publications.
Type 'demo()' for some demos, 'help()' for on-line help, or
'help.start()' for an HTML browser interface to help.
Type 'q()' to quit R.
> library(testthat)
> library(scDesign3)
Registered S3 method overwritten by 'scDesign3':
method from
predict.gamlss gamlss
>
> test_check("scDesign3")
Loading required package: SingleCellExperiment
Loading required package: SummarizedExperiment
Loading required package: MatrixGenerics
Loading required package: matrixStats
Attaching package: 'MatrixGenerics'
The following objects are masked from 'package:matrixStats':
colAlls, colAnyNAs, colAnys, colAvgsPerRowSet, colCollapse,
colCounts, colCummaxs, colCummins, colCumprods, colCumsums,
colDiffs, colIQRDiffs, colIQRs, colLogSumExps, colMadDiffs,
colMads, colMaxs, colMeans2, colMedians, colMins, colOrderStats,
colProds, colQuantiles, colRanges, colRanks, colSdDiffs, colSds,
colSums2, colTabulates, colVarDiffs, colVars, colWeightedMads,
colWeightedMeans, colWeightedMedians, colWeightedSds,
colWeightedVars, rowAlls, rowAnyNAs, rowAnys, rowAvgsPerColSet,
rowCollapse, rowCounts, rowCummaxs, rowCummins, rowCumprods,
rowCumsums, rowDiffs, rowIQRDiffs, rowIQRs, rowLogSumExps,
rowMadDiffs, rowMads, rowMaxs, rowMeans2, rowMedians, rowMins,
rowOrderStats, rowProds, rowQuantiles, rowRanges, rowRanks,
rowSdDiffs, rowSds, rowSums2, rowTabulates, rowVarDiffs, rowVars,
rowWeightedMads, rowWeightedMeans, rowWeightedMedians,
rowWeightedSds, rowWeightedVars
Loading required package: GenomicRanges
Loading required package: stats4
Loading required package: BiocGenerics
Attaching package: 'BiocGenerics'
The following objects are masked from 'package:stats':
IQR, mad, sd, var, xtabs
The following objects are masked from 'package:base':
Filter, Find, Map, Position, Reduce, anyDuplicated, aperm, append,
as.data.frame, basename, cbind, colnames, dirname, do.call,
duplicated, eval, evalq, get, grep, grepl, intersect, is.unsorted,
lapply, mapply, match, mget, order, paste, pmax, pmax.int, pmin,
pmin.int, rank, rbind, rownames, sapply, setdiff, table, tapply,
union, unique, unsplit, which.max, which.min
Loading required package: S4Vectors
Attaching package: 'S4Vectors'
The following object is masked from 'package:utils':
findMatches
The following objects are masked from 'package:base':
I, expand.grid, unname
Loading required package: IRanges
Attaching package: 'IRanges'
The following object is masked from 'package:grDevices':
windows
Loading required package: GenomeInfoDb
Loading required package: Biobase
Welcome to Bioconductor
Vignettes contain introductory material; view with
'browseVignettes()'. To cite Bioconductor, see
'citation("Biobase")', and for packages 'citation("pkgname")'.
Attaching package: 'Biobase'
The following object is masked from 'package:MatrixGenerics':
rowMedians
The following objects are masked from 'package:matrixStats':
anyMissing, rowMedians
Registered S3 method overwritten by 'scDesign3':
method from
predict.gamlss gamlss
Registered S3 method overwritten by 'scDesign3':
method from
predict.gamlss gamlss
Registered S3 method overwritten by 'scDesign3':
method from
predict.gamlss gamlss
Registered S3 method overwritten by 'scDesign3':
method from
predict.gamlss gamlss
Registered S3 method overwritten by 'scDesign3':
method from
predict.gamlss gamlss
Convert Residuals to Uniform
Converting End
Copula group embryonic day 3 starts
Vine Copula Estimation Starts
Time difference of 0.3487051 secs
Vine Copula Estimation Ends
Copula group embryonic day 4 starts
Vine Copula Estimation Starts
Time difference of 0.04350591 secs
Vine Copula Estimation Ends
Copula group embryonic day 5 starts
Vine Copula Estimation Starts
Time difference of 0.08541894 secs
Vine Copula Estimation Ends
Copula group embryonic day 6 starts
Vine Copula Estimation Starts
Time difference of 0.10164 secs
Vine Copula Estimation Ends
Copula group embryonic day 7 starts
Vine Copula Estimation Starts
Time difference of 0.09552407 secs
Vine Copula Estimation Ends
Use the empirical quantile matrices from the original data; do not fit copula. This will make the result FIXED.
Empirical quantile group embryonic day 3 starts
Empirical quantile group embryonic day 4 starts
Empirical quantile group embryonic day 5 starts
Empirical quantile group embryonic day 6 starts
Empirical quantile group embryonic day 7 starts
Convert Residuals to Multivariate Gaussian
Converting End
Copula group embryonic day 3 starts
Copula group embryonic day 4 starts
Copula group embryonic day 5 starts
Copula group embryonic day 6 starts
Copula group embryonic day 7 starts
Use Copula to sample a multivariate quantile matrix
Sample Copula group embryonic day 3 starts
Sample Copula group embryonic day 4 starts
Sample Copula group embryonic day 5 starts
Sample Copula group embryonic day 6 starts
Sample Copula group embryonic day 7 starts
Multivariate quantile matrix is provided
Use Copula to sample a multivariate quantile matrix
Sample Copula group embryonic day 3 starts
Sample Copula group embryonic day 4 starts
Sample Copula group embryonic day 5 starts
Sample Copula group embryonic day 6 starts
Sample Copula group embryonic day 7 starts
Input Data Construction Start
Registered S3 method overwritten by 'scDesign3':
method from
predict.gamlss gamlss
Registered S3 method overwritten by 'scDesign3':
method from
predict.gamlss gamlss
Registered S3 method overwritten by 'scDesign3':
method from
predict.gamlss gamlss
Input Data Construction End
Start Marginal Fitting
Registered S3 method overwritten by 'scDesign3':
method from
predict.gamlss gamlss
Registered S3 method overwritten by 'scDesign3':
method from
predict.gamlss gamlss
Marginal Fitting End
Start Copula Fitting
Convert Residuals to Uniform
Registered S3 method overwritten by 'scDesign3':
method from
predict.gamlss gamlss
Registered S3 method overwritten by 'scDesign3':
method from
predict.gamlss gamlss
Loading required package: SingleCellExperiment
Loading required package: SummarizedExperiment
Loading required package: MatrixGenerics
Loading required package: matrixStats
Attaching package: 'MatrixGenerics'
The following objects are masked from 'package:matrixStats':
colAlls, colAnyNAs, colAnys, colAvgsPerRowSet, colCollapse,
colCounts, colCummaxs, colCummins, colCumprods, colCumsums,
colDiffs, colIQRDiffs, colIQRs, colLogSumExps, colMadDiffs,
colMads, colMaxs, colMeans2, colMedians, colMins, colOrderStats,
colProds, colQuantiles, colRanges, colRanks, colSdDiffs, colSds,
colSums2, colTabulates, colVarDiffs, colVars, colWeightedMads,
colWeightedMeans, colWeightedMedians, colWeightedSds,
colWeightedVars, rowAlls, rowAnyNAs, rowAnys, rowAvgsPerColSet,
rowCollapse, rowCounts, rowCummaxs, rowCummins, rowCumprods,
rowCumsums, rowDiffs, rowIQRDiffs, rowIQRs, rowLogSumExps,
rowMadDiffs, rowMads, rowMaxs, rowMeans2, rowMedians, rowMins,
rowOrderStats, rowProds, rowQuantiles, rowRanges, rowRanks,
rowSdDiffs, rowSds, rowSums2, rowTabulates, rowVarDiffs, rowVars,
rowWeightedMads, rowWeightedMeans, rowWeightedMedians,
rowWeightedSds, rowWeightedVars
Loading required package: GenomicRanges
Loading required package: stats4
Loading required package: BiocGenerics
Attaching package: 'BiocGenerics'
The following objects are masked from 'package:stats':
IQR, mad, sd, var, xtabs
The following objects are masked from 'package:base':
Filter, Find, Map, Position, Reduce, anyDuplicated, aperm, append,
as.data.frame, basename, cbind, colnames, dirname, do.call,
duplicated, eval, evalq, get, grep, grepl, intersect, is.unsorted,
lapply, mapply, match, mget, order, paste, pmax, pmax.int, pmin,
pmin.int, rank, rbind, rownames, sapply, setdiff, table, tapply,
union, unique, unsplit, which.max, which.min
Loading required package: S4Vectors
Attaching package: 'S4Vectors'
The following object is masked from 'package:utils':
findMatches
The following objects are masked from 'package:base':
I, expand.grid, unname
Loading required package: IRanges
Attaching package: 'IRanges'
The following object is masked from 'package:grDevices':
windows
Loading required package: GenomeInfoDb
Loading required package: Biobase
Welcome to Bioconductor
Vignettes contain introductory material; view with
'browseVignettes()'. To cite Bioconductor, see
'citation("Biobase")', and for packages 'citation("pkgname")'.
Attaching package: 'Biobase'
The following object is masked from 'package:MatrixGenerics':
rowMedians
The following objects are masked from 'package:matrixStats':
anyMissing, rowMedians
Loading required package: SingleCellExperiment
Loading required package: SummarizedExperiment
Loading required package: MatrixGenerics
Loading required package: matrixStats
Attaching package: 'MatrixGenerics'
The following objects are masked from 'package:matrixStats':
colAlls, colAnyNAs, colAnys, colAvgsPerRowSet, colCollapse,
colCounts, colCummaxs, colCummins, colCumprods, colCumsums,
colDiffs, colIQRDiffs, colIQRs, colLogSumExps, colMadDiffs,
colMads, colMaxs, colMeans2, colMedians, colMins, colOrderStats,
colProds, colQuantiles, colRanges, colRanks, colSdDiffs, colSds,
colSums2, colTabulates, colVarDiffs, colVars, colWeightedMads,
colWeightedMeans, colWeightedMedians, colWeightedSds,
colWeightedVars, rowAlls, rowAnyNAs, rowAnys, rowAvgsPerColSet,
rowCollapse, rowCounts, rowCummaxs, rowCummins, rowCumprods,
rowCumsums, rowDiffs, rowIQRDiffs, rowIQRs, rowLogSumExps,
rowMadDiffs, rowMads, rowMaxs, rowMeans2, rowMedians, rowMins,
rowOrderStats, rowProds, rowQuantiles, rowRanges, rowRanks,
rowSdDiffs, rowSds, rowSums2, rowTabulates, rowVarDiffs, rowVars,
rowWeightedMads, rowWeightedMeans, rowWeightedMedians,
rowWeightedSds, rowWeightedVars
Loading required package: GenomicRanges
Loading required package: stats4
Loading required package: BiocGenerics
Attaching package: 'BiocGenerics'
The following objects are masked from 'package:stats':
IQR, mad, sd, var, xtabs
The following objects are masked from 'package:base':
Filter, Find, Map, Position, Reduce, anyDuplicated, aperm, append,
as.data.frame, basename, cbind, colnames, dirname, do.call,
duplicated, eval, evalq, get, grep, grepl, intersect, is.unsorted,
lapply, mapply, match, mget, order, paste, pmax, pmax.int, pmin,
pmin.int, rank, rbind, rownames, sapply, setdiff, table, tapply,
union, unique, unsplit, which.max, which.min
Loading required package: S4Vectors
Attaching package: 'S4Vectors'
The following object is masked from 'package:utils':
findMatches
The following objects are masked from 'package:base':
I, expand.grid, unname
Loading required package: IRanges
Attaching package: 'IRanges'
The following object is masked from 'package:grDevices':
windows
Loading required package: GenomeInfoDb
Loading required package: Biobase
Welcome to Bioconductor
Vignettes contain introductory material; view with
'browseVignettes()'. To cite Bioconductor, see
'citation("Biobase")', and for packages 'citation("pkgname")'.
Attaching package: 'Biobase'
The following object is masked from 'package:MatrixGenerics':
rowMedians
The following objects are masked from 'package:matrixStats':
anyMissing, rowMedians
Converting End
Copula group 1 starts
Vine Copula Estimation Starts
Time difference of 0.04914594 secs
Vine Copula Estimation Ends
Copula group 2 starts
Vine Copula Estimation Starts
Time difference of 0.06867599 secs
Vine Copula Estimation Ends
Copula group 3 starts
Vine Copula Estimation Starts
Time difference of 0.08475399 secs
Vine Copula Estimation Ends
Copula group 4 starts
Vine Copula Estimation Starts
Time difference of 0.03793311 secs
Vine Copula Estimation Ends
Copula Fitting End
Start Parameter Extraction
Registered S3 method overwritten by 'scDesign3':
method from
predict.gamlss gamlss
Registered S3 method overwritten by 'scDesign3':
method from
predict.gamlss gamlss
Parameter
Extraction End
Start Generate New Data
Use Copula to sample a multivariate quantile matrix
Sample Copula group 1 starts
Sample Copula group 2 starts
Sample Copula group 3 starts
Sample Copula group 4 starts
Registered S3 method overwritten by 'scDesign3':
method from
predict.gamlss gamlss
Registered S3 method overwritten by 'scDesign3':
method from
predict.gamlss gamlss
New Data Generating End
[ FAIL 0 | WARN 0 | SKIP 1 | PASS 0 ]
══ Skipped tests (1) ═══════════════════════════════════════════════════════════
• empty test (1): 'test-scDesign3.R:4:1'
[ FAIL 0 | WARN 0 | SKIP 1 | PASS 0 ]
>
> proc.time()
user system elapsed
47.04 15.42 236.32
scDesign3.Rcheck/scDesign3-Ex.timings
| name | user | system | elapsed | |
| ba | 0 | 0 | 0 | |
| construct_data | 5.77 | 5.78 | 11.65 | |
| extract_para | 5.61 | 0.64 | 6.28 | |
| fit_copula | 4.48 | 0.18 | 4.67 | |
| fit_marginal | 2.06 | 0.13 | 2.19 | |
| ga | 0 | 0 | 0 | |
| gamlss.ba | 0 | 0 | 0 | |
| gamlss.ga | 0 | 0 | 0 | |
| perform_lrt | 7.13 | 0.45 | 32.19 | |
| scdesign3 | 10.05 | 0.47 | 122.28 | |
| simu_new | 7.26 | 0.14 | 7.40 | |
| sparse_cov | 0 | 0 | 0 | |