| Back to Multiple platform build/check report for BioC 3.20: simplified long | 
  | 
This page was generated on 2025-04-02 19:36 -0400 (Wed, 02 Apr 2025).
| Hostname | OS | Arch (*) | R version | Installed pkgs | 
|---|---|---|---|---|
| nebbiolo2 | Linux (Ubuntu 24.04.1 LTS) | x86_64 | 4.4.3 (2025-02-28) -- "Trophy Case" | 4764 | 
| palomino8 | Windows Server 2022 Datacenter | x64 | 4.4.3 (2025-02-28 ucrt) -- "Trophy Case" | 4495 | 
| merida1 | macOS 12.7.5 Monterey | x86_64 | 4.4.3 (2025-02-28) -- "Trophy Case" | 4522 | 
| kjohnson1 | macOS 13.6.6 Ventura | arm64 | 4.4.3 (2025-02-28) -- "Trophy Case" | 4449 | 
| taishan | Linux (openEuler 24.03 LTS) | aarch64 | 4.4.3 (2025-02-28) -- "Trophy Case" | 4426 | 
| Click on any hostname to see more info about the system (e.g. compilers) (*) as reported by 'uname -p', except on Windows and Mac OS X | ||||
| Package 1861/2289 | Hostname | OS / Arch | INSTALL | BUILD | CHECK | BUILD BIN | ||||||||
| scBubbletree 1.8.0  (landing page) Simo Kitanovski 
  | nebbiolo2 | Linux (Ubuntu 24.04.1 LTS) / x86_64 | OK | OK | OK | |||||||||
| palomino8 | Windows Server 2022 Datacenter / x64 | OK | OK | OK | OK | |||||||||
| merida1 | macOS 12.7.5 Monterey / x86_64 | OK | OK | OK | OK | |||||||||
| kjohnson1 | macOS 13.6.6 Ventura / arm64 | OK | OK | OK | OK | |||||||||
| taishan | Linux (openEuler 24.03 LTS) / aarch64 | OK | OK | OK | ||||||||||
| 
To the developers/maintainers of the scBubbletree package: - Allow up to 24 hours (and sometimes 48 hours) for your latest push to git@git.bioconductor.org:packages/scBubbletree.git to reflect on this report. See Troubleshooting Build Report for more information. - Use the following Renviron settings to reproduce errors and warnings. - If 'R CMD check' started to fail recently on the Linux builder(s) over a missing dependency, add the missing dependency to 'Suggests:' in your DESCRIPTION file. See Renviron.bioc for more information. - See Martin Grigorov's blog post for how to debug Linux ARM64 related issues on a x86_64 host.  | 
| Package: scBubbletree | 
| Version: 1.8.0 | 
| Command: /home/biocbuild/R/R/bin/R CMD check --install=check:scBubbletree.install-out.txt --library=/home/biocbuild/R/R/site-library --no-vignettes --timings scBubbletree_1.8.0.tar.gz | 
| StartedAt: 2025-04-01 10:22:46 -0000 (Tue, 01 Apr 2025) | 
| EndedAt: 2025-04-01 10:33:42 -0000 (Tue, 01 Apr 2025) | 
| EllapsedTime: 656.7 seconds | 
| RetCode: 0 | 
| Status: OK | 
| CheckDir: scBubbletree.Rcheck | 
| Warnings: 0 | 
##############################################################################
##############################################################################
###
### Running command:
###
###   /home/biocbuild/R/R/bin/R CMD check --install=check:scBubbletree.install-out.txt --library=/home/biocbuild/R/R/site-library --no-vignettes --timings scBubbletree_1.8.0.tar.gz
###
##############################################################################
##############################################################################
* using log directory ‘/home/biocbuild/bbs-3.20-bioc/meat/scBubbletree.Rcheck’
* using R version 4.4.3 (2025-02-28)
* using platform: aarch64-unknown-linux-gnu
* R was compiled by
    aarch64-unknown-linux-gnu-gcc (GCC) 14.2.0
    GNU Fortran (GCC) 14.2.0
* running under: openEuler 24.03 (LTS)
* using session charset: UTF-8
* using option ‘--no-vignettes’
* checking for file ‘scBubbletree/DESCRIPTION’ ... OK
* checking extension type ... Package
* this is package ‘scBubbletree’ version ‘1.8.0’
* package encoding: UTF-8
* checking package namespace information ... OK
* checking package dependencies ... OK
* checking if this is a source package ... OK
* checking if there is a namespace ... OK
* checking for hidden files and directories ... OK
* checking for portable file names ... OK
* checking for sufficient/correct file permissions ... OK
* checking whether package ‘scBubbletree’ can be installed ... OK
* checking installed package size ... OK
* checking package directory ... OK
* checking ‘build’ directory ... OK
* checking DESCRIPTION meta-information ... OK
* checking top-level files ... OK
* checking for left-over files ... OK
* checking index information ... OK
* checking package subdirectories ... OK
* checking code files for non-ASCII characters ... OK
* checking R files for syntax errors ... OK
* checking whether the package can be loaded ... OK
* checking whether the package can be loaded with stated dependencies ... OK
* checking whether the package can be unloaded cleanly ... OK
* checking whether the namespace can be loaded with stated dependencies ... OK
* checking whether the namespace can be unloaded cleanly ... OK
* checking loading without being on the library search path ... OK
* checking dependencies in R code ... NOTE
Namespace in Imports field not imported from: ‘base’
  All declared Imports should be used.
* checking S3 generic/method consistency ... OK
* checking replacement functions ... OK
* checking foreign function calls ... OK
* checking R code for possible problems ... NOTE
compare_bubbletrees: no visible binding for global variable ‘isTip’
compare_bubbletrees: no visible binding for global variable ‘Cells’
compare_bubbletrees: no visible binding for global variable ‘lab_short’
compare_bubbletrees: no visible binding for global variable ‘label’
compare_bubbletrees: no visible binding for global variable ‘JD’
compare_bubbletrees: no visible binding for global variable
  ‘intersection’
get_dendrogram: no visible binding for global variable ‘isTip’
get_dendrogram: no visible binding for global variable ‘Cells’
get_dendrogram: no visible binding for global variable ‘label’
get_dendrogram: no visible binding for global variable ‘lab_short’
get_dendrogram: no visible binding for global variable ‘lab_long’
get_num_cell_tiles: no visible binding for global variable ‘cluster’
ggplot_cat_tiles: no visible binding for global variable ‘feature’
ggplot_cat_tiles: no visible binding for global variable ‘cluster’
ggplot_cat_tiles: no visible binding for global variable ‘percent’
ggplot_num_cell_tiles: no visible binding for global variable ‘cluster’
ggplot_num_cell_tiles: no visible binding for global variable ‘f’
ggplot_num_tiles: no visible binding for global variable ‘feature’
ggplot_num_tiles: no visible binding for global variable ‘cluster’
ggplot_num_tiles: no visible binding for global variable ‘value’
ggplot_num_violins: no visible binding for global variable ‘cluster’
ggplot_num_violins: no visible binding for global variable ‘value’
Undefined global functions or variables:
  Cells JD cluster f feature intersection isTip lab_long lab_short
  label percent value
* checking Rd files ... OK
* checking Rd metadata ... OK
* checking Rd cross-references ... OK
* checking for missing documentation entries ... OK
* checking for code/documentation mismatches ... OK
* checking Rd \usage sections ... OK
* checking Rd contents ... OK
* checking for unstated dependencies in examples ... OK
* checking contents of ‘data’ directory ... OK
* checking data for non-ASCII characters ... OK
* checking data for ASCII and uncompressed saves ... OK
* checking files in ‘vignettes’ ... OK
* checking examples ... OK
Examples with CPU (user + system) or elapsed time > 5s
                            user system elapsed
get_bubbletree_comparison 35.714  0.674  36.483
get_bubbletree_kmeans     24.025  0.020  24.109
get_num_tiles             23.767  0.000  23.819
get_num_cell_tiles        23.110  0.008  23.164
get_bubbletree_graph      19.878  0.083  20.010
get_num_violins           19.804  0.020  19.867
get_r                     17.878  0.004  19.000
get_cat_tiles             17.638  0.004  17.682
get_bubbletree_dummy      12.948  0.112  13.118
get_gini_k                12.915  0.012  12.955
* checking for unstated dependencies in ‘tests’ ... OK
* checking tests ...
  Running ‘testthat.R’
 OK
* checking for unstated dependencies in vignettes ... OK
* checking package vignettes ... OK
* checking running R code from vignettes ... SKIPPED
* checking re-building of vignette outputs ... SKIPPED
* checking PDF version of manual ... OK
* DONE
Status: 2 NOTEs
See
  ‘/home/biocbuild/bbs-3.20-bioc/meat/scBubbletree.Rcheck/00check.log’
for details.
scBubbletree.Rcheck/00install.out
############################################################################## ############################################################################## ### ### Running command: ### ### /home/biocbuild/R/R/bin/R CMD INSTALL scBubbletree ### ############################################################################## ############################################################################## * installing to library ‘/home/biocbuild/R/R-4.4.3/site-library’ * installing *source* package ‘scBubbletree’ ... ** using staged installation ** R ** data ** inst ** byte-compile and prepare package for lazy loading ** help *** installing help indices ** building package indices ** installing vignettes ** testing if installed package can be loaded from temporary location ** testing if installed package can be loaded from final location ** testing if installed package keeps a record of temporary installation path * DONE (scBubbletree)
scBubbletree.Rcheck/tests/testthat.Rout
R version 4.4.3 (2025-02-28) -- "Trophy Case"
Copyright (C) 2025 The R Foundation for Statistical Computing
Platform: aarch64-unknown-linux-gnu
R is free software and comes with ABSOLUTELY NO WARRANTY.
You are welcome to redistribute it under certain conditions.
Type 'license()' or 'licence()' for distribution details.
R is a collaborative project with many contributors.
Type 'contributors()' for more information and
'citation()' on how to cite R or R packages in publications.
Type 'demo()' for some demos, 'help()' for on-line help, or
'help.start()' for an HTML browser interface to help.
Type 'q()' to quit R.
> library(testthat)
> library(scBubbletree)
> 
> test_check("scBubbletree")
Tests input rules of get_bubbletree_graph 
Tests input rules of get_bubbletree_kmeans 
Tests input rules of get_cat_tiles 
Tests input rules of get_gini_k 
Tests input rules of get_gini 
Tests input rules of get_k 
Tests input rules of get_num_tiles 
Tests input rules of get_num_violins 
Tests input rules of get_r 
Tests input rules of util 
[ FAIL 0 | WARN 0 | SKIP 0 | PASS 477 ]
> 
> proc.time()
   user  system elapsed 
299.688   0.893 302.971 
scBubbletree.Rcheck/scBubbletree-Ex.timings
| name | user | system | elapsed | |
| d_500 | 0.004 | 0.003 | 0.007 | |
| d_ccl | 0.013 | 0.004 | 0.017 | |
| get_bubbletree_comparison | 35.714 | 0.674 | 36.483 | |
| get_bubbletree_dummy | 12.948 | 0.112 | 13.118 | |
| get_bubbletree_graph | 19.878 | 0.083 | 20.010 | |
| get_bubbletree_kmeans | 24.025 | 0.020 | 24.109 | |
| get_cat_tiles | 17.638 | 0.004 | 17.682 | |
| get_gini | 0.002 | 0.000 | 0.003 | |
| get_gini_k | 12.915 | 0.012 | 12.955 | |
| get_k | 3.984 | 0.000 | 3.992 | |
| get_num_cell_tiles | 23.110 | 0.008 | 23.164 | |
| get_num_tiles | 23.767 | 0.000 | 23.819 | |
| get_num_violins | 19.804 | 0.020 | 19.867 | |
| get_r | 17.878 | 0.004 | 19.000 | |