| Back to Multiple platform build/check report for BioC 3.20: simplified long |
|
This page was generated on 2024-06-11 15:41 -0400 (Tue, 11 Jun 2024).
| Hostname | OS | Arch (*) | R version | Installed pkgs |
|---|---|---|---|---|
| nebbiolo2 | Linux (Ubuntu 22.04.3 LTS) | x86_64 | 4.4.0 RC (2024-04-16 r86468) -- "Puppy Cup" | 4679 |
| palomino4 | Windows Server 2022 Datacenter | x64 | 4.4.0 RC (2024-04-16 r86468 ucrt) -- "Puppy Cup" | 4414 |
| merida1 | macOS 12.7.4 Monterey | x86_64 | 4.4.0 Patched (2024-04-24 r86482) -- "Puppy Cup" | 4441 |
| kjohnson1 | macOS 13.6.6 Ventura | arm64 | 4.4.0 Patched (2024-04-24 r86482) -- "Puppy Cup" | 4394 |
| Click on any hostname to see more info about the system (e.g. compilers) (*) as reported by 'uname -p', except on Windows and Mac OS X | ||||
| Package 1826/2239 | Hostname | OS / Arch | INSTALL | BUILD | CHECK | BUILD BIN | ||||||||
| scBubbletree 1.7.7 (landing page) Simo Kitanovski
| nebbiolo2 | Linux (Ubuntu 22.04.3 LTS) / x86_64 | OK | OK | ERROR | |||||||||
| palomino4 | Windows Server 2022 Datacenter / x64 | OK | OK | ERROR | OK | |||||||||
| merida1 | macOS 12.7.4 Monterey / x86_64 | OK | OK | ERROR | OK | |||||||||
| kjohnson1 | macOS 13.6.6 Ventura / arm64 | OK | OK | ERROR | OK | |||||||||
|
To the developers/maintainers of the scBubbletree package: - Allow up to 24 hours (and sometimes 48 hours) for your latest push to git@git.bioconductor.org:packages/scBubbletree.git to reflect on this report. See Troubleshooting Build Report for more information. - Use the following Renviron settings to reproduce errors and warnings. - If 'R CMD check' started to fail recently on the Linux builder(s) over a missing dependency, add the missing dependency to 'Suggests:' in your DESCRIPTION file. See Renviron.bioc for more information. |
| Package: scBubbletree |
| Version: 1.7.7 |
| Command: F:\biocbuild\bbs-3.20-bioc\R\bin\R.exe CMD check --no-multiarch --install=check:scBubbletree.install-out.txt --library=F:\biocbuild\bbs-3.20-bioc\R\library --no-vignettes --timings scBubbletree_1.7.7.tar.gz |
| StartedAt: 2024-06-10 09:01:21 -0400 (Mon, 10 Jun 2024) |
| EndedAt: 2024-06-10 09:10:43 -0400 (Mon, 10 Jun 2024) |
| EllapsedTime: 561.4 seconds |
| RetCode: 1 |
| Status: ERROR |
| CheckDir: scBubbletree.Rcheck |
| Warnings: NA |
##############################################################################
##############################################################################
###
### Running command:
###
### F:\biocbuild\bbs-3.20-bioc\R\bin\R.exe CMD check --no-multiarch --install=check:scBubbletree.install-out.txt --library=F:\biocbuild\bbs-3.20-bioc\R\library --no-vignettes --timings scBubbletree_1.7.7.tar.gz
###
##############################################################################
##############################################################################
* using log directory 'F:/biocbuild/bbs-3.20-bioc/meat/scBubbletree.Rcheck'
* using R version 4.4.0 RC (2024-04-16 r86468 ucrt)
* using platform: x86_64-w64-mingw32
* R was compiled by
gcc.exe (GCC) 13.2.0
GNU Fortran (GCC) 13.2.0
* running under: Windows Server 2022 x64 (build 20348)
* using session charset: UTF-8
* using option '--no-vignettes'
* checking for file 'scBubbletree/DESCRIPTION' ... OK
* checking extension type ... Package
* this is package 'scBubbletree' version '1.7.7'
* package encoding: UTF-8
* checking package namespace information ... OK
* checking package dependencies ... OK
* checking if this is a source package ... OK
* checking if there is a namespace ... OK
* checking for hidden files and directories ... OK
* checking for portable file names ... OK
* checking whether package 'scBubbletree' can be installed ... OK
* checking installed package size ... OK
* checking package directory ... OK
* checking 'build' directory ... OK
* checking DESCRIPTION meta-information ... OK
* checking top-level files ... OK
* checking for left-over files ... OK
* checking index information ... OK
* checking package subdirectories ... OK
* checking code files for non-ASCII characters ... OK
* checking R files for syntax errors ... OK
* checking whether the package can be loaded ... OK
* checking whether the package can be loaded with stated dependencies ... OK
* checking whether the package can be unloaded cleanly ... OK
* checking whether the namespace can be loaded with stated dependencies ... OK
* checking whether the namespace can be unloaded cleanly ... OK
* checking dependencies in R code ... OK
* checking S3 generic/method consistency ... OK
* checking replacement functions ... OK
* checking foreign function calls ... OK
* checking R code for possible problems ... NOTE
compare_bubbletrees: no visible binding for global variable 'JD'
compare_bubbletrees: no visible binding for global variable
'intersection'
get_bubbletree_dummy: no visible global function definition for
'as.dist'
get_bubbletree_dummy: no visible global function definition for
'hclust'
get_bubbletree_graph: no visible global function definition for
'as.dist'
get_bubbletree_graph: no visible global function definition for
'hclust'
get_bubbletree_kmeans: no visible global function definition for
'kmeans'
get_bubbletree_kmeans: no visible global function definition for
'as.dist'
get_bubbletree_kmeans: no visible global function definition for
'hclust'
get_gap_k : get_Wk: no visible global function definition for 'kmeans'
get_gap_k : <anonymous>: no visible global function definition for
'runif'
get_gap_k: no visible binding for global variable 'var'
get_gap_r : <anonymous>: no visible global function definition for
'runif'
get_gap_r: no visible binding for global variable 'var'
get_gap_r_k1 : <anonymous>: no visible global function definition for
'runif'
get_gap_r_k1: no visible binding for global variable 'var'
get_k: no visible binding for global variable 'kmeans'
get_k: no visible binding for global variable 'var'
get_r: no visible binding for global variable 'var'
Undefined global functions or variables:
JD as.dist hclust intersection kmeans runif var
Consider adding
importFrom("stats", "as.dist", "hclust", "kmeans", "runif", "var")
to your NAMESPACE file.
* checking Rd files ... OK
* checking Rd metadata ... OK
* checking Rd cross-references ... OK
* checking for missing documentation entries ... OK
* checking for code/documentation mismatches ... OK
* checking Rd \usage sections ... OK
* checking Rd contents ... OK
* checking for unstated dependencies in examples ... OK
* checking contents of 'data' directory ... OK
* checking data for non-ASCII characters ... OK
* checking data for ASCII and uncompressed saves ... OK
* checking files in 'vignettes' ... OK
* checking examples ... OK
Examples with CPU (user + system) or elapsed time > 5s
user system elapsed
get_r 7 0.06 7.06
* checking for unstated dependencies in 'tests' ... OK
* checking tests ...
Running 'testthat.R'
ERROR
Running the tests in 'tests/testthat.R' failed.
Last 13 lines of output:
[ FAIL 4 | WARN 1 | SKIP 0 | PASS 477 ]
══ Failed tests ════════════════════════════════════════════════════════════════
── Failure ('test-input-get-num-tiles.R:341:3'): btd argument ──────────────────
`get_bubbletree_graph(...)` did not produce any warnings.
── Failure ('test-input-get-num-tiles.R:397:3'): btd argument ──────────────────
`get_num_tiles(...)` did not throw an error.
── Failure ('test-input-get-num-violins.R:159:3'): btd argument ────────────────
`get_bubbletree_graph(...)` did not produce any warnings.
── Failure ('test-input-get-num-violins.R:192:3'): btd argument ────────────────
`get_num_violins(...)` did not throw an error.
[ FAIL 4 | WARN 1 | SKIP 0 | PASS 477 ]
Error: Test failures
Execution halted
* checking for unstated dependencies in vignettes ... OK
* checking package vignettes ... OK
* checking running R code from vignettes ... SKIPPED
* checking re-building of vignette outputs ... SKIPPED
* checking PDF version of manual ... OK
* DONE
Status: 1 ERROR, 1 NOTE
See
'F:/biocbuild/bbs-3.20-bioc/meat/scBubbletree.Rcheck/00check.log'
for details.
scBubbletree.Rcheck/00install.out
############################################################################## ############################################################################## ### ### Running command: ### ### F:\biocbuild\bbs-3.20-bioc\R\bin\R.exe CMD INSTALL scBubbletree ### ############################################################################## ############################################################################## * installing to library 'F:/biocbuild/bbs-3.20-bioc/R/library' * installing *source* package 'scBubbletree' ... ** using staged installation ** R ** data ** inst ** byte-compile and prepare package for lazy loading ** help *** installing help indices ** building package indices ** installing vignettes ** testing if installed package can be loaded from temporary location ** testing if installed package can be loaded from final location ** testing if installed package keeps a record of temporary installation path * DONE (scBubbletree)
scBubbletree.Rcheck/tests/testthat.Rout.fail
R version 4.4.0 RC (2024-04-16 r86468 ucrt) -- "Puppy Cup"
Copyright (C) 2024 The R Foundation for Statistical Computing
Platform: x86_64-w64-mingw32/x64
R is free software and comes with ABSOLUTELY NO WARRANTY.
You are welcome to redistribute it under certain conditions.
Type 'license()' or 'licence()' for distribution details.
R is a collaborative project with many contributors.
Type 'contributors()' for more information and
'citation()' on how to cite R or R packages in publications.
Type 'demo()' for some demos, 'help()' for on-line help, or
'help.start()' for an HTML browser interface to help.
Type 'q()' to quit R.
> library(testthat)
> library(scBubbletree)
>
> test_check("scBubbletree")
Tests input rules of get_bubbletree_graph
Tests input rules of get_bubbletree_kmeans
Tests input rules of get_cat_tiles
Tests input rules of get_gini_k
Tests input rules of get_gini
Tests input rules of get_k
Tests input rules of get_num_tiles
Tests input rules of get_num_violins
Tests input rules of get_r
Tests input rules of util
[ FAIL 4 | WARN 1 | SKIP 0 | PASS 477 ]
══ Failed tests ════════════════════════════════════════════════════════════════
── Failure ('test-input-get-num-tiles.R:341:3'): btd argument ──────────────────
`get_bubbletree_graph(...)` did not produce any warnings.
── Failure ('test-input-get-num-tiles.R:397:3'): btd argument ──────────────────
`get_num_tiles(...)` did not throw an error.
── Failure ('test-input-get-num-violins.R:159:3'): btd argument ────────────────
`get_bubbletree_graph(...)` did not produce any warnings.
── Failure ('test-input-get-num-violins.R:192:3'): btd argument ────────────────
`get_num_violins(...)` did not throw an error.
[ FAIL 4 | WARN 1 | SKIP 0 | PASS 477 ]
Error: Test failures
Execution halted
scBubbletree.Rcheck/scBubbletree-Ex.timings
| name | user | system | elapsed | |
| d_500 | 0 | 0 | 0 | |
| d_ccl | 0.02 | 0.00 | 0.02 | |
| get_bubbletree_comparison | 1.70 | 0.10 | 1.81 | |
| get_bubbletree_dummy | 4.88 | 0.10 | 4.97 | |
| get_bubbletree_graph | 0.57 | 0.05 | 0.64 | |
| get_bubbletree_kmeans | 0.91 | 0.01 | 0.92 | |
| get_cat_tiles | 0.95 | 0.02 | 0.97 | |
| get_gini | 0 | 0 | 0 | |
| get_gini_k | 4.86 | 0.04 | 4.90 | |
| get_k | 2.32 | 0.02 | 2.33 | |
| get_num_tiles | 1.20 | 0.01 | 1.22 | |
| get_num_violins | 3.53 | 0.10 | 3.63 | |
| get_r | 7.00 | 0.06 | 7.06 | |