| Back to Multiple platform build/check report for BioC 3.20: simplified long |
|
This page was generated on 2024-11-20 12:08 -0500 (Wed, 20 Nov 2024).
| Hostname | OS | Arch (*) | R version | Installed pkgs |
|---|---|---|---|---|
| teran2 | Linux (Ubuntu 24.04.1 LTS) | x86_64 | 4.4.2 (2024-10-31) -- "Pile of Leaves" | 4481 |
| nebbiolo2 | Linux (Ubuntu 24.04.1 LTS) | x86_64 | 4.4.2 (2024-10-31) -- "Pile of Leaves" | 4479 |
| palomino8 | Windows Server 2022 Datacenter | x64 | 4.4.2 (2024-10-31 ucrt) -- "Pile of Leaves" | 4359 |
| lconway | macOS 12.7.1 Monterey | x86_64 | 4.4.1 (2024-06-14) -- "Race for Your Life" | 4539 |
| kunpeng2 | Linux (openEuler 22.03 LTS-SP1) | aarch64 | 4.4.1 (2024-06-14) -- "Race for Your Life" | 4493 |
| Click on any hostname to see more info about the system (e.g. compilers) (*) as reported by 'uname -p', except on Windows and Mac OS X | ||||
| Package 1778/2289 | Hostname | OS / Arch | INSTALL | BUILD | CHECK | BUILD BIN | ||||||||
| rnaseqcomp 1.36.0 (landing page) Mingxiang Teng
| teran2 | Linux (Ubuntu 24.04.1 LTS) / x86_64 | OK | OK | OK | |||||||||
| nebbiolo2 | Linux (Ubuntu 24.04.1 LTS) / x86_64 | OK | OK | OK | ||||||||||
| palomino8 | Windows Server 2022 Datacenter / x64 | OK | OK | OK | OK | |||||||||
| lconway | macOS 12.7.1 Monterey / x86_64 | OK | OK | OK | OK | |||||||||
| kunpeng2 | Linux (openEuler 22.03 LTS-SP1) / aarch64 | OK | OK | OK | ||||||||||
|
To the developers/maintainers of the rnaseqcomp package: - Allow up to 24 hours (and sometimes 48 hours) for your latest push to git@git.bioconductor.org:packages/rnaseqcomp.git to reflect on this report. See Troubleshooting Build Report for more information. - Use the following Renviron settings to reproduce errors and warnings. - If 'R CMD check' started to fail recently on the Linux builder(s) over a missing dependency, add the missing dependency to 'Suggests:' in your DESCRIPTION file. See Renviron.bioc for more information. - See Martin Grigorov's blog post for how to debug Linux ARM64 related issues on a x86_64 host. |
| Package: rnaseqcomp |
| Version: 1.36.0 |
| Command: /home/biocbuild/R/R/bin/R CMD check --install=check:rnaseqcomp.install-out.txt --library=/home/biocbuild/R/R/site-library --no-vignettes --timings rnaseqcomp_1.36.0.tar.gz |
| StartedAt: 2024-11-20 11:47:51 -0000 (Wed, 20 Nov 2024) |
| EndedAt: 2024-11-20 11:48:42 -0000 (Wed, 20 Nov 2024) |
| EllapsedTime: 51.1 seconds |
| RetCode: 0 |
| Status: OK |
| CheckDir: rnaseqcomp.Rcheck |
| Warnings: 0 |
##############################################################################
##############################################################################
###
### Running command:
###
### /home/biocbuild/R/R/bin/R CMD check --install=check:rnaseqcomp.install-out.txt --library=/home/biocbuild/R/R/site-library --no-vignettes --timings rnaseqcomp_1.36.0.tar.gz
###
##############################################################################
##############################################################################
* using log directory ‘/home/biocbuild/bbs-3.20-bioc/meat/rnaseqcomp.Rcheck’
* using R version 4.4.1 (2024-06-14)
* using platform: aarch64-unknown-linux-gnu
* R was compiled by
gcc (GCC) 12.2.1 20220819 (openEuler 12.2.1-14)
GNU Fortran (GCC) 10.3.1
* running under: openEuler 22.03 (LTS-SP1)
* using session charset: UTF-8
* using option ‘--no-vignettes’
* checking for file ‘rnaseqcomp/DESCRIPTION’ ... OK
* this is package ‘rnaseqcomp’ version ‘1.36.0’
* checking package namespace information ... OK
* checking package dependencies ... OK
* checking if this is a source package ... OK
* checking if there is a namespace ... OK
* checking for hidden files and directories ... OK
* checking for portable file names ... OK
* checking for sufficient/correct file permissions ... OK
* checking whether package ‘rnaseqcomp’ can be installed ... OK
* checking installed package size ... OK
* checking package directory ... OK
* checking ‘build’ directory ... OK
* checking DESCRIPTION meta-information ... OK
* checking top-level files ... OK
* checking for left-over files ... OK
* checking index information ... OK
* checking package subdirectories ... OK
* checking code files for non-ASCII characters ... OK
* checking R files for syntax errors ... OK
* checking whether the package can be loaded ... OK
* checking whether the package can be loaded with stated dependencies ... OK
* checking whether the package can be unloaded cleanly ... OK
* checking whether the namespace can be loaded with stated dependencies ... OK
* checking whether the namespace can be unloaded cleanly ... OK
* checking loading without being on the library search path ... OK
* checking dependencies in R code ... OK
* checking S3 generic/method consistency ... OK
* checking replacement functions ... OK
* checking foreign function calls ... OK
* checking R code for possible problems ... NOTE
plot2TX: no visible global function definition for ‘lines’
plot2TX: no visible global function definition for ‘box’
plot2TX: no visible global function definition for ‘legend’
plot2TX : <anonymous>: no visible binding for global variable ‘sd’
plot2TX : <anonymous>: no visible global function definition for ‘sd’
plotFC: no visible global function definition for ‘loess.smooth’
plotFC: no visible global function definition for ‘lines’
plotFC: no visible global function definition for ‘legend’
plotFC : <anonymous>: no visible global function definition for
‘median’
plotFC : <anonymous>: no visible global function definition for ‘sd’
plotNE: no visible global function definition for ‘lines’
plotNE: no visible global function definition for ‘points’
plotNE: no visible global function definition for ‘box’
plotNE: no visible global function definition for ‘legend’
plotROC: no visible global function definition for ‘median’
plotROC: no visible global function definition for ‘sd’
plotROC: no visible global function definition for ‘lines’
plotROC: no visible global function definition for ‘arrows’
plotROC: no visible global function definition for ‘abline’
plotROC: no visible global function definition for ‘legend’
plotSD : <anonymous>: no visible binding for global variable ‘sd’
plotSD: no visible global function definition for ‘loess.smooth’
plotSD: no visible global function definition for ‘lines’
plotSD: no visible global function definition for ‘box’
plotSD: no visible global function definition for ‘legend’
plotSD : <anonymous> : <anonymous>: no visible global function
definition for ‘median’
plotSD : <anonymous> : <anonymous>: no visible global function
definition for ‘mad’
signalCalibrate : <anonymous>: no visible binding for global variable
‘median’
signalCalibrate: no visible global function definition for ‘median’
Undefined global functions or variables:
abline arrows box legend lines loess.smooth mad median points sd
Consider adding
importFrom("graphics", "abline", "arrows", "box", "legend", "lines",
"points")
importFrom("stats", "loess.smooth", "mad", "median", "sd")
to your NAMESPACE file.
* checking Rd files ... NOTE
checkRd: (-1) plotFC.Rd:19: Lost braces; missing escapes or markup?
19 | number of matrices in \code{dat@quantData}. Only values {1, -1, 0, NA}
| ^
checkRd: (-1) plotROC.Rd:19: Lost braces; missing escapes or markup?
19 | number of matrices in \code{dat@quantData}. Only values {1, -1, 0}
| ^
* checking Rd metadata ... OK
* checking Rd cross-references ... OK
* checking for missing documentation entries ... OK
* checking for code/documentation mismatches ... OK
* checking Rd \usage sections ... OK
* checking Rd contents ... OK
* checking for unstated dependencies in examples ... OK
* checking contents of ‘data’ directory ... OK
* checking data for non-ASCII characters ... OK
* checking data for ASCII and uncompressed saves ... OK
* checking files in ‘vignettes’ ... OK
* checking examples ... OK
Examples with CPU (user + system) or elapsed time > 5s
user system elapsed
plotROC 14.988 0.148 15.167
plotNE 6.061 0.032 6.107
* checking for unstated dependencies in vignettes ... OK
* checking package vignettes ... OK
* checking running R code from vignettes ... SKIPPED
* checking re-building of vignette outputs ... SKIPPED
* checking PDF version of manual ... OK
* DONE
Status: 2 NOTEs
See
‘/home/biocbuild/bbs-3.20-bioc/meat/rnaseqcomp.Rcheck/00check.log’
for details.
rnaseqcomp.Rcheck/00install.out
############################################################################## ############################################################################## ### ### Running command: ### ### /home/biocbuild/R/R/bin/R CMD INSTALL rnaseqcomp ### ############################################################################## ############################################################################## * installing to library ‘/home/biocbuild/R/R-4.4.1/site-library’ * installing *source* package ‘rnaseqcomp’ ... ** using staged installation ** R ** data ** inst ** byte-compile and prepare package for lazy loading ** help *** installing help indices ** building package indices ** installing vignettes ** testing if installed package can be loaded from temporary location ** testing if installed package can be loaded from final location ** testing if installed package keeps a record of temporary installation path * DONE (rnaseqcomp)
rnaseqcomp.Rcheck/rnaseqcomp-Ex.timings
| name | user | system | elapsed | |
| plot2TX | 0.714 | 0.044 | 0.760 | |
| plotFC | 0.285 | 0.008 | 0.295 | |
| plotNE | 6.061 | 0.032 | 6.107 | |
| plotROC | 14.988 | 0.148 | 15.167 | |
| plotSD | 1.660 | 0.008 | 1.672 | |
| signalCalibrate | 0.185 | 0.000 | 0.186 | |