| Back to Multiple platform build/check report for BioC 3.20: simplified long |
|
This page was generated on 2025-04-02 19:36 -0400 (Wed, 02 Apr 2025).
| Hostname | OS | Arch (*) | R version | Installed pkgs |
|---|---|---|---|---|
| nebbiolo2 | Linux (Ubuntu 24.04.1 LTS) | x86_64 | 4.4.3 (2025-02-28) -- "Trophy Case" | 4764 |
| palomino8 | Windows Server 2022 Datacenter | x64 | 4.4.3 (2025-02-28 ucrt) -- "Trophy Case" | 4495 |
| merida1 | macOS 12.7.5 Monterey | x86_64 | 4.4.3 (2025-02-28) -- "Trophy Case" | 4522 |
| kjohnson1 | macOS 13.6.6 Ventura | arm64 | 4.4.3 (2025-02-28) -- "Trophy Case" | 4449 |
| taishan | Linux (openEuler 24.03 LTS) | aarch64 | 4.4.3 (2025-02-28) -- "Trophy Case" | 4426 |
| Click on any hostname to see more info about the system (e.g. compilers) (*) as reported by 'uname -p', except on Windows and Mac OS X | ||||
| Package 1726/2289 | Hostname | OS / Arch | INSTALL | BUILD | CHECK | BUILD BIN | ||||||||
| retrofit 1.6.0 (landing page) Adam Park
| nebbiolo2 | Linux (Ubuntu 24.04.1 LTS) / x86_64 | OK | OK | OK | |||||||||
| palomino8 | Windows Server 2022 Datacenter / x64 | OK | OK | OK | OK | |||||||||
| merida1 | macOS 12.7.5 Monterey / x86_64 | OK | OK | OK | OK | |||||||||
| kjohnson1 | macOS 13.6.6 Ventura / arm64 | OK | OK | OK | OK | |||||||||
| taishan | Linux (openEuler 24.03 LTS) / aarch64 | OK | OK | OK | ||||||||||
|
To the developers/maintainers of the retrofit package: - Allow up to 24 hours (and sometimes 48 hours) for your latest push to git@git.bioconductor.org:packages/retrofit.git to reflect on this report. See Troubleshooting Build Report for more information. - Use the following Renviron settings to reproduce errors and warnings. - If 'R CMD check' started to fail recently on the Linux builder(s) over a missing dependency, add the missing dependency to 'Suggests:' in your DESCRIPTION file. See Renviron.bioc for more information. - See Martin Grigorov's blog post for how to debug Linux ARM64 related issues on a x86_64 host. |
| Package: retrofit |
| Version: 1.6.0 |
| Command: /home/biocbuild/R/R/bin/R CMD check --install=check:retrofit.install-out.txt --library=/home/biocbuild/R/R/site-library --no-vignettes --timings retrofit_1.6.0.tar.gz |
| StartedAt: 2025-04-01 09:55:10 -0000 (Tue, 01 Apr 2025) |
| EndedAt: 2025-04-01 09:55:49 -0000 (Tue, 01 Apr 2025) |
| EllapsedTime: 39.0 seconds |
| RetCode: 0 |
| Status: OK |
| CheckDir: retrofit.Rcheck |
| Warnings: 0 |
##############################################################################
##############################################################################
###
### Running command:
###
### /home/biocbuild/R/R/bin/R CMD check --install=check:retrofit.install-out.txt --library=/home/biocbuild/R/R/site-library --no-vignettes --timings retrofit_1.6.0.tar.gz
###
##############################################################################
##############################################################################
* using log directory ‘/home/biocbuild/bbs-3.20-bioc/meat/retrofit.Rcheck’
* using R version 4.4.3 (2025-02-28)
* using platform: aarch64-unknown-linux-gnu
* R was compiled by
aarch64-unknown-linux-gnu-gcc (GCC) 14.2.0
GNU Fortran (GCC) 14.2.0
* running under: openEuler 24.03 (LTS)
* using session charset: UTF-8
* using option ‘--no-vignettes’
* checking for file ‘retrofit/DESCRIPTION’ ... OK
* this is package ‘retrofit’ version ‘1.6.0’
* package encoding: UTF-8
* checking package namespace information ... OK
* checking package dependencies ... OK
* checking if this is a source package ... OK
* checking if there is a namespace ... OK
* checking for hidden files and directories ... OK
* checking for portable file names ... OK
* checking for sufficient/correct file permissions ... OK
* checking whether package ‘retrofit’ can be installed ... OK
* used C++ compiler: ‘aarch64-unknown-linux-gnu-g++ (GCC) 14.2.0’
* checking installed package size ... NOTE
installed size is 5.3Mb
sub-directories of 1Mb or more:
data 2.8Mb
libs 2.3Mb
* checking package directory ... OK
* checking ‘build’ directory ... OK
* checking DESCRIPTION meta-information ... OK
* checking top-level files ... OK
* checking for left-over files ... OK
* checking index information ... OK
* checking package subdirectories ... OK
* checking code files for non-ASCII characters ... OK
* checking R files for syntax errors ... OK
* checking whether the package can be loaded ... OK
* checking whether the package can be loaded with stated dependencies ... OK
* checking whether the package can be unloaded cleanly ... OK
* checking whether the namespace can be loaded with stated dependencies ... OK
* checking whether the namespace can be unloaded cleanly ... OK
* checking loading without being on the library search path ... OK
* checking dependencies in R code ... OK
* checking S3 generic/method consistency ... OK
* checking replacement functions ... OK
* checking foreign function calls ... OK
* checking R code for possible problems ... OK
* checking Rd files ... NOTE
checkRd: (-1) decompose.Rd:44: Lost braces; missing escapes or markup?
44 | the function returns factorized {W, H, Theta}.
| ^
* checking Rd metadata ... OK
* checking Rd cross-references ... OK
* checking for missing documentation entries ... OK
* checking for code/documentation mismatches ... OK
* checking Rd \usage sections ... OK
* checking Rd contents ... OK
* checking for unstated dependencies in examples ... OK
* checking contents of ‘data’ directory ... OK
* checking data for non-ASCII characters ... OK
* checking data for ASCII and uncompressed saves ... OK
* checking line endings in C/C++/Fortran sources/headers ... OK
* checking compiled code ... NOTE
Note: information on .o files is not available
* checking files in ‘vignettes’ ... OK
* checking examples ... OK
* checking for unstated dependencies in ‘tests’ ... OK
* checking tests ...
Running ‘testthat.R’
OK
* checking for unstated dependencies in vignettes ... OK
* checking package vignettes ... OK
* checking running R code from vignettes ... SKIPPED
* checking re-building of vignette outputs ... SKIPPED
* checking PDF version of manual ... OK
* DONE
Status: 3 NOTEs
See
‘/home/biocbuild/bbs-3.20-bioc/meat/retrofit.Rcheck/00check.log’
for details.
retrofit.Rcheck/00install.out
############################################################################## ############################################################################## ### ### Running command: ### ### /home/biocbuild/R/R/bin/R CMD INSTALL retrofit ### ############################################################################## ############################################################################## * installing to library ‘/home/biocbuild/R/R-4.4.3/site-library’ * installing *source* package ‘retrofit’ ... ** using staged installation ** libs using C++ compiler: ‘aarch64-unknown-linux-gnu-g++ (GCC) 14.2.0’ /opt/ohpc/pub/compiler/gcc/14.2.0/bin/aarch64-unknown-linux-gnu-g++ -std=gnu++17 -I"/home/biocbuild/R/R-4.4.3/include" -DNDEBUG -I'/home/biocbuild/R/R-4.4.3/site-library/Rcpp/include' -I/usr/local/include -fPIC -g -O2 -Wall -c RcppExports.cpp -o RcppExports.o /opt/ohpc/pub/compiler/gcc/14.2.0/bin/aarch64-unknown-linux-gnu-g++ -std=gnu++17 -I"/home/biocbuild/R/R-4.4.3/include" -DNDEBUG -I'/home/biocbuild/R/R-4.4.3/site-library/Rcpp/include' -I/usr/local/include -fPIC -g -O2 -Wall -c decompose_measure_error.cpp -o decompose_measure_error.o /opt/ohpc/pub/compiler/gcc/14.2.0/bin/aarch64-unknown-linux-gnu-g++ -std=gnu++17 -I"/home/biocbuild/R/R-4.4.3/include" -DNDEBUG -I'/home/biocbuild/R/R-4.4.3/site-library/Rcpp/include' -I/usr/local/include -fPIC -g -O2 -Wall -c decompose_step2.cpp -o decompose_step2.o /opt/ohpc/pub/compiler/gcc/14.2.0/bin/aarch64-unknown-linux-gnu-g++ -std=gnu++17 -I"/home/biocbuild/R/R-4.4.3/include" -DNDEBUG -I'/home/biocbuild/R/R-4.4.3/site-library/Rcpp/include' -I/usr/local/include -fPIC -g -O2 -Wall -c decompose_step3.cpp -o decompose_step3.o /opt/ohpc/pub/compiler/gcc/14.2.0/bin/aarch64-unknown-linux-gnu-g++ -std=gnu++17 -I"/home/biocbuild/R/R-4.4.3/include" -DNDEBUG -I'/home/biocbuild/R/R-4.4.3/site-library/Rcpp/include' -I/usr/local/include -fPIC -g -O2 -Wall -c decompose_step4.cpp -o decompose_step4.o /opt/ohpc/pub/compiler/gcc/14.2.0/bin/aarch64-unknown-linux-gnu-g++ -std=gnu++17 -I"/home/biocbuild/R/R-4.4.3/include" -DNDEBUG -I'/home/biocbuild/R/R-4.4.3/site-library/Rcpp/include' -I/usr/local/include -fPIC -g -O2 -Wall -c decompose_step5.cpp -o decompose_step5.o /opt/ohpc/pub/compiler/gcc/14.2.0/bin/aarch64-unknown-linux-gnu-g++ -std=gnu++17 -shared -L/home/biocbuild/R/R-4.4.3/lib -L/usr/local/lib -o retrofit.so RcppExports.o decompose_measure_error.o decompose_step2.o decompose_step3.o decompose_step4.o decompose_step5.o -L/home/biocbuild/R/R-4.4.3/lib -lR installing to /home/biocbuild/R/R-4.4.3/site-library/00LOCK-retrofit/00new/retrofit/libs ** R ** data ** inst ** byte-compile and prepare package for lazy loading ** help *** installing help indices ** building package indices ** installing vignettes ** testing if installed package can be loaded from temporary location ** checking absolute paths in shared objects and dynamic libraries ** testing if installed package can be loaded from final location ** testing if installed package keeps a record of temporary installation path * DONE (retrofit)
retrofit.Rcheck/tests/testthat.Rout
R version 4.4.3 (2025-02-28) -- "Trophy Case"
Copyright (C) 2025 The R Foundation for Statistical Computing
Platform: aarch64-unknown-linux-gnu
R is free software and comes with ABSOLUTELY NO WARRANTY.
You are welcome to redistribute it under certain conditions.
Type 'license()' or 'licence()' for distribution details.
R is a collaborative project with many contributors.
Type 'contributors()' for more information and
'citation()' on how to cite R or R packages in publications.
Type 'demo()' for some demos, 'help()' for on-line help, or
'help.start()' for an HTML browser interface to help.
Type 'q()' to quit R.
> library(testthat)
> library(retrofit)
Loading required package: Rcpp
Attaching package: 'retrofit'
The following object is masked from 'package:stats':
decompose
>
> test_check("retrofit")
[1] "!is.null(rownames(sc_ref)) is not TRUE"
[1] "dim(decomp_w)[1] == dim(sc_ref)[1] is not TRUE"
[1] "dim(decomp_w)[2] == dim(decomp_h)[1] is not TRUE"
[1] "cell_types( 2 ) are fewer than the mapping target K( 5 )."
[1] "dim(decomp_w)[2] == dim(decomp_h)[1] is not TRUE"
[Rcpp] first original: 1
[Rcpp] first original: 2.04732
[Rcpp] first original: 2.09211
[1] "iteration: 1 0.147 Seconds"
[1] "iteration: 2 0.146 Seconds"
[1] "iteration: 3 0.145 Seconds"
[1] "iteration: 4 0.145 Seconds"
[1] "iteration: 5 0.146 Seconds"
[1] "iteration: 6 0.145 Seconds"
[1] "iteration: 7 0.148 Seconds"
[1] "iteration: 8 0.15 Seconds"
[1] "iteration: 9 0.149 Seconds"
[1] "iteration: 10 0.157 Seconds"
[1] "Iteration mean: 0.148 seconds total: 1.478 seconds"
[1] "iteration: 1 0 Seconds"
[1] "iteration: 2 0 Seconds"
[1] "iteration: 3 0 Seconds"
[1] "iteration: 4 0 Seconds"
[1] "iteration: 5 0 Seconds"
[1] "iteration: 6 0 Seconds"
[1] "iteration: 7 0 Seconds"
[1] "iteration: 8 0 Seconds"
[1] "iteration: 9 0 Seconds"
[1] "iteration: 10 0 Seconds"
[1] "Iteration mean: 0 seconds total: 0.003 seconds"
[1] "!is.null(x) is not TRUE"
[1] "!is.null(L) is not TRUE"
[1] "!is.null(iterations) is not TRUE"
[1] "!is.null(lambda) is not TRUE"
[1] "!is.null(kappa) is not TRUE"
[1] "is.numeric(L) && as.integer(L) > 0 is not TRUE"
[1] "is.numeric(iterations) && as.integer(iterations) > 0 is not TRUE"
[1] "is.numeric(kappa) && kappa > 0 is not TRUE"
[1] "is.list(init_param) is not TRUE"
[1] "\"alpha_w_0\" %in% names(init_param) && is.numeric(init_param$alpha_w_0) is not TRUE"
[1] "\"alpha_w_0\" %in% names(init_param) && is.numeric(init_param$alpha_w_0) is not TRUE"
[1] "\"alpha_th_k\" %in% names(init_param) is not TRUE"
[ FAIL 0 | WARN 0 | SKIP 0 | PASS 61 ]
>
> proc.time()
user system elapsed
9.890 0.242 10.140
retrofit.Rcheck/retrofit-Ex.timings
| name | user | system | elapsed | |
| annotateWithCorrelations | 1.076 | 0.000 | 1.079 | |
| annotateWithMarkers | 0.097 | 0.003 | 0.100 | |
| decompose | 2.041 | 0.064 | 2.110 | |
| retrofit | 2.732 | 0.040 | 2.778 | |