| Back to Multiple platform build/check report for BioC 3.20: simplified long | 
 | 
This page was generated on 2024-06-11 15:41 -0400 (Tue, 11 Jun 2024).
| Hostname | OS | Arch (*) | R version | Installed pkgs | 
|---|---|---|---|---|
| nebbiolo2 | Linux (Ubuntu 22.04.3 LTS) | x86_64 | 4.4.0 RC (2024-04-16 r86468) -- "Puppy Cup" | 4679 | 
| palomino4 | Windows Server 2022 Datacenter | x64 | 4.4.0 RC (2024-04-16 r86468 ucrt) -- "Puppy Cup" | 4414 | 
| merida1 | macOS 12.7.4 Monterey | x86_64 | 4.4.0 Patched (2024-04-24 r86482) -- "Puppy Cup" | 4441 | 
| kjohnson1 | macOS 13.6.6 Ventura | arm64 | 4.4.0 Patched (2024-04-24 r86482) -- "Puppy Cup" | 4394 | 
| Click on any hostname to see more info about the system (e.g. compilers) (*) as reported by 'uname -p', except on Windows and Mac OS X | ||||
| Package 1596/2239 | Hostname | OS / Arch | INSTALL | BUILD | CHECK | BUILD BIN | ||||||||
| qpgraph 2.39.0  (landing page) Robert Castelo 
 | nebbiolo2 | Linux (Ubuntu 22.04.3 LTS) / x86_64 | OK | OK | OK |  | ||||||||
| palomino4 | Windows Server 2022 Datacenter / x64 | OK | OK | OK | OK |  | ||||||||
| merida1 | macOS 12.7.4 Monterey / x86_64 | OK | OK | OK | OK |  | ||||||||
| kjohnson1 | macOS 13.6.6 Ventura / arm64 | OK | OK | WARNINGS | OK |  | ||||||||
| To the developers/maintainers of the qpgraph package: - Allow up to 24 hours (and sometimes 48 hours) for your latest push to git@git.bioconductor.org:packages/qpgraph.git to reflect on this report. See Troubleshooting Build Report for more information. - Use the following Renviron settings to reproduce errors and warnings. - If 'R CMD check' started to fail recently on the Linux builder(s) over a missing dependency, add the missing dependency to 'Suggests:' in your DESCRIPTION file. See Renviron.bioc for more information. | 
| Package: qpgraph | 
| Version: 2.39.0 | 
| Command: rm -rf qpgraph.buildbin-libdir && mkdir qpgraph.buildbin-libdir && F:\biocbuild\bbs-3.20-bioc\R\bin\R.exe CMD INSTALL --build --library=qpgraph.buildbin-libdir qpgraph_2.39.0.tar.gz | 
| StartedAt: 2024-06-10 14:41:04 -0400 (Mon, 10 Jun 2024) | 
| EndedAt: 2024-06-10 14:43:33 -0400 (Mon, 10 Jun 2024) | 
| EllapsedTime: 149.0 seconds | 
| RetCode: 0 | 
| Status: OK | 
| PackageFile: qpgraph_2.39.0.zip | 
| PackageFileSize: 4.094 MiB | 
##############################################################################
##############################################################################
###
### Running command:
###
###   rm -rf qpgraph.buildbin-libdir && mkdir qpgraph.buildbin-libdir && F:\biocbuild\bbs-3.20-bioc\R\bin\R.exe CMD INSTALL --build --library=qpgraph.buildbin-libdir qpgraph_2.39.0.tar.gz
###
##############################################################################
##############################################################################
* installing *source* package 'qpgraph' ...
** using staged installation
   **********************************************
   WARNING: this package has a configure script
         It probably needs manual configuration
   **********************************************
** libs
using C compiler: 'gcc.exe (GCC) 13.2.0'
gcc  -I"F:/biocbuild/bbs-3.20-bioc/R/include" -DNDEBUG     -I"C:/rtools44/x86_64-w64-mingw32.static.posix/include"     -O2 -Wall  -mfpmath=sse -msse2 -mstackrealign  -c cliquer.c -o cliquer.o
gcc  -I"F:/biocbuild/bbs-3.20-bioc/R/include" -DNDEBUG     -I"C:/rtools44/x86_64-w64-mingw32.static.posix/include"     -O2 -Wall  -mfpmath=sse -msse2 -mstackrealign  -c graph.c -o graph.o
gcc  -I"F:/biocbuild/bbs-3.20-bioc/R/include" -DNDEBUG     -I"C:/rtools44/x86_64-w64-mingw32.static.posix/include"     -O2 -Wall  -mfpmath=sse -msse2 -mstackrealign  -c qpgraph.c -o qpgraph.o
gcc  -I"F:/biocbuild/bbs-3.20-bioc/R/include" -DNDEBUG     -I"C:/rtools44/x86_64-w64-mingw32.static.posix/include"     -O2 -Wall  -mfpmath=sse -msse2 -mstackrealign  -c reorder.c -o reorder.o
gcc -shared -s -static-libgcc -o qpgraph.dll tmp.def cliquer.o graph.o qpgraph.o reorder.o -LF:/biocbuild/bbs-3.20-bioc/R/bin/x64 -lRlapack -LF:/biocbuild/bbs-3.20-bioc/R/bin/x64 -lRblas -LC:/rtools44/x86_64-w64-mingw32.static.posix/lib/x64 -LC:/rtools44/x86_64-w64-mingw32.static.posix/lib -LF:/biocbuild/bbs-3.20-bioc/R/bin/x64 -lR
installing to F:/biocbuild/bbs-3.20-bioc/meat/qpgraph.buildbin-libdir/00LOCK-qpgraph/00new/qpgraph/libs/x64
** R
** data
*** moving datasets to lazyload DB
** inst
** byte-compile and prepare package for lazy loading
Creating a generic function for 'det' from package 'Matrix' in package 'qpgraph'
** help
*** installing help indices
** building package indices
** installing vignettes
** testing if installed package can be loaded from temporary location
** testing if installed package can be loaded from final location
** testing if installed package keeps a record of temporary installation path
* MD5 sums
packaged installation of 'qpgraph' as qpgraph_2.39.0.zip
* DONE (qpgraph)