| Back to Multiple platform build/check report for BioC 3.20: simplified long | 
  | 
This page was generated on 2025-04-02 19:29 -0400 (Wed, 02 Apr 2025).
| Hostname | OS | Arch (*) | R version | Installed pkgs | 
|---|---|---|---|---|
| nebbiolo2 | Linux (Ubuntu 24.04.1 LTS) | x86_64 | 4.4.3 (2025-02-28) -- "Trophy Case" | 4764 | 
| palomino8 | Windows Server 2022 Datacenter | x64 | 4.4.3 (2025-02-28 ucrt) -- "Trophy Case" | 4495 | 
| merida1 | macOS 12.7.5 Monterey | x86_64 | 4.4.3 (2025-02-28) -- "Trophy Case" | 4522 | 
| kjohnson1 | macOS 13.6.6 Ventura | arm64 | 4.4.3 (2025-02-28) -- "Trophy Case" | 4449 | 
| taishan | Linux (openEuler 24.03 LTS) | aarch64 | 4.4.3 (2025-02-28) -- "Trophy Case" | 4426 | 
| Click on any hostname to see more info about the system (e.g. compilers) (*) as reported by 'uname -p', except on Windows and Mac OS X | ||||
| Package 1622/2289 | Hostname | OS / Arch | INSTALL | BUILD | CHECK | BUILD BIN | ||||||||
| pwalign 1.2.0  (landing page) Hervé Pagès 
  | nebbiolo2 | Linux (Ubuntu 24.04.1 LTS) / x86_64 | OK | OK | OK | |||||||||
| palomino8 | Windows Server 2022 Datacenter / x64 | OK | OK | OK | OK | |||||||||
| merida1 | macOS 12.7.5 Monterey / x86_64 | OK | OK | OK | OK | |||||||||
| kjohnson1 | macOS 13.6.6 Ventura / arm64 | OK | OK | OK | OK | |||||||||
| taishan | Linux (openEuler 24.03 LTS) / aarch64 | OK | OK | OK | ||||||||||
| 
To the developers/maintainers of the pwalign package: - Allow up to 24 hours (and sometimes 48 hours) for your latest push to git@git.bioconductor.org:packages/pwalign.git to reflect on this report. See Troubleshooting Build Report for more information. - Use the following Renviron settings to reproduce errors and warnings. - If 'R CMD check' started to fail recently on the Linux builder(s) over a missing dependency, add the missing dependency to 'Suggests:' in your DESCRIPTION file. See Renviron.bioc for more information.  | 
| Package: pwalign | 
| Version: 1.2.0 | 
| Command: /home/biocbuild/bbs-3.20-bioc/R/bin/R CMD check --install=check:pwalign.install-out.txt --library=/home/biocbuild/bbs-3.20-bioc/R/site-library --timings pwalign_1.2.0.tar.gz | 
| StartedAt: 2025-04-01 01:11:56 -0400 (Tue, 01 Apr 2025) | 
| EndedAt: 2025-04-01 01:14:11 -0400 (Tue, 01 Apr 2025) | 
| EllapsedTime: 135.1 seconds | 
| RetCode: 0 | 
| Status: OK | 
| CheckDir: pwalign.Rcheck | 
| Warnings: 0 | 
##############################################################################
##############################################################################
###
### Running command:
###
###   /home/biocbuild/bbs-3.20-bioc/R/bin/R CMD check --install=check:pwalign.install-out.txt --library=/home/biocbuild/bbs-3.20-bioc/R/site-library --timings pwalign_1.2.0.tar.gz
###
##############################################################################
##############################################################################
* using log directory ‘/home/biocbuild/bbs-3.20-bioc/meat/pwalign.Rcheck’
* using R version 4.4.3 (2025-02-28)
* using platform: x86_64-pc-linux-gnu
* R was compiled by
    gcc (Ubuntu 13.3.0-6ubuntu2~24.04) 13.3.0
    GNU Fortran (Ubuntu 13.3.0-6ubuntu2~24.04) 13.3.0
* running under: Ubuntu 24.04.2 LTS
* using session charset: UTF-8
* checking for file ‘pwalign/DESCRIPTION’ ... OK
* this is package ‘pwalign’ version ‘1.2.0’
* package encoding: UTF-8
* checking package namespace information ... OK
* checking package dependencies ... OK
* checking if this is a source package ... OK
* checking if there is a namespace ... OK
* checking for hidden files and directories ... OK
* checking for portable file names ... OK
* checking for sufficient/correct file permissions ... OK
* checking whether package ‘pwalign’ can be installed ... OK
* used C compiler: ‘gcc (Ubuntu 13.3.0-6ubuntu2~24.04) 13.3.0’
* checking installed package size ... OK
* checking package directory ... OK
* checking ‘build’ directory ... OK
* checking DESCRIPTION meta-information ... OK
* checking top-level files ... OK
* checking for left-over files ... OK
* checking index information ... OK
* checking package subdirectories ... OK
* checking code files for non-ASCII characters ... OK
* checking R files for syntax errors ... OK
* checking whether the package can be loaded ... OK
* checking whether the package can be loaded with stated dependencies ... OK
* checking whether the package can be unloaded cleanly ... OK
* checking whether the namespace can be loaded with stated dependencies ... OK
* checking whether the namespace can be unloaded cleanly ... OK
* checking loading without being on the library search path ... OK
* checking whether startup messages can be suppressed ... OK
* checking dependencies in R code ... OK
* checking S3 generic/method consistency ... OK
* checking replacement functions ... OK
* checking foreign function calls ... OK
* checking R code for possible problems ... OK
* checking Rd files ... OK
* checking Rd metadata ... OK
* checking Rd cross-references ... OK
* checking for missing documentation entries ... OK
* checking for code/documentation mismatches ... OK
* checking Rd \usage sections ... OK
* checking Rd contents ... OK
* checking for unstated dependencies in examples ... OK
* checking contents of ‘data’ directory ... OK
* checking data for non-ASCII characters ... OK
* checking data for ASCII and uncompressed saves ... OK
* checking line endings in C/C++/Fortran sources/headers ... OK
* checking compiled code ... NOTE
Note: information on .o files is not available
* checking files in ‘vignettes’ ... OK
* checking examples ... OK
* checking for unstated dependencies in ‘tests’ ... OK
* checking tests ...
  Running ‘run_unitTests.R’
 OK
* checking for unstated dependencies in vignettes ... OK
* checking package vignettes ... OK
* checking re-building of vignette outputs ... OK
* checking PDF version of manual ... OK
* DONE
Status: 1 NOTE
See
  ‘/home/biocbuild/bbs-3.20-bioc/meat/pwalign.Rcheck/00check.log’
for details.
pwalign.Rcheck/00install.out
##############################################################################
##############################################################################
###
### Running command:
###
###   /home/biocbuild/bbs-3.20-bioc/R/bin/R CMD INSTALL pwalign
###
##############################################################################
##############################################################################
* installing to library ‘/home/biocbuild/bbs-3.20-bioc/R/site-library’
* installing *source* package ‘pwalign’ ...
** using staged installation
** libs
using C compiler: ‘gcc (Ubuntu 13.3.0-6ubuntu2~24.04) 13.3.0’
gcc -I"/home/biocbuild/bbs-3.20-bioc/R/include" -DNDEBUG  -I'/home/biocbuild/bbs-3.20-bioc/R/site-library/S4Vectors/include' -I'/home/biocbuild/bbs-3.20-bioc/R/site-library/IRanges/include' -I'/home/biocbuild/bbs-3.20-bioc/R/site-library/XVector/include' -I'/home/biocbuild/bbs-3.20-bioc/R/site-library/Biostrings/include' -I/usr/local/include    -fpic  -g -O2  -Wall -c Biostrings_stubs.c -o Biostrings_stubs.o
gcc -I"/home/biocbuild/bbs-3.20-bioc/R/include" -DNDEBUG  -I'/home/biocbuild/bbs-3.20-bioc/R/site-library/S4Vectors/include' -I'/home/biocbuild/bbs-3.20-bioc/R/site-library/IRanges/include' -I'/home/biocbuild/bbs-3.20-bioc/R/site-library/XVector/include' -I'/home/biocbuild/bbs-3.20-bioc/R/site-library/Biostrings/include' -I/usr/local/include    -fpic  -g -O2  -Wall -c IRanges_stubs.c -o IRanges_stubs.o
gcc -I"/home/biocbuild/bbs-3.20-bioc/R/include" -DNDEBUG  -I'/home/biocbuild/bbs-3.20-bioc/R/site-library/S4Vectors/include' -I'/home/biocbuild/bbs-3.20-bioc/R/site-library/IRanges/include' -I'/home/biocbuild/bbs-3.20-bioc/R/site-library/XVector/include' -I'/home/biocbuild/bbs-3.20-bioc/R/site-library/Biostrings/include' -I/usr/local/include    -fpic  -g -O2  -Wall -c R_init_pairwiseAlignment.c -o R_init_pairwiseAlignment.o
gcc -I"/home/biocbuild/bbs-3.20-bioc/R/include" -DNDEBUG  -I'/home/biocbuild/bbs-3.20-bioc/R/site-library/S4Vectors/include' -I'/home/biocbuild/bbs-3.20-bioc/R/site-library/IRanges/include' -I'/home/biocbuild/bbs-3.20-bioc/R/site-library/XVector/include' -I'/home/biocbuild/bbs-3.20-bioc/R/site-library/Biostrings/include' -I/usr/local/include    -fpic  -g -O2  -Wall -c S4Vectors_stubs.c -o S4Vectors_stubs.o
gcc -I"/home/biocbuild/bbs-3.20-bioc/R/include" -DNDEBUG  -I'/home/biocbuild/bbs-3.20-bioc/R/site-library/S4Vectors/include' -I'/home/biocbuild/bbs-3.20-bioc/R/site-library/IRanges/include' -I'/home/biocbuild/bbs-3.20-bioc/R/site-library/XVector/include' -I'/home/biocbuild/bbs-3.20-bioc/R/site-library/Biostrings/include' -I/usr/local/include    -fpic  -g -O2  -Wall -c XVector_stubs.c -o XVector_stubs.o
gcc -I"/home/biocbuild/bbs-3.20-bioc/R/include" -DNDEBUG  -I'/home/biocbuild/bbs-3.20-bioc/R/site-library/S4Vectors/include' -I'/home/biocbuild/bbs-3.20-bioc/R/site-library/IRanges/include' -I'/home/biocbuild/bbs-3.20-bioc/R/site-library/XVector/include' -I'/home/biocbuild/bbs-3.20-bioc/R/site-library/Biostrings/include' -I/usr/local/include    -fpic  -g -O2  -Wall -c align_pairwiseAlignment.c -o align_pairwiseAlignment.o
gcc -I"/home/biocbuild/bbs-3.20-bioc/R/include" -DNDEBUG  -I'/home/biocbuild/bbs-3.20-bioc/R/site-library/S4Vectors/include' -I'/home/biocbuild/bbs-3.20-bioc/R/site-library/IRanges/include' -I'/home/biocbuild/bbs-3.20-bioc/R/site-library/XVector/include' -I'/home/biocbuild/bbs-3.20-bioc/R/site-library/Biostrings/include' -I/usr/local/include    -fpic  -g -O2  -Wall -c align_utils.c -o align_utils.o
align_utils.c: In function ‘PairwiseAlignmentsSingleSubject_align_aligned’:
align_utils.c:234:78: warning: ‘indelStartPattern’ may be used uninitialized [-Wmaybe-uninitialized]
  234 |                                 if ((numberOfIndelPattern == 0) || (jPattern < indelStartPattern)) {
      |                                                                    ~~~~~~~~~~^~~~~~~~~~~~~~~~~~~~
align_utils.c:223:21: note: ‘indelStartPattern’ was declared here
  223 |                 int indelStartPattern, indelWidthPattern, indelStartSubject, indelWidthSubject;
      |                     ^~~~~~~~~~~~~~~~~
align_utils.c:240:55: warning: ‘indelWidthPattern’ may be used uninitialized [-Wmaybe-uninitialized]
  240 |                                         for (k = 0; k < indelWidthPattern; k++) {
      |                                                     ~~^~~~~~~~~~~~~~~~~~~
align_utils.c:223:40: note: ‘indelWidthPattern’ was declared here
  223 |                 int indelStartPattern, indelWidthPattern, indelStartSubject, indelWidthSubject;
      |                                        ^~~~~~~~~~~~~~~~~
align_utils.c:233:63: warning: ‘indelStartSubject’ may be used uninitialized [-Wmaybe-uninitialized]
  233 |                         if ((numberOfIndelSubject == 0) || (j < indelStartSubject)) {
      |                                                            ~~~^~~~~~~~~~~~~~~~~~~~
align_utils.c:223:59: note: ‘indelStartSubject’ was declared here
  223 |                 int indelStartPattern, indelWidthPattern, indelStartSubject, indelWidthSubject;
      |                                                           ^~~~~~~~~~~~~~~~~
align_utils.c:252:42: warning: ‘indelWidthSubject’ may be used uninitialized [-Wmaybe-uninitialized]
  252 |                                 jPattern += indelWidthSubject;
      |                                 ~~~~~~~~~^~~~~~~~~~~~~~~~~~~~
align_utils.c:223:78: note: ‘indelWidthSubject’ was declared here
  223 |                 int indelStartPattern, indelWidthPattern, indelStartSubject, indelWidthSubject;
      |                                                                              ^~~~~~~~~~~~~~~~~
gcc -shared -L/home/biocbuild/bbs-3.20-bioc/R/lib -L/usr/local/lib -o pwalign.so Biostrings_stubs.o IRanges_stubs.o R_init_pairwiseAlignment.o S4Vectors_stubs.o XVector_stubs.o align_pairwiseAlignment.o align_utils.o -L/home/biocbuild/bbs-3.20-bioc/R/lib -lR
installing to /home/biocbuild/bbs-3.20-bioc/R/site-library/00LOCK-pwalign/00new/pwalign/libs
** R
** data
** inst
** byte-compile and prepare package for lazy loading
Creating a new generic function for ‘insertion’ in package ‘pwalign’
Creating a new generic function for ‘deletion’ in package ‘pwalign’
Creating a new generic function for ‘unaligned’ in package ‘pwalign’
Creating a new generic function for ‘aligned’ in package ‘pwalign’
Creating a new generic function for ‘indel’ in package ‘pwalign’
Creating a new generic function for ‘nindel’ in package ‘pwalign’
Creating a new generic function for ‘PairwiseAlignments’ in package ‘pwalign’
Creating a new generic function for ‘alignedPattern’ in package ‘pwalign’
Creating a new generic function for ‘alignedSubject’ in package ‘pwalign’
Creating a new generic function for ‘PairwiseAlignmentsSingleSubject’ in package ‘pwalign’
Creating a new generic function for ‘nedit’ in package ‘pwalign’
Creating a new generic function for ‘mismatchTable’ in package ‘pwalign’
Creating a new generic function for ‘mismatchSummary’ in package ‘pwalign’
Creating a new generic function for ‘compareStrings’ in package ‘pwalign’
Creating a new generic function for ‘pid’ in package ‘pwalign’
Creating a new generic function for ‘pairwiseAlignment’ in package ‘pwalign’
Creating a new generic function for ‘stringDist’ in package ‘pwalign’
** help
*** installing help indices
** building package indices
** installing vignettes
** testing if installed package can be loaded from temporary location
** checking absolute paths in shared objects and dynamic libraries
** testing if installed package can be loaded from final location
** testing if installed package keeps a record of temporary installation path
* DONE (pwalign)
pwalign.Rcheck/tests/run_unitTests.Rout
R version 4.4.3 (2025-02-28) -- "Trophy Case"
Copyright (C) 2025 The R Foundation for Statistical Computing
Platform: x86_64-pc-linux-gnu
R is free software and comes with ABSOLUTELY NO WARRANTY.
You are welcome to redistribute it under certain conditions.
Type 'license()' or 'licence()' for distribution details.
R is a collaborative project with many contributors.
Type 'contributors()' for more information and
'citation()' on how to cite R or R packages in publications.
Type 'demo()' for some demos, 'help()' for on-line help, or
'help.start()' for an HTML browser interface to help.
Type 'q()' to quit R.
> require("pwalign") || stop("unable to load pwalign package")
Loading required package: pwalign
Loading required package: BiocGenerics
Attaching package: 'BiocGenerics'
The following objects are masked from 'package:stats':
    IQR, mad, sd, var, xtabs
The following objects are masked from 'package:base':
    Filter, Find, Map, Position, Reduce, anyDuplicated, aperm, append,
    as.data.frame, basename, cbind, colnames, dirname, do.call,
    duplicated, eval, evalq, get, grep, grepl, intersect, is.unsorted,
    lapply, mapply, match, mget, order, paste, pmax, pmax.int, pmin,
    pmin.int, rank, rbind, rownames, sapply, saveRDS, setdiff, table,
    tapply, union, unique, unsplit, which.max, which.min
Loading required package: S4Vectors
Loading required package: stats4
Attaching package: 'S4Vectors'
The following object is masked from 'package:utils':
    findMatches
The following objects are masked from 'package:base':
    I, expand.grid, unname
Loading required package: IRanges
Loading required package: Biostrings
Loading required package: XVector
Loading required package: GenomeInfoDb
Attaching package: 'Biostrings'
The following object is masked from 'package:base':
    strsplit
Attaching package: 'pwalign'
The following objects are masked from 'package:Biostrings':
    PairwiseAlignments, PairwiseAlignmentsSingleSubject, aligned,
    alignedPattern, alignedSubject, compareStrings, deletion,
    errorSubstitutionMatrices, indel, insertion, mismatchSummary,
    mismatchTable, nedit, nindel, nucleotideSubstitutionMatrix,
    pairwiseAlignment, pid, qualitySubstitutionMatrices, stringDist,
    unaligned, writePairwiseAlignments
[1] TRUE
> pwalign:::.test()
RUNIT TEST PROTOCOL -- Tue Apr  1 01:13:24 2025 
*********************************************** 
Number of test functions: 7 
Number of errors: 0 
Number of failures: 0 
 
1 Test Suite : 
pwalign RUnit Tests - 7 test functions, 0 errors, 0 failures
Number of test functions: 7 
Number of errors: 0 
Number of failures: 0 
> 
> proc.time()
   user  system elapsed 
  8.097   0.377   8.459 
pwalign.Rcheck/pwalign-Ex.timings
| name | user | system | elapsed | |
| AlignedXStringSet-class | 0.071 | 0.001 | 0.072 | |
| InDel-class | 0.083 | 0.012 | 0.095 | |
| PairwiseAlignments-class | 0.487 | 0.041 | 0.529 | |
| PairwiseAlignments-io | 2.047 | 0.056 | 2.104 | |
| align-utils | 0.045 | 0.000 | 0.045 | |
| pairwiseAlignment | 1.052 | 0.032 | 1.083 | |
| phiX174Phage | 0.698 | 0.013 | 0.710 | |
| pid | 0.287 | 0.001 | 0.288 | |
| predefined_scoring_matrices | 0.195 | 0.000 | 0.194 | |
| stringDist | 3.526 | 0.003 | 3.528 | |
| substitution_matrices | 0.478 | 0.000 | 0.477 | |