Back to Multiple platform build/check report for BioC 3.20: simplified long |
|
This page was generated on 2025-01-30 12:12 -0500 (Thu, 30 Jan 2025).
Hostname | OS | Arch (*) | R version | Installed pkgs |
---|---|---|---|---|
nebbiolo2 | Linux (Ubuntu 24.04.1 LTS) | x86_64 | 4.4.2 (2024-10-31) -- "Pile of Leaves" | 4746 |
palomino8 | Windows Server 2022 Datacenter | x64 | 4.4.2 (2024-10-31 ucrt) -- "Pile of Leaves" | 4494 |
merida1 | macOS 12.7.5 Monterey | x86_64 | 4.4.2 (2024-10-31) -- "Pile of Leaves" | 4517 |
kjohnson1 | macOS 13.6.6 Ventura | arm64 | 4.4.2 (2024-10-31) -- "Pile of Leaves" | 4469 |
taishan | Linux (openEuler 24.03 LTS) | aarch64 | 4.4.2 (2024-10-31) -- "Pile of Leaves" | 4400 |
Click on any hostname to see more info about the system (e.g. compilers) (*) as reported by 'uname -p', except on Windows and Mac OS X |
Package 1565/2289 | Hostname | OS / Arch | INSTALL | BUILD | CHECK | BUILD BIN | ||||||||
plotgardener 1.12.0 (landing page) Nicole Kramer
| nebbiolo2 | Linux (Ubuntu 24.04.1 LTS) / x86_64 | OK | OK | OK | |||||||||
palomino8 | Windows Server 2022 Datacenter / x64 | OK | OK | ERROR | OK | |||||||||
merida1 | macOS 12.7.5 Monterey / x86_64 | OK | OK | OK | OK | |||||||||
kjohnson1 | macOS 13.6.6 Ventura / arm64 | OK | OK | WARNINGS | OK | |||||||||
taishan | Linux (openEuler 24.03 LTS) / aarch64 | OK | OK | OK | ||||||||||
To the developers/maintainers of the plotgardener package: - Allow up to 24 hours (and sometimes 48 hours) for your latest push to git@git.bioconductor.org:packages/plotgardener.git to reflect on this report. See Troubleshooting Build Report for more information. - Use the following Renviron settings to reproduce errors and warnings. - If 'R CMD check' started to fail recently on the Linux builder(s) over a missing dependency, add the missing dependency to 'Suggests:' in your DESCRIPTION file. See Renviron.bioc for more information. - See Martin Grigorov's blog post for how to debug Linux ARM64 related issues on a x86_64 host. |
Package: plotgardener |
Version: 1.12.0 |
Command: /home/biocbuild/R/R/bin/R CMD check --install=check:plotgardener.install-out.txt --library=/home/biocbuild/R/R/site-library --no-vignettes --timings plotgardener_1.12.0.tar.gz |
StartedAt: 2025-01-28 10:04:51 -0000 (Tue, 28 Jan 2025) |
EndedAt: 2025-01-28 10:15:05 -0000 (Tue, 28 Jan 2025) |
EllapsedTime: 613.6 seconds |
RetCode: 0 |
Status: OK |
CheckDir: plotgardener.Rcheck |
Warnings: 0 |
############################################################################## ############################################################################## ### ### Running command: ### ### /home/biocbuild/R/R/bin/R CMD check --install=check:plotgardener.install-out.txt --library=/home/biocbuild/R/R/site-library --no-vignettes --timings plotgardener_1.12.0.tar.gz ### ############################################################################## ############################################################################## * using log directory ‘/home/biocbuild/bbs-3.20-bioc/meat/plotgardener.Rcheck’ * using R version 4.4.2 (2024-10-31) * using platform: aarch64-unknown-linux-gnu * R was compiled by aarch64-unknown-linux-gnu-gcc (GCC) 14.2.0 GNU Fortran (GCC) 12.3.1 (openEuler 12.3.1-36.oe2403) * running under: openEuler 24.03 (LTS) * using session charset: UTF-8 * using option ‘--no-vignettes’ * checking for file ‘plotgardener/DESCRIPTION’ ... OK * this is package ‘plotgardener’ version ‘1.12.0’ * package encoding: UTF-8 * checking package namespace information ... OK * checking package dependencies ... OK * checking if this is a source package ... OK * checking if there is a namespace ... OK * checking for hidden files and directories ... OK * checking for portable file names ... OK * checking for sufficient/correct file permissions ... OK * checking whether package ‘plotgardener’ can be installed ... OK * used C++ compiler: ‘aarch64-unknown-linux-gnu-g++ (GCC) 14.2.0’ * checking installed package size ... OK * checking package directory ... OK * checking ‘build’ directory ... OK * checking DESCRIPTION meta-information ... OK * checking top-level files ... OK * checking for left-over files ... OK * checking index information ... OK * checking package subdirectories ... OK * checking code files for non-ASCII characters ... OK * checking R files for syntax errors ... OK * checking whether the package can be loaded ... OK * checking whether the package can be loaded with stated dependencies ... OK * checking whether the package can be unloaded cleanly ... OK * checking whether the namespace can be loaded with stated dependencies ... OK * checking whether the namespace can be unloaded cleanly ... OK * checking loading without being on the library search path ... OK * checking whether startup messages can be suppressed ... OK * checking dependencies in R code ... OK * checking S3 generic/method consistency ... OK * checking replacement functions ... OK * checking foreign function calls ... OK * checking R code for possible problems ... NOTE .checkCool: no visible binding for global variable ‘name’ pgParams: no visible binding for global variable ‘width’ pgParams: no visible binding for global variable ‘strand’ Undefined global functions or variables: name strand width * checking Rd files ... NOTE checkRd: (-1) annoDomains.Rd:28-29: Lost braces in \itemize; meant \describe ? checkRd: (-1) annoDomains.Rd:30-31: Lost braces in \itemize; meant \describe ? checkRd: (-1) annoDomains.Rd:32-33: Lost braces in \itemize; meant \describe ? checkRd: (-1) annoDomains.Rd:34-35: Lost braces in \itemize; meant \describe ? checkRd: (-1) annoGenomeLabel.Rd:47: Lost braces in \itemize; meant \describe ? checkRd: (-1) annoGenomeLabel.Rd:48-49: Lost braces in \itemize; meant \describe ? checkRd: (-1) annoGenomeLabel.Rd:50-51: Lost braces in \itemize; meant \describe ? checkRd: (-1) annoGenomeLabel.Rd:69: Lost braces in \itemize; meant \describe ? checkRd: (-1) annoGenomeLabel.Rd:70-72: Lost braces in \itemize; meant \describe ? checkRd: (-1) annoHeatmapLegend.Rd:33: Lost braces in \itemize; meant \describe ? checkRd: (-1) annoHeatmapLegend.Rd:34: Lost braces in \itemize; meant \describe ? checkRd: (-1) annoPixels.Rd:30: Lost braces in \itemize; meant \describe ? checkRd: (-1) annoPixels.Rd:31: Lost braces in \itemize; meant \describe ? checkRd: (-1) annoPixels.Rd:32: Lost braces in \itemize; meant \describe ? checkRd: (-1) annoPixels.Rd:39-40: Lost braces in \itemize; meant \describe ? checkRd: (-1) annoPixels.Rd:41-42: Lost braces in \itemize; meant \describe ? checkRd: (-1) annoPixels.Rd:43-44: Lost braces in \itemize; meant \describe ? checkRd: (-1) annoPixels.Rd:45-46: Lost braces in \itemize; meant \describe ? checkRd: (-1) annoSegments.Rd:64: Lost braces in \itemize; meant \describe ? checkRd: (-1) annoSegments.Rd:65: Lost braces in \itemize; meant \describe ? checkRd: (-1) annoSegments.Rd:66: Lost braces in \itemize; meant \describe ? checkRd: (-1) annoXaxis.Rd:31: Lost braces in \itemize; meant \describe ? checkRd: (-1) annoXaxis.Rd:32: Lost braces in \itemize; meant \describe ? checkRd: (-1) annoYaxis.Rd:31: Lost braces in \itemize; meant \describe ? checkRd: (-1) annoYaxis.Rd:32: Lost braces in \itemize; meant \describe ? checkRd: (-1) plotGenomeLabel.Rd:58: Lost braces in \itemize; meant \describe ? checkRd: (-1) plotGenomeLabel.Rd:59-60: Lost braces in \itemize; meant \describe ? checkRd: (-1) plotGenomeLabel.Rd:61-62: Lost braces in \itemize; meant \describe ? checkRd: (-1) plotGenomeLabel.Rd:80: Lost braces in \itemize; meant \describe ? checkRd: (-1) plotGenomeLabel.Rd:81-83: Lost braces in \itemize; meant \describe ? checkRd: (-1) plotHicRectangle.Rd:55: Lost braces in \itemize; meant \describe ? checkRd: (-1) plotHicRectangle.Rd:56: Lost braces in \itemize; meant \describe ? checkRd: (-1) plotHicRectangle.Rd:57: Lost braces in \itemize; meant \describe ? checkRd: (-1) plotHicSquare.Rd:58: Lost braces in \itemize; meant \describe ? checkRd: (-1) plotHicSquare.Rd:59: Lost braces in \itemize; meant \describe ? checkRd: (-1) plotHicSquare.Rd:60: Lost braces in \itemize; meant \describe ? checkRd: (-1) plotHicSquare.Rd:97: Lost braces in \itemize; meant \describe ? checkRd: (-1) plotHicSquare.Rd:98: Lost braces in \itemize; meant \describe ? checkRd: (-1) plotHicSquare.Rd:99: Lost braces in \itemize; meant \describe ? checkRd: (-1) plotHicTriangle.Rd:54: Lost braces in \itemize; meant \describe ? checkRd: (-1) plotHicTriangle.Rd:55: Lost braces in \itemize; meant \describe ? checkRd: (-1) plotHicTriangle.Rd:56: Lost braces in \itemize; meant \describe ? checkRd: (-1) plotIdeogram.Rd:40: Lost braces in \itemize; meant \describe ? checkRd: (-1) plotIdeogram.Rd:41: Lost braces in \itemize; meant \describe ? checkRd: (-1) plotLegend.Rd:42: Lost braces in \itemize; meant \describe ? checkRd: (-1) plotLegend.Rd:43: Lost braces in \itemize; meant \describe ? checkRd: (-1) plotManhattan.Rd:45: Lost braces in \itemize; meant \describe ? checkRd: (-1) plotManhattan.Rd:46-47: Lost braces in \itemize; meant \describe ? checkRd: (-1) plotManhattan.Rd:48-49: Lost braces in \itemize; meant \describe ? checkRd: (-1) plotManhattan.Rd:50-51: Lost braces in \itemize; meant \describe ? checkRd: (-1) plotMultiSignal.Rd:103-104: Lost braces in \itemize; meant \describe ? checkRd: (-1) plotMultiSignal.Rd:105-106: Lost braces in \itemize; meant \describe ? checkRd: (-1) plotPairs.Rd:58: Lost braces in \itemize; meant \describe ? checkRd: (-1) plotPairs.Rd:59: Lost braces in \itemize; meant \describe ? checkRd: (-1) plotPairsArches.Rd:56: Lost braces in \itemize; meant \describe ? checkRd: (-1) plotPairsArches.Rd:57: Lost braces in \itemize; meant \describe ? checkRd: (-1) plotPairsArches.Rd:79: Lost braces in \itemize; meant \describe ? checkRd: (-1) plotPairsArches.Rd:80: Lost braces in \itemize; meant \describe ? checkRd: (-1) plotRanges.Rd:62: Lost braces in \itemize; meant \describe ? checkRd: (-1) plotRanges.Rd:63: Lost braces in \itemize; meant \describe ? checkRd: (-1) plotRanges.Rd:70: Lost braces in \itemize; meant \describe ? checkRd: (-1) plotRanges.Rd:71: Lost braces in \itemize; meant \describe ? checkRd: (-1) plotSegments.Rd:68: Lost braces in \itemize; meant \describe ? checkRd: (-1) plotSegments.Rd:69: Lost braces in \itemize; meant \describe ? checkRd: (-1) plotSegments.Rd:70: Lost braces in \itemize; meant \describe ? checkRd: (-1) plotSignal.Rd:104: Lost braces in \itemize; meant \describe ? checkRd: (-1) plotSignal.Rd:105: Lost braces in \itemize; meant \describe ? checkRd: (-1) plotTranscripts.Rd:88: Lost braces in \itemize; meant \describe ? checkRd: (-1) plotTranscripts.Rd:89: Lost braces in \itemize; meant \describe ? checkRd: (-1) plotTranscripts.Rd:90: Lost braces in \itemize; meant \describe ? checkRd: (-1) plotTranscripts.Rd:91-92: Lost braces in \itemize; meant \describe ? checkRd: (-1) readBigwig.Rd:29: Lost braces in \itemize; meant \describe ? checkRd: (-1) readBigwig.Rd:30: Lost braces in \itemize; meant \describe ? checkRd: (-1) readBigwig.Rd:31: Lost braces in \itemize; meant \describe ? checkRd: (-1) readHic.Rd:54: Lost braces in \itemize; meant \describe ? checkRd: (-1) readHic.Rd:55: Lost braces in \itemize; meant \describe ? checkRd: (-1) readHic.Rd:68: Lost braces in \itemize; meant \describe ? checkRd: (-1) readHic.Rd:69: Lost braces in \itemize; meant \describe ? checkRd: (-1) readHic.Rd:70: Lost braces in \itemize; meant \describe ? * checking Rd metadata ... OK * checking Rd cross-references ... OK * checking for missing documentation entries ... OK * checking for code/documentation mismatches ... OK * checking Rd \usage sections ... OK * checking Rd contents ... OK * checking for unstated dependencies in examples ... OK * checking R/sysdata.rda ... OK * checking line endings in C/C++/Fortran sources/headers ... OK * checking compiled code ... NOTE Note: information on .o files is not available * checking files in ‘vignettes’ ... OK * checking examples ... OK Examples with CPU (user + system) or elapsed time > 5s user system elapsed plotRaster 10.379 0.276 10.686 plotGenes 6.096 0.112 6.222 plotIdeogram 5.804 0.219 10.200 readCool 0.983 0.331 91.266 * checking for unstated dependencies in ‘tests’ ... OK * checking tests ... Running ‘testthat.R’ OK * checking for unstated dependencies in vignettes ... OK * checking package vignettes ... OK * checking running R code from vignettes ... SKIPPED * checking re-building of vignette outputs ... SKIPPED * checking PDF version of manual ... OK * DONE Status: 3 NOTEs See ‘/home/biocbuild/bbs-3.20-bioc/meat/plotgardener.Rcheck/00check.log’ for details.
plotgardener.Rcheck/00install.out
############################################################################## ############################################################################## ### ### Running command: ### ### /home/biocbuild/R/R/bin/R CMD INSTALL plotgardener ### ############################################################################## ############################################################################## * installing to library ‘/home/biocbuild/R/R-4.4.2/site-library’ * installing *source* package ‘plotgardener’ ... ** using staged installation ** libs using C++ compiler: ‘aarch64-unknown-linux-gnu-g++ (GCC) 14.2.0’ /opt/ohpc/pub/compiler/gcc/14.2.0/bin/aarch64-unknown-linux-gnu-g++ -std=gnu++17 -I"/home/biocbuild/R/R/include" -DNDEBUG -I'/home/biocbuild/R/R-4.4.2/site-library/Rcpp/include' -I/usr/local/include -fPIC -g -O2 -Wall -Werror=format-security -c RcppExports.cpp -o RcppExports.o /opt/ohpc/pub/compiler/gcc/14.2.0/bin/aarch64-unknown-linux-gnu-g++ -std=gnu++17 -I"/home/biocbuild/R/R/include" -DNDEBUG -I'/home/biocbuild/R/R-4.4.2/site-library/Rcpp/include' -I/usr/local/include -fPIC -g -O2 -Wall -Werror=format-security -c checkRow.cpp -o checkRow.o /opt/ohpc/pub/compiler/gcc/14.2.0/bin/aarch64-unknown-linux-gnu-g++ -std=gnu++17 -I"/home/biocbuild/R/R/include" -DNDEBUG -I'/home/biocbuild/R/R-4.4.2/site-library/Rcpp/include' -I/usr/local/include -fPIC -g -O2 -Wall -Werror=format-security -c rebinBigwig.cpp -o rebinBigwig.o /opt/ohpc/pub/compiler/gcc/14.2.0/bin/aarch64-unknown-linux-gnu-g++ -std=gnu++17 -shared -L/home/biocbuild/R/R/lib -L/usr/local/lib -o plotgardener.so RcppExports.o checkRow.o rebinBigwig.o -L/home/biocbuild/R/R/lib -lR installing to /home/biocbuild/R/R-4.4.2/site-library/00LOCK-plotgardener/00new/plotgardener/libs ** R ** inst ** byte-compile and prepare package for lazy loading ** help *** installing help indices *** copying figures ** building package indices ** installing vignettes ** testing if installed package can be loaded from temporary location ** checking absolute paths in shared objects and dynamic libraries ** testing if installed package can be loaded from final location ** testing if installed package keeps a record of temporary installation path * DONE (plotgardener)
plotgardener.Rcheck/tests/testthat.Rout
R version 4.4.2 (2024-10-31) -- "Pile of Leaves" Copyright (C) 2024 The R Foundation for Statistical Computing Platform: aarch64-unknown-linux-gnu R is free software and comes with ABSOLUTELY NO WARRANTY. You are welcome to redistribute it under certain conditions. Type 'license()' or 'licence()' for distribution details. R is a collaborative project with many contributors. Type 'contributors()' for more information and 'citation()' on how to cite R or R packages in publications. Type 'demo()' for some demos, 'help()' for on-line help, or 'help.start()' for an HTML browser interface to help. Type 'q()' to quit R. > library(testthat) > library(plotgardener) Attaching package: 'plotgardener' The following object is masked from 'package:base': c > > test_check("plotgardener") Loading required package: GenomicFeatures Loading required package: BiocGenerics Attaching package: 'BiocGenerics' The following objects are masked from 'package:stats': IQR, mad, sd, var, xtabs The following objects are masked from 'package:base': Filter, Find, Map, Position, Reduce, anyDuplicated, aperm, append, as.data.frame, basename, cbind, colnames, dirname, do.call, duplicated, eval, evalq, get, grep, grepl, intersect, is.unsorted, lapply, mapply, match, mget, order, paste, pmax, pmax.int, pmin, pmin.int, rank, rbind, rownames, sapply, saveRDS, setdiff, table, tapply, union, unique, unsplit, which.max, which.min Loading required package: S4Vectors Loading required package: stats4 Attaching package: 'S4Vectors' The following object is masked from 'package:utils': findMatches The following objects are masked from 'package:base': I, expand.grid, unname Loading required package: IRanges Loading required package: GenomeInfoDb Loading required package: GenomicRanges Loading required package: AnnotationDbi Loading required package: Biobase Welcome to Bioconductor Vignettes contain introductory material; view with 'browseVignettes()'. To cite Bioconductor, see 'citation("Biobase")', and for packages 'citation("pkgname")'. Using poppler version 23.12.0 Loading required package: BiocFileCache Loading required package: dbplyr Attaching package: 'AnnotationHub' The following object is masked from 'package:Biobase': cache pairs[pairs1] arches[arches1] ranges[ranges1] transcripts[transcripts1] start, endLoading required package: SummarizedExperiment Loading required package: MatrixGenerics Loading required package: matrixStats Attaching package: 'matrixStats' The following objects are masked from 'package:Biobase': anyMissing, rowMedians Attaching package: 'MatrixGenerics' The following objects are masked from 'package:matrixStats': colAlls, colAnyNAs, colAnys, colAvgsPerRowSet, colCollapse, colCounts, colCummaxs, colCummins, colCumprods, colCumsums, colDiffs, colIQRDiffs, colIQRs, colLogSumExps, colMadDiffs, colMads, colMaxs, colMeans2, colMedians, colMins, colOrderStats, colProds, colQuantiles, colRanges, colRanks, colSdDiffs, colSds, colSums2, colTabulates, colVarDiffs, colVars, colWeightedMads, colWeightedMeans, colWeightedMedians, colWeightedSds, colWeightedVars, rowAlls, rowAnyNAs, rowAnys, rowAvgsPerColSet, rowCollapse, rowCounts, rowCummaxs, rowCummins, rowCumprods, rowCumsums, rowDiffs, rowIQRDiffs, rowIQRs, rowLogSumExps, rowMadDiffs, rowMads, rowMaxs, rowMeans2, rowMedians, rowMins, rowOrderStats, rowProds, rowQuantiles, rowRanges, rowRanks, rowSdDiffs, rowSds, rowSums2, rowTabulates, rowVarDiffs, rowVars, rowWeightedMads, rowWeightedMeans, rowWeightedMedians, rowWeightedSds, rowWeightedVars The following object is masked from 'package:Biobase': rowMedians Read in hic file with KR normalization at 1e+05 BP resolution. trying URL 'https://usgs2.osn.mghpcc.org/cooler01/examples/hg19/Rao2014-IMR90-MboI-allreps-filtered.1000kb.cool' Content type 'binary/octet-stream' length 4103444 bytes (3.9 MB) ================================================== downloaded 3.9 MB trying URL 'https://zenodo.org/records/10906240/files/LEUK_HEK_PJA27_inter_30.mcool?download=1' Content type 'application/octet-stream' length 55194561 bytes (52.6 MB) ================================================== downloaded 52.6 MB signal[signal1_h] signal[signal1_h] [ FAIL 0 | WARN 0 | SKIP 0 | PASS 133 ] > > proc.time() user system elapsed 52.129 3.317 153.949
plotgardener.Rcheck/plotgardener-Ex.timings
name | user | system | elapsed | |
annoDomains | 1.576 | 0.051 | 1.638 | |
annoGenomeLabel | 3.001 | 0.092 | 3.102 | |
annoHeatmapLegend | 1.414 | 0.004 | 1.421 | |
annoHighlight | 0.890 | 0.032 | 0.926 | |
annoPixels | 1.081 | 0.020 | 1.104 | |
annoSegments | 1.899 | 0.020 | 1.924 | |
annoText | 0.967 | 0.016 | 0.985 | |
annoXaxis | 1.757 | 0.020 | 1.782 | |
annoYaxis | 0.666 | 0.012 | 0.679 | |
annoZoomLines | 2.684 | 0.091 | 2.785 | |
assembly | 0.000 | 0.001 | 0.001 | |
c | 0 | 0 | 0 | |
calcSignalRange | 0.318 | 0.008 | 0.333 | |
colorby | 0.603 | 0.008 | 0.611 | |
defaultPackages | 0.009 | 0.004 | 0.013 | |
genomes | 0.000 | 0.000 | 0.001 | |
mapColors | 0.123 | 0.004 | 0.128 | |
pageCreate | 0.055 | 0.000 | 0.055 | |
pageGuideHide | 0.043 | 0.004 | 0.047 | |
pageGuideHorizontal | 0.043 | 0.000 | 0.043 | |
pageGuideShow | 0.871 | 0.012 | 0.885 | |
pageGuideVertical | 0.108 | 0.000 | 0.108 | |
pageLayoutCol | 0.001 | 0.000 | 0.001 | |
pageLayoutRow | 0.000 | 0.000 | 0.001 | |
pagePlotPlace | 0.683 | 0.024 | 0.709 | |
pagePlotRemove | 0.519 | 0.004 | 0.524 | |
pgParams | 2.359 | 0.055 | 2.421 | |
plotCircle | 0.042 | 0.000 | 0.043 | |
plotGG | 0.289 | 0.008 | 0.298 | |
plotGenes | 6.096 | 0.112 | 6.222 | |
plotGenomeLabel | 2.295 | 0.056 | 2.357 | |
plotHicRectangle | 0.561 | 0.016 | 0.578 | |
plotHicSquare | 0.760 | 0.012 | 0.773 | |
plotHicTriangle | 1.491 | 0.036 | 1.531 | |
plotIdeogram | 5.804 | 0.219 | 10.200 | |
plotLegend | 0.445 | 0.004 | 0.452 | |
plotManhattan | 1.920 | 0.020 | 1.945 | |
plotMultiSignal | 1.954 | 0.020 | 1.979 | |
plotPairs | 0.179 | 0.000 | 0.180 | |
plotPairsArches | 0.189 | 0.003 | 0.192 | |
plotPolygon | 0.068 | 0.000 | 0.068 | |
plotRanges | 0.265 | 0.007 | 0.273 | |
plotRaster | 10.379 | 0.276 | 10.686 | |
plotRect | 0.660 | 0.012 | 0.674 | |
plotSegments | 0.081 | 0.004 | 0.085 | |
plotSignal | 0.924 | 0.004 | 0.935 | |
plotText | 0.056 | 0.008 | 0.065 | |
plotTranscripts | 1.257 | 0.048 | 1.309 | |
readBigwig | 0.395 | 0.035 | 0.434 | |
readCool | 0.983 | 0.331 | 91.266 | |
readHic | 0.011 | 0.000 | 0.013 | |