| Back to Multiple platform build/check report for BioC 3.20: simplified long |
|
This page was generated on 2025-04-02 19:29 -0400 (Wed, 02 Apr 2025).
| Hostname | OS | Arch (*) | R version | Installed pkgs |
|---|---|---|---|---|
| nebbiolo2 | Linux (Ubuntu 24.04.1 LTS) | x86_64 | 4.4.3 (2025-02-28) -- "Trophy Case" | 4764 |
| palomino8 | Windows Server 2022 Datacenter | x64 | 4.4.3 (2025-02-28 ucrt) -- "Trophy Case" | 4495 |
| merida1 | macOS 12.7.5 Monterey | x86_64 | 4.4.3 (2025-02-28) -- "Trophy Case" | 4522 |
| kjohnson1 | macOS 13.6.6 Ventura | arm64 | 4.4.3 (2025-02-28) -- "Trophy Case" | 4449 |
| taishan | Linux (openEuler 24.03 LTS) | aarch64 | 4.4.3 (2025-02-28) -- "Trophy Case" | 4426 |
| Click on any hostname to see more info about the system (e.g. compilers) (*) as reported by 'uname -p', except on Windows and Mac OS X | ||||
| Package 1487/2289 | Hostname | OS / Arch | INSTALL | BUILD | CHECK | BUILD BIN | ||||||||
| packFinder 1.18.0 (landing page) Jack Gisby
| nebbiolo2 | Linux (Ubuntu 24.04.1 LTS) / x86_64 | OK | OK | OK | |||||||||
| palomino8 | Windows Server 2022 Datacenter / x64 | OK | OK | OK | OK | |||||||||
| merida1 | macOS 12.7.5 Monterey / x86_64 | OK | OK | OK | OK | |||||||||
| kjohnson1 | macOS 13.6.6 Ventura / arm64 | OK | OK | OK | OK | |||||||||
| taishan | Linux (openEuler 24.03 LTS) / aarch64 | OK | OK | OK | ||||||||||
|
To the developers/maintainers of the packFinder package: - Allow up to 24 hours (and sometimes 48 hours) for your latest push to git@git.bioconductor.org:packages/packFinder.git to reflect on this report. See Troubleshooting Build Report for more information. - Use the following Renviron settings to reproduce errors and warnings. - If 'R CMD check' started to fail recently on the Linux builder(s) over a missing dependency, add the missing dependency to 'Suggests:' in your DESCRIPTION file. See Renviron.bioc for more information. |
| Package: packFinder |
| Version: 1.18.0 |
| Command: /home/biocbuild/bbs-3.20-bioc/R/bin/R CMD check --install=check:packFinder.install-out.txt --library=/home/biocbuild/bbs-3.20-bioc/R/site-library --timings packFinder_1.18.0.tar.gz |
| StartedAt: 2025-04-01 00:43:14 -0400 (Tue, 01 Apr 2025) |
| EndedAt: 2025-04-01 00:44:20 -0400 (Tue, 01 Apr 2025) |
| EllapsedTime: 66.1 seconds |
| RetCode: 0 |
| Status: OK |
| CheckDir: packFinder.Rcheck |
| Warnings: 0 |
##############################################################################
##############################################################################
###
### Running command:
###
### /home/biocbuild/bbs-3.20-bioc/R/bin/R CMD check --install=check:packFinder.install-out.txt --library=/home/biocbuild/bbs-3.20-bioc/R/site-library --timings packFinder_1.18.0.tar.gz
###
##############################################################################
##############################################################################
* using log directory ‘/home/biocbuild/bbs-3.20-bioc/meat/packFinder.Rcheck’
* using R version 4.4.3 (2025-02-28)
* using platform: x86_64-pc-linux-gnu
* R was compiled by
gcc (Ubuntu 13.3.0-6ubuntu2~24.04) 13.3.0
GNU Fortran (Ubuntu 13.3.0-6ubuntu2~24.04) 13.3.0
* running under: Ubuntu 24.04.2 LTS
* using session charset: UTF-8
* checking for file ‘packFinder/DESCRIPTION’ ... OK
* checking extension type ... Package
* this is package ‘packFinder’ version ‘1.18.0’
* package encoding: UTF-8
* checking package namespace information ... OK
* checking package dependencies ... OK
* checking if this is a source package ... OK
* checking if there is a namespace ... OK
* checking for hidden files and directories ... OK
* checking for portable file names ... OK
* checking for sufficient/correct file permissions ... OK
* checking whether package ‘packFinder’ can be installed ... OK
* checking installed package size ... OK
* checking package directory ... OK
* checking ‘build’ directory ... OK
* checking DESCRIPTION meta-information ... OK
* checking top-level files ... OK
* checking for left-over files ... OK
* checking index information ... OK
* checking package subdirectories ... OK
* checking code files for non-ASCII characters ... OK
* checking R files for syntax errors ... OK
* checking whether the package can be loaded ... OK
* checking whether the package can be loaded with stated dependencies ... OK
* checking whether the package can be unloaded cleanly ... OK
* checking whether the namespace can be loaded with stated dependencies ... OK
* checking whether the namespace can be unloaded cleanly ... OK
* checking loading without being on the library search path ... OK
* checking dependencies in R code ... OK
* checking S3 generic/method consistency ... OK
* checking replacement functions ... OK
* checking foreign function calls ... OK
* checking R code for possible problems ... OK
* checking Rd files ... NOTE
checkRd: (-1) readBlast.Rd:100: Lost braces
100 | code{\link{blastAnalysis}}, code{\link{blastAnnotate}},
| ^
checkRd: (-1) readBlast.Rd:100: Lost braces
100 | code{\link{blastAnalysis}}, code{\link{blastAnnotate}},
| ^
checkRd: (-1) readBlast.Rd:101: Lost braces
101 | code{\link{packAlign}},
| ^
checkRd: (-1) readBlast.Rd:102: Lost braces
102 | code{\link{readUc}}, code{\link{packClust}}
| ^
checkRd: (-1) readBlast.Rd:102: Lost braces
102 | code{\link{readUc}}, code{\link{packClust}}
| ^
checkRd: (-1) readUc.Rd:98: Lost braces
98 | code{\link{tirClust}}, code{\link{packAlign}},
| ^
checkRd: (-1) readUc.Rd:98: Lost braces
98 | code{\link{tirClust}}, code{\link{packAlign}},
| ^
checkRd: (-1) readUc.Rd:99: Lost braces
99 | code{\link{readBlast}}, code{\link{packClust}}
| ^
checkRd: (-1) readUc.Rd:99: Lost braces
99 | code{\link{readBlast}}, code{\link{packClust}}
| ^
checkRd: (-1) tirClust.Rd:86: Lost braces
86 | code{\link{packClust}}, code{\link{packAlign}},
| ^
checkRd: (-1) tirClust.Rd:86: Lost braces
86 | code{\link{packClust}}, code{\link{packAlign}},
| ^
* checking Rd metadata ... OK
* checking Rd cross-references ... OK
* checking for missing documentation entries ... OK
* checking for code/documentation mismatches ... OK
* checking Rd \usage sections ... OK
* checking Rd contents ... OK
* checking for unstated dependencies in examples ... OK
* checking contents of ‘data’ directory ... OK
* checking data for non-ASCII characters ... OK
* checking data for ASCII and uncompressed saves ... OK
* checking files in ‘vignettes’ ... OK
* checking examples ... OK
* checking for unstated dependencies in ‘tests’ ... OK
* checking tests ...
Running ‘testthat.R’
OK
* checking for unstated dependencies in vignettes ... OK
* checking package vignettes ... OK
* checking re-building of vignette outputs ... OK
* checking PDF version of manual ... OK
* DONE
Status: 1 NOTE
See
‘/home/biocbuild/bbs-3.20-bioc/meat/packFinder.Rcheck/00check.log’
for details.
packFinder.Rcheck/00install.out
############################################################################## ############################################################################## ### ### Running command: ### ### /home/biocbuild/bbs-3.20-bioc/R/bin/R CMD INSTALL packFinder ### ############################################################################## ############################################################################## * installing to library ‘/home/biocbuild/bbs-3.20-bioc/R/site-library’ * installing *source* package ‘packFinder’ ... ** using staged installation ** R ** data ** inst ** byte-compile and prepare package for lazy loading ** help *** installing help indices ** building package indices ** installing vignettes ** testing if installed package can be loaded from temporary location ** testing if installed package can be loaded from final location ** testing if installed package keeps a record of temporary installation path * DONE (packFinder)
packFinder.Rcheck/tests/testthat.Rout
R version 4.4.3 (2025-02-28) -- "Trophy Case"
Copyright (C) 2025 The R Foundation for Statistical Computing
Platform: x86_64-pc-linux-gnu
R is free software and comes with ABSOLUTELY NO WARRANTY.
You are welcome to redistribute it under certain conditions.
Type 'license()' or 'licence()' for distribution details.
R is a collaborative project with many contributors.
Type 'contributors()' for more information and
'citation()' on how to cite R or R packages in publications.
Type 'demo()' for some demos, 'help()' for on-line help, or
'help.start()' for an HTML browser interface to help.
Type 'q()' to quit R.
> library(testthat)
> library(packFinder)
>
> test_check("packFinder")
DNAStringSet object of length 1:
width seq names
[1] 3800001 GGTGTTAAAAGGTTCTTGAGTG...TAGTCAGGTTTCTAACAGAAAA Chr3
[1] "File successfully written to tempTestOutput/packMatches.csv"
[1] "FASTA written to tempTestOutput/packMatches.fasta"
[ FAIL 0 | WARN 0 | SKIP 0 | PASS 31 ]
>
> proc.time()
user system elapsed
6.036 0.430 6.445
packFinder.Rcheck/packFinder-Ex.timings
| name | user | system | elapsed | |
| arabidopsisThalianaRefseq | 3.742 | 0.178 | 3.921 | |
| blastAnalysis | 0 | 0 | 0 | |
| blastAnnotate | 0.005 | 0.000 | 0.005 | |
| collapseSeqs | 0.412 | 0.009 | 0.421 | |
| filterWildcards | 0.074 | 0.005 | 0.079 | |
| getPackSeqs | 0.877 | 0.003 | 0.881 | |
| getPacksFromCsv | 0.002 | 0.000 | 0.002 | |
| getPacksFromFasta | 0.058 | 0.010 | 0.067 | |
| getPacksFromGRanges | 0.078 | 0.000 | 0.078 | |
| getTsds | 0.077 | 0.002 | 0.078 | |
| identifyPotentialPackElements | 0.435 | 0.003 | 0.437 | |
| identifyTirMatches | 0.078 | 0.002 | 0.079 | |
| makeBlastDb | 0 | 0 | 0 | |
| packAlign | 0.060 | 0.005 | 0.064 | |
| packBlast | 0 | 0 | 0 | |
| packClust | 0.062 | 0.003 | 0.065 | |
| packMatches | 0.842 | 0.005 | 0.847 | |
| packSearch | 0.850 | 0.001 | 0.853 | |
| packsToCsv | 0.003 | 0.000 | 0.003 | |
| packsToFasta | 0.084 | 0.005 | 0.088 | |
| packsToGRanges | 0.013 | 0.000 | 0.013 | |
| readBlast | 0.004 | 0.000 | 0.004 | |
| readUc | 0.003 | 0.000 | 0.003 | |
| tirClust | 0.442 | 0.011 | 0.455 | |