| Back to Multiple platform build/check report for BioC 3.20: simplified long | 
  | 
This page was generated on 2025-03-27 12:11 -0400 (Thu, 27 Mar 2025).
| Hostname | OS | Arch (*) | R version | Installed pkgs | 
|---|---|---|---|---|
| nebbiolo2 | Linux (Ubuntu 24.04.1 LTS) | x86_64 | 4.4.3 (2025-02-28) -- "Trophy Case" | 4764 | 
| palomino8 | Windows Server 2022 Datacenter | x64 | 4.4.3 (2025-02-28 ucrt) -- "Trophy Case" | 4495 | 
| merida1 | macOS 12.7.5 Monterey | x86_64 | 4.4.3 (2025-02-28) -- "Trophy Case" | 4522 | 
| kjohnson1 | macOS 13.6.6 Ventura | arm64 | 4.4.3 (2025-02-28) -- "Trophy Case" | 4449 | 
| taishan | Linux (openEuler 24.03 LTS) | aarch64 | 4.4.3 (2025-02-28) -- "Trophy Case" | 4420 | 
| Click on any hostname to see more info about the system (e.g. compilers) (*) as reported by 'uname -p', except on Windows and Mac OS X | ||||
| Package 1479/2289 | Hostname | OS / Arch | INSTALL | BUILD | CHECK | BUILD BIN | ||||||||
| orthos 1.4.1  (landing page) Panagiotis Papasaikas 
  | nebbiolo2 | Linux (Ubuntu 24.04.1 LTS) / x86_64 | OK | OK | OK | |||||||||
| palomino8 | Windows Server 2022 Datacenter / x64 | OK | OK | OK | OK | |||||||||
| merida1 | macOS 12.7.5 Monterey / x86_64 | OK | OK | ERROR | OK | |||||||||
| kjohnson1 | macOS 13.6.6 Ventura / arm64 | OK | OK | OK | OK | |||||||||
| taishan | Linux (openEuler 24.03 LTS) / aarch64 | OK | ERROR | skipped | ||||||||||
| 
To the developers/maintainers of the orthos package: - Allow up to 24 hours (and sometimes 48 hours) for your latest push to git@git.bioconductor.org:packages/orthos.git to reflect on this report. See Troubleshooting Build Report for more information. - Use the following Renviron settings to reproduce errors and warnings. - If 'R CMD check' started to fail recently on the Linux builder(s) over a missing dependency, add the missing dependency to 'Suggests:' in your DESCRIPTION file. See Renviron.bioc for more information.  | 
| Package: orthos | 
| Version: 1.4.1 | 
| Command: rm -rf orthos.buildbin-libdir && mkdir orthos.buildbin-libdir && /Users/biocbuild/BBS/utils/build-universal.sh orthos_1.4.1.tar.gz /Library/Frameworks/R.framework/Resources/bin/R orthos.buildbin-libdir | 
| StartedAt: 2025-03-26 15:42:59 -0400 (Wed, 26 Mar 2025) | 
| EndedAt: 2025-03-26 15:43:32 -0400 (Wed, 26 Mar 2025) | 
| EllapsedTime: 32.8 seconds | 
| RetCode: 0 | 
| Status: OK | 
| PackageFile: orthos_1.4.1.tgz | 
| PackageFileSize: 2.855 MiB | 
############################################################################## ############################################################################## ### ### Running command: ### ### rm -rf orthos.buildbin-libdir && mkdir orthos.buildbin-libdir && /Users/biocbuild/BBS/utils/build-universal.sh orthos_1.4.1.tar.gz /Library/Frameworks/R.framework/Resources/bin/R orthos.buildbin-libdir ### ############################################################################## ############################################################################## >>>>>>> >>>>>>> INSTALLATION WITH 'R CMD INSTALL --preclean --no-multiarch --library=orthos.buildbin-libdir orthos_1.4.1.tar.gz' >>>>>>> * installing *source* package ‘orthos’ ... ** using non-staged installation via StagedInstall field ** R ** inst ** byte-compile and prepare package for lazy loading ** help *** installing help indices ** building package indices ** installing vignettes ** testing if installed package can be loaded * DONE (orthos)