| Back to Multiple platform build/check report for BioC 3.20: simplified long |
|
This page was generated on 2024-07-16 11:40 -0400 (Tue, 16 Jul 2024).
| Hostname | OS | Arch (*) | R version | Installed pkgs |
|---|---|---|---|---|
| nebbiolo2 | Linux (Ubuntu 22.04.3 LTS) | x86_64 | 4.4.1 (2024-06-14) -- "Race for Your Life" | 4677 |
| palomino6 | Windows Server 2022 Datacenter | x64 | 4.4.1 (2024-06-14 ucrt) -- "Race for Your Life" | 4416 |
| lconway | macOS 12.7.1 Monterey | x86_64 | 4.4.1 (2024-06-14) -- "Race for Your Life" | 4444 |
| kjohnson3 | macOS 13.6.5 Ventura | arm64 | 4.4.1 (2024-06-14) -- "Race for Your Life" | 4393 |
| palomino8 | Windows Server 2022 Datacenter | x64 | 4.4.1 (2024-06-14 ucrt) -- "Race for Your Life" | 4373 |
| Click on any hostname to see more info about the system (e.g. compilers) (*) as reported by 'uname -p', except on Windows and Mac OS X | ||||
| Package 1423/2243 | Hostname | OS / Arch | INSTALL | BUILD | CHECK | BUILD BIN | ||||||||
| omicplotR 1.25.0 (landing page) Daniel Giguere
| nebbiolo2 | Linux (Ubuntu 22.04.3 LTS) / x86_64 | OK | OK | OK | |||||||||
| palomino6 | Windows Server 2022 Datacenter / x64 | OK | OK | OK | OK | |||||||||
| lconway | macOS 12.7.1 Monterey / x86_64 | OK | OK | OK | OK | |||||||||
| kjohnson3 | macOS 13.6.5 Ventura / arm64 | OK | OK | OK | OK | |||||||||
| palomino8 | Windows Server 2022 Datacenter / x64 | OK | OK | OK | OK | |||||||||
|
To the developers/maintainers of the omicplotR package: - Allow up to 24 hours (and sometimes 48 hours) for your latest push to git@git.bioconductor.org:packages/omicplotR.git to reflect on this report. See Troubleshooting Build Report for more information. - Use the following Renviron settings to reproduce errors and warnings. - If 'R CMD check' started to fail recently on the Linux builder(s) over a missing dependency, add the missing dependency to 'Suggests:' in your DESCRIPTION file. See Renviron.bioc for more information. |
| Package: omicplotR |
| Version: 1.25.0 |
| Command: C:\Users\biocbuild\bbs-3.20-bioc\R\bin\R.exe CMD check --no-multiarch --install=check:omicplotR.install-out.txt --library=C:\Users\biocbuild\bbs-3.20-bioc\R\library --no-vignettes --timings omicplotR_1.25.0.tar.gz |
| StartedAt: 2024-07-16 02:24:08 -0400 (Tue, 16 Jul 2024) |
| EndedAt: 2024-07-16 02:25:39 -0400 (Tue, 16 Jul 2024) |
| EllapsedTime: 91.3 seconds |
| RetCode: 0 |
| Status: OK |
| CheckDir: omicplotR.Rcheck |
| Warnings: 0 |
##############################################################################
##############################################################################
###
### Running command:
###
### C:\Users\biocbuild\bbs-3.20-bioc\R\bin\R.exe CMD check --no-multiarch --install=check:omicplotR.install-out.txt --library=C:\Users\biocbuild\bbs-3.20-bioc\R\library --no-vignettes --timings omicplotR_1.25.0.tar.gz
###
##############################################################################
##############################################################################
* using log directory 'C:/Users/biocbuild/bbs-3.20-bioc/meat/omicplotR.Rcheck'
* using R version 4.4.1 (2024-06-14 ucrt)
* using platform: x86_64-w64-mingw32
* R was compiled by
gcc.exe (GCC) 13.2.0
GNU Fortran (GCC) 13.2.0
* running under: Windows Server 2022 x64 (build 20348)
* using session charset: UTF-8
* using option '--no-vignettes'
* checking for file 'omicplotR/DESCRIPTION' ... OK
* this is package 'omicplotR' version '1.25.0'
* package encoding: UTF-8
* checking package namespace information ... OK
* checking package dependencies ... OK
* checking if this is a source package ... OK
* checking if there is a namespace ... OK
* checking for hidden files and directories ... OK
* checking for portable file names ... OK
* checking whether package 'omicplotR' can be installed ... OK
* checking installed package size ... OK
* checking package directory ... OK
* checking 'build' directory ... OK
* checking DESCRIPTION meta-information ... NOTE
License stub is invalid DCF.
* checking top-level files ... OK
* checking for left-over files ... OK
* checking index information ... OK
* checking package subdirectories ... OK
* checking code files for non-ASCII characters ... OK
* checking R files for syntax errors ... OK
* checking whether the package can be loaded ... OK
* checking whether the package can be loaded with stated dependencies ... OK
* checking whether the package can be unloaded cleanly ... OK
* checking whether the namespace can be loaded with stated dependencies ... OK
* checking whether the namespace can be unloaded cleanly ... OK
* checking dependencies in R code ... NOTE
Package in Depends field not imported from: 'ALDEx2'
These packages need to be imported from (in the NAMESPACE file)
for when this namespace is loaded but not attached.
* checking S3 generic/method consistency ... OK
* checking replacement functions ... OK
* checking foreign function calls ... OK
* checking R code for possible problems ... OK
* checking Rd files ... OK
* checking Rd metadata ... OK
* checking Rd cross-references ... OK
* checking for missing documentation entries ... OK
* checking for code/documentation mismatches ... OK
* checking Rd \usage sections ... OK
* checking Rd contents ... OK
* checking for unstated dependencies in examples ... OK
* checking contents of 'data' directory ... OK
* checking data for non-ASCII characters ... OK
* checking LazyData ... OK
* checking data for ASCII and uncompressed saves ... OK
* checking files in 'vignettes' ... OK
* checking examples ... OK
* checking for unstated dependencies in vignettes ... OK
* checking package vignettes ... OK
* checking running R code from vignettes ... SKIPPED
* checking re-building of vignette outputs ... SKIPPED
* checking PDF version of manual ... OK
* DONE
Status: 2 NOTEs
See
'C:/Users/biocbuild/bbs-3.20-bioc/meat/omicplotR.Rcheck/00check.log'
for details.
omicplotR.Rcheck/00install.out
############################################################################## ############################################################################## ### ### Running command: ### ### C:\Users\biocbuild\bbs-3.20-bioc\R\bin\R.exe CMD INSTALL omicplotR ### ############################################################################## ############################################################################## * installing to library 'C:/Users/biocbuild/bbs-3.20-bioc/R/library' * installing *source* package 'omicplotR' ... ** using staged installation ** R ** data *** moving datasets to lazyload DB ** inst ** byte-compile and prepare package for lazy loading ** help *** installing help indices ** building package indices ** installing vignettes ** testing if installed package can be loaded from temporary location ** testing if installed package can be loaded from final location ** testing if installed package keeps a record of temporary installation path * DONE (omicplotR)
omicplotR.Rcheck/omicplotR-Ex.timings
| name | user | system | elapsed | |
| internal | 0.01 | 0.00 | 0.02 | |
| omicplotr.run | 0.01 | 0.00 | 0.01 | |