| Back to Multiple platform build/check report for BioC 3.20: simplified long |
|
This page was generated on 2024-11-20 12:07 -0500 (Wed, 20 Nov 2024).
| Hostname | OS | Arch (*) | R version | Installed pkgs |
|---|---|---|---|---|
| teran2 | Linux (Ubuntu 24.04.1 LTS) | x86_64 | 4.4.2 (2024-10-31) -- "Pile of Leaves" | 4481 |
| nebbiolo2 | Linux (Ubuntu 24.04.1 LTS) | x86_64 | 4.4.2 (2024-10-31) -- "Pile of Leaves" | 4479 |
| palomino8 | Windows Server 2022 Datacenter | x64 | 4.4.2 (2024-10-31 ucrt) -- "Pile of Leaves" | 4359 |
| lconway | macOS 12.7.1 Monterey | x86_64 | 4.4.1 (2024-06-14) -- "Race for Your Life" | 4539 |
| kunpeng2 | Linux (openEuler 22.03 LTS-SP1) | aarch64 | 4.4.1 (2024-06-14) -- "Race for Your Life" | 4493 |
| Click on any hostname to see more info about the system (e.g. compilers) (*) as reported by 'uname -p', except on Windows and Mac OS X | ||||
| Package 1445/2289 | Hostname | OS / Arch | INSTALL | BUILD | CHECK | BUILD BIN | ||||||||
| omada 1.8.0 (landing page) Sokratis Kariotis
| teran2 | Linux (Ubuntu 24.04.1 LTS) / x86_64 | OK | OK | OK | |||||||||
| nebbiolo2 | Linux (Ubuntu 24.04.1 LTS) / x86_64 | OK | OK | OK | ||||||||||
| palomino8 | Windows Server 2022 Datacenter / x64 | OK | OK | OK | OK | |||||||||
| lconway | macOS 12.7.1 Monterey / x86_64 | OK | OK | OK | OK | |||||||||
| kunpeng2 | Linux (openEuler 22.03 LTS-SP1) / aarch64 | OK | OK | OK | ||||||||||
|
To the developers/maintainers of the omada package: - Allow up to 24 hours (and sometimes 48 hours) for your latest push to git@git.bioconductor.org:packages/omada.git to reflect on this report. See Troubleshooting Build Report for more information. - Use the following Renviron settings to reproduce errors and warnings. - If 'R CMD check' started to fail recently on the Linux builder(s) over a missing dependency, add the missing dependency to 'Suggests:' in your DESCRIPTION file. See Renviron.bioc for more information. - See Martin Grigorov's blog post for how to debug Linux ARM64 related issues on a x86_64 host. |
| Package: omada |
| Version: 1.8.0 |
| Command: /home/biocbuild/R/R/bin/R CMD check --install=check:omada.install-out.txt --library=/home/biocbuild/R/R/site-library --no-vignettes --timings omada_1.8.0.tar.gz |
| StartedAt: 2024-11-20 10:37:08 -0000 (Wed, 20 Nov 2024) |
| EndedAt: 2024-11-20 10:50:49 -0000 (Wed, 20 Nov 2024) |
| EllapsedTime: 821.5 seconds |
| RetCode: 0 |
| Status: OK |
| CheckDir: omada.Rcheck |
| Warnings: 0 |
##############################################################################
##############################################################################
###
### Running command:
###
### /home/biocbuild/R/R/bin/R CMD check --install=check:omada.install-out.txt --library=/home/biocbuild/R/R/site-library --no-vignettes --timings omada_1.8.0.tar.gz
###
##############################################################################
##############################################################################
* using log directory ‘/home/biocbuild/bbs-3.20-bioc/meat/omada.Rcheck’
* using R version 4.4.1 (2024-06-14)
* using platform: aarch64-unknown-linux-gnu
* R was compiled by
gcc (GCC) 12.2.1 20220819 (openEuler 12.2.1-14)
GNU Fortran (GCC) 10.3.1
* running under: openEuler 22.03 (LTS-SP1)
* using session charset: UTF-8
* using option ‘--no-vignettes’
* checking for file ‘omada/DESCRIPTION’ ... OK
* checking extension type ... Package
* this is package ‘omada’ version ‘1.8.0’
* package encoding: UTF-8
* checking package namespace information ... OK
* checking package dependencies ... NOTE
Depends: includes the non-default packages:
'pdfCluster', 'kernlab', 'fpc', 'Rcpp', 'diceR', 'ggplot2',
'reshape', 'genieclust', 'clValid', 'glmnet', 'dplyr'
Adding so many packages to the search path is excessive and importing
selectively is preferable.
* checking if this is a source package ... OK
* checking if there is a namespace ... OK
* checking for hidden files and directories ... OK
* checking for portable file names ... OK
* checking for sufficient/correct file permissions ... OK
* checking whether package ‘omada’ can be installed ... OK
* checking installed package size ... OK
* checking package directory ... OK
* checking ‘build’ directory ... OK
* checking DESCRIPTION meta-information ... NOTE
Package listed in more than one of Depends, Imports, Suggests, Enhances:
‘clValid’
A package should be listed in only one of these fields.
* checking top-level files ... NOTE
File
LICENSE
is not mentioned in the DESCRIPTION file.
* checking for left-over files ... OK
* checking index information ... OK
* checking package subdirectories ... OK
* checking code files for non-ASCII characters ... OK
* checking R files for syntax errors ... OK
* checking whether the package can be loaded ... OK
* checking whether the package can be loaded with stated dependencies ... OK
* checking whether the package can be unloaded cleanly ... OK
* checking whether the namespace can be loaded with stated dependencies ... OK
* checking whether the namespace can be unloaded cleanly ... OK
* checking loading without being on the library search path ... OK
* checking dependencies in R code ... NOTE
Packages in Depends field not imported from:
‘Rcpp’ ‘dplyr’ ‘genieclust’ ‘glmnet’ ‘kernlab’ ‘reshape’
These packages need to be imported from (in the NAMESPACE file)
for when this namespace is loaded but not attached.
* checking S3 generic/method consistency ... OK
* checking replacement functions ... OK
* checking foreign function calls ... OK
* checking R code for possible problems ... NOTE
Index.15and28: no visible global function definition for ‘dist’
Index.15and28: no visible global function definition for ‘as.dist’
Index.sPlussMoins: no visible global function definition for ‘dist’
Index.sPlussMoins: no visible global function definition for ‘as.dist’
Index.sPlussMoins: no visible global function definition for ‘median’
Indice.cindex: no visible global function definition for ‘dist’
clusterVoting: no visible global function definition for ‘calinhara’
clusterVoting: no visible global function definition for
‘generalised_dunn_index’
clusterVoting: no visible global function definition for
‘silhouette_index’
clusterVoting: no visible global function definition for
‘negated_davies_bouldin_index’
clusterVoting: no visible binding for global variable ‘k’
clusterVoting: no visible binding for global variable ‘Frequency’
clusteringMethodSelection: no visible binding for global variable
‘value’
clusteringMethodSelection: no visible binding for global variable
‘methods’
featureSelection: no visible binding for global variable ‘featureSet’
featureSelection: no visible binding for global variable ‘means’
Undefined global functions or variables:
Frequency as.dist calinhara dist featureSet generalised_dunn_index k
means median methods negated_davies_bouldin_index silhouette_index
value
Consider adding
importFrom("stats", "as.dist", "dist", "median")
importFrom("utils", "methods")
to your NAMESPACE file.
* checking Rd files ... OK
* checking Rd metadata ... OK
* checking Rd cross-references ... OK
* checking for missing documentation entries ... OK
* checking for code/documentation mismatches ... OK
* checking Rd \usage sections ... OK
* checking Rd contents ... OK
* checking for unstated dependencies in examples ... OK
* checking contents of ‘data’ directory ... OK
* checking data for non-ASCII characters ... OK
* checking LazyData ... OK
* checking data for ASCII and uncompressed saves ... OK
* checking files in ‘vignettes’ ... OK
* checking examples ... OK
Examples with CPU (user + system) or elapsed time > 5s
user system elapsed
get_feature_selection_scores 85.996 0.387 52.416
get_feature_selection_optimal_number_of_features 85.843 0.052 51.945
get_cluster_voting_k_votes 62.579 0.287 38.869
plot_partition_agreement 61.665 0.051 37.371
get_partition_agreement_scores 60.848 0.124 36.448
get_cluster_voting_memberships 60.567 0.335 36.633
get_cluster_voting_metric_votes 60.198 0.068 36.593
get_feature_selection_optimal_features 59.031 0.084 35.357
get_cluster_voting_scores 58.971 0.119 35.375
plot_feature_selection 58.067 0.108 34.558
get_sample_memberships 58.045 0.087 34.317
omada 44.190 0.060 26.718
plot_cluster_voting 43.565 0.064 26.781
get_optimal_features 20.246 0.080 13.014
plot_average_stabilities 19.121 0.016 11.992
get_optimal_memberships 18.193 0.235 11.551
get_optimal_number_of_features 18.068 0.088 10.932
get_optimal_parameter_used 16.661 0.188 9.992
get_optimal_stability_score 16.286 0.088 9.547
featureSelection 13.544 0.068 8.099
get_average_feature_k_stabilities 8.689 0.080 5.339
clusterVoting 7.696 0.144 5.927
feasibilityAnalysisDataBased 6.050 0.071 3.809
* checking for unstated dependencies in ‘tests’ ... OK
* checking tests ...
Running ‘testthat.R’
OK
* checking for unstated dependencies in vignettes ... OK
* checking package vignettes ... OK
* checking running R code from vignettes ... SKIPPED
* checking re-building of vignette outputs ... SKIPPED
* checking PDF version of manual ... OK
* DONE
Status: 5 NOTEs
See
‘/home/biocbuild/bbs-3.20-bioc/meat/omada.Rcheck/00check.log’
for details.
omada.Rcheck/00install.out
############################################################################## ############################################################################## ### ### Running command: ### ### /home/biocbuild/R/R/bin/R CMD INSTALL omada ### ############################################################################## ############################################################################## * installing to library ‘/home/biocbuild/R/R-4.4.1/site-library’ * installing *source* package ‘omada’ ... ** using staged installation ** R ** data *** moving datasets to lazyload DB ** inst ** byte-compile and prepare package for lazy loading ** help *** installing help indices ** building package indices ** installing vignettes ** testing if installed package can be loaded from temporary location ** testing if installed package can be loaded from final location ** testing if installed package keeps a record of temporary installation path * DONE (omada)
omada.Rcheck/tests/testthat.Rout
R version 4.4.1 (2024-06-14) -- "Race for Your Life"
Copyright (C) 2024 The R Foundation for Statistical Computing
Platform: aarch64-unknown-linux-gnu
R is free software and comes with ABSOLUTELY NO WARRANTY.
You are welcome to redistribute it under certain conditions.
Type 'license()' or 'licence()' for distribution details.
R is a collaborative project with many contributors.
Type 'contributors()' for more information and
'citation()' on how to cite R or R packages in publications.
Type 'demo()' for some demos, 'help()' for on-line help, or
'help.start()' for an HTML browser interface to help.
Type 'q()' to quit R.
> library(testthat)
> library(omada)
Loading required package: pdfCluster
pdfCluster 1.0-4
Loading required package: kernlab
Loading required package: fpc
Loading required package: Rcpp
Loading required package: diceR
Loading required package: ggplot2
Attaching package: 'ggplot2'
The following object is masked from 'package:kernlab':
alpha
Loading required package: reshape
Loading required package: genieclust
Loading required package: clValid
Loading required package: cluster
Loading required package: glmnet
Loading required package: Matrix
Attaching package: 'Matrix'
The following object is masked from 'package:reshape':
expand
Loaded glmnet 4.1-8
Loading required package: dplyr
Attaching package: 'dplyr'
The following object is masked from 'package:reshape':
rename
The following object is masked from 'package:pdfCluster':
groups
The following object is masked from 'package:testthat':
matches
The following objects are masked from 'package:stats':
filter, lag
The following objects are masked from 'package:base':
intersect, setdiff, setequal, union
>
> test_check("omada")
[ FAIL 0 | WARN 1 | SKIP 0 | PASS 38 ]
[ FAIL 0 | WARN 1 | SKIP 0 | PASS 38 ]
>
> proc.time()
user system elapsed
151.985 1.372 142.585
omada.Rcheck/omada-Ex.timings
| name | user | system | elapsed | |
| clusterVoting | 7.696 | 0.144 | 5.927 | |
| clusteringMethodSelection | 2.148 | 0.004 | 1.419 | |
| feasibilityAnalysis | 1.621 | 0.004 | 1.628 | |
| feasibilityAnalysisDataBased | 6.050 | 0.071 | 3.809 | |
| featureSelection | 13.544 | 0.068 | 8.099 | |
| get_agreement_scores | 0.358 | 0.012 | 0.189 | |
| get_average_feature_k_stabilities | 8.689 | 0.080 | 5.339 | |
| get_average_stabilities_per_k | 1.299 | 0.016 | 1.252 | |
| get_average_stability | 1.207 | 0.003 | 1.213 | |
| get_cluster_memberships_k | 2.016 | 0.021 | 1.553 | |
| get_cluster_voting_k_votes | 62.579 | 0.287 | 38.869 | |
| get_cluster_voting_memberships | 60.567 | 0.335 | 36.633 | |
| get_cluster_voting_metric_votes | 60.198 | 0.068 | 36.593 | |
| get_cluster_voting_scores | 58.971 | 0.119 | 35.375 | |
| get_feature_selection_optimal_features | 59.031 | 0.084 | 35.357 | |
| get_feature_selection_optimal_number_of_features | 85.843 | 0.052 | 51.945 | |
| get_feature_selection_scores | 85.996 | 0.387 | 52.416 | |
| get_generated_dataset | 4.644 | 0.016 | 4.636 | |
| get_internal_metric_scores | 1.997 | 0.000 | 1.504 | |
| get_max_stability | 1.172 | 0.004 | 1.179 | |
| get_metric_votes_k | 1.994 | 0.016 | 1.523 | |
| get_optimal_features | 20.246 | 0.080 | 13.014 | |
| get_optimal_memberships | 18.193 | 0.235 | 11.551 | |
| get_optimal_number_of_features | 18.068 | 0.088 | 10.932 | |
| get_optimal_parameter_used | 16.661 | 0.188 | 9.992 | |
| get_optimal_stability_score | 16.286 | 0.088 | 9.547 | |
| get_partition_agreement_scores | 60.848 | 0.124 | 36.448 | |
| get_sample_memberships | 58.045 | 0.087 | 34.317 | |
| get_vote_frequencies_k | 1.988 | 0.012 | 1.526 | |
| omada | 44.190 | 0.060 | 26.718 | |
| optimalClustering | 0.526 | 0.000 | 0.526 | |
| partitionAgreement | 0.673 | 0.000 | 0.346 | |
| plot_average_stabilities | 19.121 | 0.016 | 11.992 | |
| plot_cluster_voting | 43.565 | 0.064 | 26.781 | |
| plot_feature_selection | 58.067 | 0.108 | 34.558 | |
| plot_partition_agreement | 61.665 | 0.051 | 37.371 | |
| plot_vote_frequencies | 2.484 | 0.016 | 2.069 | |
| toy_gene_memberships | 0.018 | 0.000 | 0.018 | |
| toy_genes | 0.001 | 0.000 | 0.001 | |