| Back to Multiple platform build/check report for BioC 3.20: simplified long |
|
This page was generated on 2025-04-02 19:29 -0400 (Wed, 02 Apr 2025).
| Hostname | OS | Arch (*) | R version | Installed pkgs |
|---|---|---|---|---|
| nebbiolo2 | Linux (Ubuntu 24.04.1 LTS) | x86_64 | 4.4.3 (2025-02-28) -- "Trophy Case" | 4764 |
| palomino8 | Windows Server 2022 Datacenter | x64 | 4.4.3 (2025-02-28 ucrt) -- "Trophy Case" | 4495 |
| merida1 | macOS 12.7.5 Monterey | x86_64 | 4.4.3 (2025-02-28) -- "Trophy Case" | 4522 |
| kjohnson1 | macOS 13.6.6 Ventura | arm64 | 4.4.3 (2025-02-28) -- "Trophy Case" | 4449 |
| taishan | Linux (openEuler 24.03 LTS) | aarch64 | 4.4.3 (2025-02-28) -- "Trophy Case" | 4426 |
| Click on any hostname to see more info about the system (e.g. compilers) (*) as reported by 'uname -p', except on Windows and Mac OS X | ||||
| Package 1458/2289 | Hostname | OS / Arch | INSTALL | BUILD | CHECK | BUILD BIN | ||||||||
| omXplore 1.0.2 (landing page) Samuel Wieczorek
| nebbiolo2 | Linux (Ubuntu 24.04.1 LTS) / x86_64 | OK | OK | OK | |||||||||
| palomino8 | Windows Server 2022 Datacenter / x64 | OK | OK | OK | OK | |||||||||
| merida1 | macOS 12.7.5 Monterey / x86_64 | OK | OK | OK | OK | |||||||||
| kjohnson1 | macOS 13.6.6 Ventura / arm64 | OK | OK | OK | OK | |||||||||
| taishan | Linux (openEuler 24.03 LTS) / aarch64 | OK | OK | OK | ||||||||||
|
To the developers/maintainers of the omXplore package: - Allow up to 24 hours (and sometimes 48 hours) for your latest push to git@git.bioconductor.org:packages/omXplore.git to reflect on this report. See Troubleshooting Build Report for more information. - Use the following Renviron settings to reproduce errors and warnings. - If 'R CMD check' started to fail recently on the Linux builder(s) over a missing dependency, add the missing dependency to 'Suggests:' in your DESCRIPTION file. See Renviron.bioc for more information. |
| Package: omXplore |
| Version: 1.0.2 |
| Command: /home/biocbuild/bbs-3.20-bioc/R/bin/R CMD check --install=check:omXplore.install-out.txt --library=/home/biocbuild/bbs-3.20-bioc/R/site-library --timings omXplore_1.0.2.tar.gz |
| StartedAt: 2025-04-01 00:36:56 -0400 (Tue, 01 Apr 2025) |
| EndedAt: 2025-04-01 00:42:09 -0400 (Tue, 01 Apr 2025) |
| EllapsedTime: 313.3 seconds |
| RetCode: 0 |
| Status: OK |
| CheckDir: omXplore.Rcheck |
| Warnings: 0 |
##############################################################################
##############################################################################
###
### Running command:
###
### /home/biocbuild/bbs-3.20-bioc/R/bin/R CMD check --install=check:omXplore.install-out.txt --library=/home/biocbuild/bbs-3.20-bioc/R/site-library --timings omXplore_1.0.2.tar.gz
###
##############################################################################
##############################################################################
* using log directory ‘/home/biocbuild/bbs-3.20-bioc/meat/omXplore.Rcheck’
* using R version 4.4.3 (2025-02-28)
* using platform: x86_64-pc-linux-gnu
* R was compiled by
gcc (Ubuntu 13.3.0-6ubuntu2~24.04) 13.3.0
GNU Fortran (Ubuntu 13.3.0-6ubuntu2~24.04) 13.3.0
* running under: Ubuntu 24.04.2 LTS
* using session charset: UTF-8
* checking for file ‘omXplore/DESCRIPTION’ ... OK
* checking extension type ... Package
* this is package ‘omXplore’ version ‘1.0.2’
* package encoding: UTF-8
* checking package namespace information ... OK
* checking package dependencies ... OK
* checking if this is a source package ... OK
* checking if there is a namespace ... OK
* checking for hidden files and directories ... OK
* checking for portable file names ... OK
* checking for sufficient/correct file permissions ... OK
* checking whether package ‘omXplore’ can be installed ... OK
* checking installed package size ... OK
* checking package directory ... OK
* checking ‘build’ directory ... OK
* checking DESCRIPTION meta-information ... OK
* checking top-level files ... OK
* checking for left-over files ... OK
* checking index information ... OK
* checking package subdirectories ... OK
* checking code files for non-ASCII characters ... OK
* checking R files for syntax errors ... OK
* checking whether the package can be loaded ... OK
* checking whether the package can be loaded with stated dependencies ... OK
* checking whether the package can be unloaded cleanly ... OK
* checking whether the namespace can be loaded with stated dependencies ... OK
* checking whether the namespace can be unloaded cleanly ... OK
* checking loading without being on the library search path ... OK
* checking whether startup messages can be suppressed ... OK
* checking dependencies in R code ... OK
* checking S3 generic/method consistency ... OK
* checking replacement functions ... OK
* checking foreign function calls ... OK
* checking R code for possible problems ... NOTE
Build_X_CC: no visible global function definition for ‘metadata’
Build_X_CC: no visible global function definition for ‘metadata<-’
Check_MSnSet_Consistency : <anonymous>: no visible global function
definition for ‘experimentData’
MAE_Compatibility_with_Prostar_1x : <anonymous>: no visible binding for
global variable ‘.colData’
SE_Compatibility_with_Prostar_1.x: no visible global function
definition for ‘experimentData’
SE_Compatibility_with_Prostar_1.x: no visible global function
definition for ‘metadata’
SE_Compatibility_with_Prostar_1.x: no visible global function
definition for ‘metadata<-’
plots_tracking_server : <anonymous>: no visible global function
definition for ‘updateTextInput’
Undefined global functions or variables:
.colData experimentData metadata metadata<- updateTextInput
* checking Rd files ... OK
* checking Rd metadata ... OK
* checking Rd cross-references ... OK
* checking for missing documentation entries ... OK
* checking for code/documentation mismatches ... OK
* checking Rd \usage sections ... OK
* checking Rd contents ... OK
* checking for unstated dependencies in examples ... OK
* checking contents of ‘data’ directory ... OK
* checking data for non-ASCII characters ... OK
* checking data for ASCII and uncompressed saves ... OK
* checking files in ‘vignettes’ ... OK
* checking examples ... OK
* checking for unstated dependencies in ‘tests’ ... OK
* checking tests ...
Running ‘testthat.R’
OK
* checking for unstated dependencies in vignettes ... OK
* checking package vignettes ... OK
* checking re-building of vignette outputs ... OK
* checking PDF version of manual ... OK
* DONE
Status: 1 NOTE
See
‘/home/biocbuild/bbs-3.20-bioc/meat/omXplore.Rcheck/00check.log’
for details.
omXplore.Rcheck/00install.out
############################################################################## ############################################################################## ### ### Running command: ### ### /home/biocbuild/bbs-3.20-bioc/R/bin/R CMD INSTALL omXplore ### ############################################################################## ############################################################################## * installing to library ‘/home/biocbuild/bbs-3.20-bioc/R/site-library’ * installing *source* package ‘omXplore’ ... ** using staged installation ** R ** data ** inst ** byte-compile and prepare package for lazy loading ** help *** installing help indices ** building package indices ** installing vignettes ** testing if installed package can be loaded from temporary location ** testing if installed package can be loaded from final location ** testing if installed package keeps a record of temporary installation path * DONE (omXplore)
omXplore.Rcheck/tests/testthat.Rout
R version 4.4.3 (2025-02-28) -- "Trophy Case"
Copyright (C) 2025 The R Foundation for Statistical Computing
Platform: x86_64-pc-linux-gnu
R is free software and comes with ABSOLUTELY NO WARRANTY.
You are welcome to redistribute it under certain conditions.
Type 'license()' or 'licence()' for distribution details.
R is a collaborative project with many contributors.
Type 'contributors()' for more information and
'citation()' on how to cite R or R packages in publications.
Type 'demo()' for some demos, 'help()' for on-line help, or
'help.start()' for an HTML browser interface to help.
Type 'q()' to quit R.
> library(testthat)
>
> test_check("omXplore")
Loading required package: omXplore
[ FAIL 0 | WARN 1 | SKIP 0 | PASS 0 ]
[ FAIL 0 | WARN 1 | SKIP 0 | PASS 0 ]
>
> proc.time()
user system elapsed
11.991 0.593 12.574
omXplore.Rcheck/omXplore-Ex.timings
| name | user | system | elapsed | |
| GetPkgVersion | 0.056 | 0.005 | 0.061 | |
| Prostar-1x-compatible | 0.004 | 0.000 | 0.003 | |
| accessors | 0.046 | 0.000 | 0.046 | |
| color-legend | 0.000 | 0.000 | 0.001 | |
| converters | 0 | 0 | 0 | |
| corrmatrix | 0 | 0 | 0 | |
| customChart | 0 | 0 | 0 | |
| customExportMenu_HC | 0 | 0 | 0 | |
| density-plot | 0.000 | 0.000 | 0.001 | |
| ds-cc | 0 | 0 | 0 | |
| ds-pca | 2.104 | 0.195 | 2.301 | |
| ds-view | 0 | 0 | 0 | |
| external_app | 0 | 0 | 0 | |
| format_DT | 0 | 0 | 0 | |
| globals | 0.000 | 0.000 | 0.001 | |
| intensity-plots | 0 | 0 | 0 | |
| is.listOf | 0.000 | 0.000 | 0.001 | |
| omXplore-modules | 0.001 | 0.000 | 0.001 | |
| omXplore_heatmap | 0 | 0 | 0 | |
| omXplore_tabExplorer | 0 | 0 | 0 | |
| palette | 0.003 | 0.003 | 0.006 | |
| pep_prot_CC | 0.099 | 0.025 | 0.124 | |
| pkgs.require | 0 | 0 | 0 | |
| plot-variance | 0 | 0 | 0 | |
| plots_tracking | 0 | 0 | 0 | |
| q_metadata | 0.025 | 0.008 | 0.033 | |