Back to Multiple platform build/check report for BioC 3.20:   simplified   long
ABCDEFGHIJKLM[N]OPQRSTUVWXYZ

This page was generated on 2025-01-30 12:12 -0500 (Thu, 30 Jan 2025).

HostnameOSArch (*)R versionInstalled pkgs
nebbiolo2Linux (Ubuntu 24.04.1 LTS)x86_644.4.2 (2024-10-31) -- "Pile of Leaves" 4746
palomino8Windows Server 2022 Datacenterx644.4.2 (2024-10-31 ucrt) -- "Pile of Leaves" 4494
merida1macOS 12.7.5 Montereyx86_644.4.2 (2024-10-31) -- "Pile of Leaves" 4517
kjohnson1macOS 13.6.6 Venturaarm644.4.2 (2024-10-31) -- "Pile of Leaves" 4469
taishanLinux (openEuler 24.03 LTS)aarch644.4.2 (2024-10-31) -- "Pile of Leaves" 4400
Click on any hostname to see more info about the system (e.g. compilers)      (*) as reported by 'uname -p', except on Windows and Mac OS X

Package 1417/2289HostnameOS / ArchINSTALLBUILDCHECKBUILD BIN
ngsReports 2.8.0  (landing page)
Stevie Pederson
Snapshot Date: 2025-01-27 13:00 -0500 (Mon, 27 Jan 2025)
git_url: https://git.bioconductor.org/packages/ngsReports
git_branch: RELEASE_3_20
git_last_commit: 82b15b1
git_last_commit_date: 2024-10-29 10:36:16 -0500 (Tue, 29 Oct 2024)
nebbiolo2Linux (Ubuntu 24.04.1 LTS) / x86_64  OK    OK    OK  UNNEEDED, same version is already published
palomino8Windows Server 2022 Datacenter / x64  OK    OK    OK    OK  UNNEEDED, same version is already published
merida1macOS 12.7.5 Monterey / x86_64  OK    OK    OK    OK  UNNEEDED, same version is already published
kjohnson1macOS 13.6.6 Ventura / arm64  OK    OK    OK    OK  UNNEEDED, same version is already published
taishanLinux (openEuler 24.03 LTS) / aarch64  OK    OK    OK  


CHECK results for ngsReports on taishan

To the developers/maintainers of the ngsReports package:
- Allow up to 24 hours (and sometimes 48 hours) for your latest push to git@git.bioconductor.org:packages/ngsReports.git to reflect on this report. See Troubleshooting Build Report for more information.
- Use the following Renviron settings to reproduce errors and warnings.
- If 'R CMD check' started to fail recently on the Linux builder(s) over a missing dependency, add the missing dependency to 'Suggests:' in your DESCRIPTION file. See Renviron.bioc for more information.
- See Martin Grigorov's blog post for how to debug Linux ARM64 related issues on a x86_64 host.

raw results


Summary

Package: ngsReports
Version: 2.8.0
Command: /home/biocbuild/R/R/bin/R CMD check --install=check:ngsReports.install-out.txt --library=/home/biocbuild/R/R/site-library --no-vignettes --timings ngsReports_2.8.0.tar.gz
StartedAt: 2025-01-28 09:32:23 -0000 (Tue, 28 Jan 2025)
EndedAt: 2025-01-28 09:36:49 -0000 (Tue, 28 Jan 2025)
EllapsedTime: 265.4 seconds
RetCode: 0
Status:   OK  
CheckDir: ngsReports.Rcheck
Warnings: 0

Command output

##############################################################################
##############################################################################
###
### Running command:
###
###   /home/biocbuild/R/R/bin/R CMD check --install=check:ngsReports.install-out.txt --library=/home/biocbuild/R/R/site-library --no-vignettes --timings ngsReports_2.8.0.tar.gz
###
##############################################################################
##############################################################################


* using log directory ‘/home/biocbuild/bbs-3.20-bioc/meat/ngsReports.Rcheck’
* using R version 4.4.2 (2024-10-31)
* using platform: aarch64-unknown-linux-gnu
* R was compiled by
    aarch64-unknown-linux-gnu-gcc (GCC) 14.2.0
    GNU Fortran (GCC) 12.3.1 (openEuler 12.3.1-36.oe2403)
* running under: openEuler 24.03 (LTS)
* using session charset: UTF-8
* using option ‘--no-vignettes’
* checking for file ‘ngsReports/DESCRIPTION’ ... OK
* this is package ‘ngsReports’ version ‘2.8.0’
* package encoding: UTF-8
* checking package namespace information ... OK
* checking package dependencies ... OK
* checking if this is a source package ... OK
* checking if there is a namespace ... OK
* checking for hidden files and directories ... OK
* checking for portable file names ... OK
* checking for sufficient/correct file permissions ... OK
* checking whether package ‘ngsReports’ can be installed ... OK
* checking installed package size ... OK
* checking package directory ... OK
* checking ‘build’ directory ... OK
* checking DESCRIPTION meta-information ... OK
* checking top-level files ... OK
* checking for left-over files ... OK
* checking index information ... OK
* checking package subdirectories ... OK
* checking code files for non-ASCII characters ... OK
* checking R files for syntax errors ... OK
* checking whether the package can be loaded ... OK
* checking whether the package can be loaded with stated dependencies ... OK
* checking whether the package can be unloaded cleanly ... OK
* checking whether the namespace can be loaded with stated dependencies ... OK
* checking whether the namespace can be unloaded cleanly ... OK
* checking loading without being on the library search path ... OK
* checking dependencies in R code ... OK
* checking S3 generic/method consistency ... OK
* checking replacement functions ... OK
* checking foreign function calls ... OK
* checking R code for possible problems ... OK
* checking Rd files ... OK
* checking Rd metadata ... OK
* checking Rd cross-references ... OK
* checking for missing documentation entries ... OK
* checking for code/documentation mismatches ... OK
* checking Rd \usage sections ... OK
* checking Rd contents ... OK
* checking for unstated dependencies in examples ... OK
* checking contents of ‘data’ directory ... OK
* checking data for non-ASCII characters ... OK
* checking LazyData ... OK
* checking data for ASCII and uncompressed saves ... OK
* checking files in ‘vignettes’ ... OK
* checking examples ... OK
Examples with CPU (user + system) or elapsed time > 5s
                        user system elapsed
plotSeqContent-methods 4.319  0.035   7.034
* checking for unstated dependencies in ‘tests’ ... OK
* checking tests ...
  Running ‘testthat.R’
 OK
* checking for unstated dependencies in vignettes ... OK
* checking package vignettes ... OK
* checking running R code from vignettes ... SKIPPED
* checking re-building of vignette outputs ... SKIPPED
* checking PDF version of manual ... OK
* DONE

Status: OK


Installation output

ngsReports.Rcheck/00install.out

##############################################################################
##############################################################################
###
### Running command:
###
###   /home/biocbuild/R/R/bin/R CMD INSTALL ngsReports
###
##############################################################################
##############################################################################


* installing to library ‘/home/biocbuild/R/R-4.4.2/site-library’
* installing *source* package ‘ngsReports’ ...
** using staged installation
** R
** data
*** moving datasets to lazyload DB
** inst
** byte-compile and prepare package for lazy loading
** help
*** installing help indices
*** copying figures
** building package indices
** installing vignettes
** testing if installed package can be loaded from temporary location
** testing if installed package can be loaded from final location
** testing if installed package keeps a record of temporary installation path
* DONE (ngsReports)

Tests output

ngsReports.Rcheck/tests/testthat.Rout


R version 4.4.2 (2024-10-31) -- "Pile of Leaves"
Copyright (C) 2024 The R Foundation for Statistical Computing
Platform: aarch64-unknown-linux-gnu

R is free software and comes with ABSOLUTELY NO WARRANTY.
You are welcome to redistribute it under certain conditions.
Type 'license()' or 'licence()' for distribution details.

R is a collaborative project with many contributors.
Type 'contributors()' for more information and
'citation()' on how to cite R or R packages in publications.

Type 'demo()' for some demos, 'help()' for on-line help, or
'help.start()' for an HTML browser interface to help.
Type 'q()' to quit R.

> library(testthat)
> library(ngsReports)
Loading required package: BiocGenerics

Attaching package: 'BiocGenerics'

The following objects are masked from 'package:stats':

    IQR, mad, sd, var, xtabs

The following objects are masked from 'package:base':

    Filter, Find, Map, Position, Reduce, anyDuplicated, aperm, append,
    as.data.frame, basename, cbind, colnames, dirname, do.call,
    duplicated, eval, evalq, get, grep, grepl, intersect, is.unsorted,
    lapply, mapply, match, mget, order, paste, pmax, pmax.int, pmin,
    pmin.int, rank, rbind, rownames, sapply, saveRDS, setdiff, table,
    tapply, union, unique, unsplit, which.max, which.min

Loading required package: ggplot2
Loading required package: patchwork
Loading required package: tibble
> 
> test_check("ngsReports")
[ FAIL 0 | WARN 0 | SKIP 0 | PASS 387 ]
> 
> proc.time()
   user  system elapsed 
 59.496   1.056  73.024 

Example timings

ngsReports.Rcheck/ngsReports-Ex.timings

nameusersystemelapsed
FastqcData0.0950.0000.222
FastqcDataList0.4190.0090.692
TheoreticalGC-class0.0840.0040.173
dot-FastqcFile-class0.0010.0020.003
dot-addPercent000
dot-emptyPlot0.1690.0010.226
dot-makeDendro0.5420.0280.573
dot-makeLabels0.0010.0000.001
dot-splitByTab0.0040.0000.004
estGcDistn0.0250.0030.028
extract-methods0.3920.0120.405
fqName-methods0.3730.0080.382
fqcVersion0.4080.0160.427
gcAvail0.0230.0000.024
gcTheoretical0.0420.0000.042
getColours-methods0.0020.0000.002
getGC0.0170.0040.021
getModule0.4310.0080.476
getSummary0.4060.0120.420
importNgsLogs0.0270.0040.062
importSJ0.0080.0000.018
isCompressed0.0020.0000.006
mData0.0270.0000.056
maxAdapterContent0.4400.0120.494
overRep2Fasta-methods0.4010.0040.406
path0.4780.0150.814
plotAdapterContent-methods3.2140.0324.009
plotAlignmentSummary0.6560.0361.385
plotAssemblyStats0.7290.0290.962
plotBaseQuals-methods1.8840.0272.003
plotDupLevels-methods1.3500.0481.418
plotFastqcPCA-methods0.7640.0121.200
plotGcContent-methods1.1180.0201.377
plotInsertSize-methods0.6820.0040.782
plotKmers-methods1.8200.0362.793
plotNContent-methods0.9240.0001.190
plotOverrep-methods0.9090.0081.306
plotReadTotals-methods0.8330.0160.850
plotSeqContent-methods4.3190.0357.034
plotSeqLengthDistn-methods1.3100.0601.782
plotSeqQuals-methods1.5270.0042.812
plotSummary-methods0.6310.0121.092
pwf0.0050.0000.005
readTotals0.4530.0040.459
summariseOverrep-methods0.7930.0080.861
writeHtmlReport000