| Back to Multiple platform build/check report for BioC 3.20: simplified long | 
 | 
This page was generated on 2024-11-20 12:06 -0500 (Wed, 20 Nov 2024).
| Hostname | OS | Arch (*) | R version | Installed pkgs | 
|---|---|---|---|---|
| teran2 | Linux (Ubuntu 24.04.1 LTS) | x86_64 | 4.4.2 (2024-10-31) -- "Pile of Leaves" | 4481 | 
| nebbiolo2 | Linux (Ubuntu 24.04.1 LTS) | x86_64 | 4.4.2 (2024-10-31) -- "Pile of Leaves" | 4479 | 
| palomino8 | Windows Server 2022 Datacenter | x64 | 4.4.2 (2024-10-31 ucrt) -- "Pile of Leaves" | 4359 | 
| lconway | macOS 12.7.1 Monterey | x86_64 | 4.4.1 (2024-06-14) -- "Race for Your Life" | 4539 | 
| kunpeng2 | Linux (openEuler 22.03 LTS-SP1) | aarch64 | 4.4.1 (2024-06-14) -- "Race for Your Life" | 4493 | 
| Click on any hostname to see more info about the system (e.g. compilers) (*) as reported by 'uname -p', except on Windows and Mac OS X | ||||
| Package 1400/2289 | Hostname | OS / Arch | INSTALL | BUILD | CHECK | BUILD BIN | ||||||||
| ndexr 1.28.0  (landing page) Florian Auer 
 | teran2 | Linux (Ubuntu 24.04.1 LTS) / x86_64 | OK | OK | OK |  | ||||||||
| nebbiolo2 | Linux (Ubuntu 24.04.1 LTS) / x86_64 | OK | OK | OK | ||||||||||
| palomino8 | Windows Server 2022 Datacenter / x64 | OK | OK | OK | OK |  | ||||||||
| lconway | macOS 12.7.1 Monterey / x86_64 | OK | OK | OK | OK |  | ||||||||
| kunpeng2 | Linux (openEuler 22.03 LTS-SP1) / aarch64 | OK | OK | OK | ||||||||||
| To the developers/maintainers of the ndexr package: - Allow up to 24 hours (and sometimes 48 hours) for your latest push to git@git.bioconductor.org:packages/ndexr.git to reflect on this report. See Troubleshooting Build Report for more information. - Use the following Renviron settings to reproduce errors and warnings. - If 'R CMD check' started to fail recently on the Linux builder(s) over a missing dependency, add the missing dependency to 'Suggests:' in your DESCRIPTION file. See Renviron.bioc for more information. | 
| Package: ndexr | 
| Version: 1.28.0 | 
| Command: /Library/Frameworks/R.framework/Resources/bin/R CMD check --install=check:ndexr.install-out.txt --library=/Library/Frameworks/R.framework/Resources/library --no-vignettes --timings ndexr_1.28.0.tar.gz | 
| StartedAt: 2024-11-20 00:33:58 -0500 (Wed, 20 Nov 2024) | 
| EndedAt: 2024-11-20 00:38:42 -0500 (Wed, 20 Nov 2024) | 
| EllapsedTime: 284.2 seconds | 
| RetCode: 0 | 
| Status: OK | 
| CheckDir: ndexr.Rcheck | 
| Warnings: 0 | 
##############################################################################
##############################################################################
###
### Running command:
###
###   /Library/Frameworks/R.framework/Resources/bin/R CMD check --install=check:ndexr.install-out.txt --library=/Library/Frameworks/R.framework/Resources/library --no-vignettes --timings ndexr_1.28.0.tar.gz
###
##############################################################################
##############################################################################
* using log directory ‘/Users/biocbuild/bbs-3.20-bioc/meat/ndexr.Rcheck’
* using R version 4.4.1 (2024-06-14)
* using platform: x86_64-apple-darwin20
* R was compiled by
    Apple clang version 14.0.0 (clang-1400.0.29.202)
    GNU Fortran (GCC) 12.2.0
* running under: macOS Monterey 12.7.6
* using session charset: UTF-8
* using option ‘--no-vignettes’
* checking for file ‘ndexr/DESCRIPTION’ ... OK
* checking extension type ... Package
* this is package ‘ndexr’ version ‘1.28.0’
* package encoding: UTF-8
* checking package namespace information ... OK
* checking package dependencies ...Warning: unable to access index for repository https://CRAN.R-project.org/src/contrib:
  cannot open URL 'https://CRAN.R-project.org/src/contrib/PACKAGES'
 OK
* checking if this is a source package ... OK
* checking if there is a namespace ... OK
* checking for hidden files and directories ... OK
* checking for portable file names ... OK
* checking for sufficient/correct file permissions ... OK
* checking whether package ‘ndexr’ can be installed ... OK
* checking installed package size ... OK
* checking package directory ... OK
* checking ‘build’ directory ... OK
* checking DESCRIPTION meta-information ... NOTE
License stub is invalid DCF.
* checking top-level files ... OK
* checking for left-over files ... OK
* checking index information ... OK
* checking package subdirectories ... OK
* checking code files for non-ASCII characters ... OK
* checking R files for syntax errors ... OK
* checking whether the package can be loaded ... OK
* checking whether the package can be loaded with stated dependencies ... OK
* checking whether the package can be unloaded cleanly ... OK
* checking whether the namespace can be loaded with stated dependencies ... OK
* checking whether the namespace can be unloaded cleanly ... OK
* checking dependencies in R code ... NOTE
Namespaces in Imports field not imported from:
  ‘plyr’ ‘tidyr’
  All declared Imports should be used.
Package in Depends field not imported from: ‘RCX’
  These packages need to be imported from (in the NAMESPACE file)
  for when this namespace is loaded but not attached.
Unexported object imported by a ':::' call: ‘httr:::default_ua’
  See the note in ?`:::` about the use of this operator.
* checking S3 generic/method consistency ... OK
* checking replacement functions ... OK
* checking foreign function calls ... OK
* checking R code for possible problems ... NOTE
ndex_create_network: no visible global function definition for ‘tail’
ndex_rest_DELETE: no visible global function definition for
  ‘packageVersion’
ndex_rest_GET: no visible global function definition for
  ‘packageVersion’
ndex_rest_POST: no visible global function definition for
  ‘packageVersion’
ndex_rest_PUT: no visible global function definition for
  ‘packageVersion’
Undefined global functions or variables:
  packageVersion tail
Consider adding
  importFrom("utils", "packageVersion", "tail")
to your NAMESPACE file.
* checking Rd files ... NOTE
checkRd: (-1) ndex_create_group.Rd:10: Lost braces
    10 | \item{ndexcon}{object of class NDExConnection link{ndex_connect}}
       |                                                   ^
checkRd: (-1) ndex_create_network.Rd:10: Lost braces
    10 | \item{ndexcon}{object of class NDExConnection link{ndex_connect}}
       |                                                   ^
checkRd: (-1) ndex_create_user.Rd:23: Lost braces
    23 | \item{ndexcon}{object of class NDExConnection link{ndex_connect}}
       |                                                   ^
checkRd: (-1) ndex_delete_group.Rd:10: Lost braces
    10 | \item{ndexcon}{object of class NDExConnection link{ndex_connect}}
       |                                                   ^
checkRd: (-1) ndex_delete_network.Rd:10: Lost braces
    10 | \item{ndexcon}{object of class NDExConnection link{ndex_connect}}
       |                                                   ^
checkRd: (-1) ndex_delete_user.Rd:10: Lost braces
    10 | \item{ndexcon}{object of class NDExConnection link{ndex_connect}}
       |                                                   ^
checkRd: (-1) ndex_find_groups.Rd:10: Lost braces
    10 | \item{ndexcon}{object of class NDExConnection link{ndex_connect}}
       |                                                   ^
checkRd: (-1) ndex_find_networks.Rd:10: Lost braces
    10 | \item{ndexcon}{object of class NDExConnection link{ndex_connect}}
       |                                                   ^
checkRd: (-1) ndex_find_user_byId.Rd:10: Lost braces
    10 | \item{ndexcon}{object of class NDExConnection link{ndex_connect}}
       |                                                   ^
checkRd: (-1) ndex_find_user_byName.Rd:10: Lost braces
    10 | \item{ndexcon}{object of class NDExConnection link{ndex_connect}}
       |                                                   ^
checkRd: (-1) ndex_find_users.Rd:10: Lost braces
    10 | \item{ndexcon}{object of class NDExConnection link{ndex_connect}}
       |                                                   ^
checkRd: (-1) ndex_get_group.Rd:10: Lost braces
    10 | \item{ndexcon}{object of class NDExConnection link{ndex_connect}}
       |                                                   ^
checkRd: (-1) ndex_get_network.Rd:10: Lost braces
    10 | \item{ndexcon}{object of class NDExConnection link{ndex_connect}}
       |                                                   ^
checkRd: (-1) ndex_group_delete_membership.Rd:10: Lost braces
    10 | \item{ndexcon}{object of class NDExConnection link{ndex_connect}}
       |                                                   ^
checkRd: (-1) ndex_group_list_networks.Rd:16: Lost braces
    16 | \item{ndexcon}{object of class NDExConnection link{ndex_connect}}
       |                                                   ^
checkRd: (-1) ndex_group_list_users.Rd:10: Lost braces
    10 | \item{ndexcon}{object of class NDExConnection link{ndex_connect}}
       |                                                   ^
checkRd: (-1) ndex_group_set_membership.Rd:10: Lost braces
    10 | \item{ndexcon}{object of class NDExConnection link{ndex_connect}}
       |                                                   ^
checkRd: (-1) ndex_network_aspect_get_metadata.Rd:10: Lost braces
    10 | \item{ndexcon}{object of class NDExConnection link{ndex_connect}}
       |                                                   ^
checkRd: (-1) ndex_network_delete_permission.Rd:10: Lost braces
    10 | \item{ndexcon}{object of class NDExConnection link{ndex_connect}}
       |                                                   ^
checkRd: (-1) ndex_network_get_aspect.Rd:10: Lost braces
    10 | \item{ndexcon}{object of class NDExConnection link{ndex_connect}}
       |                                                   ^
checkRd: (-1) ndex_network_get_metadata.Rd:10: Lost braces
    10 | \item{ndexcon}{object of class NDExConnection link{ndex_connect}}
       |                                                   ^
checkRd: (-1) ndex_network_get_permission.Rd:10: Lost braces
    10 | \item{ndexcon}{object of class NDExConnection link{ndex_connect}}
       |                                                   ^
checkRd: (-1) ndex_network_get_provenance.Rd:10: Lost braces
    10 | \item{ndexcon}{object of class NDExConnection link{ndex_connect}}
       |                                                   ^
checkRd: (-1) ndex_network_get_summary.Rd:10: Lost braces
    10 | \item{ndexcon}{object of class NDExConnection link{ndex_connect}}
       |                                                   ^
checkRd: (-1) ndex_network_set_systemProperties.Rd:16: Lost braces
    16 | \item{ndexcon}{object of class NDExConnection link{ndex_connect}}
       |                                                   ^
checkRd: (-1) ndex_network_update_aspect.Rd:16: Lost braces
    16 | \item{ndexcon}{object of class NDExConnection link{ndex_connect}}
       |                                                   ^
checkRd: (-1) ndex_network_update_permission.Rd:16: Lost braces
    16 | \item{ndexcon}{object of class NDExConnection link{ndex_connect}}
       |                                                   ^
checkRd: (-1) ndex_network_update_profile.Rd:16: Lost braces
    16 | \item{ndexcon}{object of class NDExConnection link{ndex_connect}}
       |                                                   ^
checkRd: (-1) ndex_update_group.Rd:18: Lost braces
    18 | \item{ndexcon}{object of class NDExConnection link{ndex_connect}}
       |                                                   ^
checkRd: (-1) ndex_update_network.Rd:10: Lost braces
    10 | \item{ndexcon}{object of class NDExConnection link{ndex_connect}}
       |                                                   ^
checkRd: (-1) ndex_update_user.Rd:22: Lost braces
    22 | \item{ndexcon}{object of class NDExConnection link{ndex_connect}}
       |                                                   ^
checkRd: (-1) ndex_user_change_password.Rd:10: Lost braces
    10 | \item{ndexcon}{object of class NDExConnection link{ndex_connect}}
       |                                                   ^
checkRd: (-1) ndex_user_forgot_password.Rd:10: Lost braces
    10 | \item{ndexcon}{object of class NDExConnection link{ndex_connect}}
       |                                                   ^
checkRd: (-1) ndex_user_get_networksummary.Rd:10: Lost braces
    10 | \item{ndexcon}{object of class NDExConnection link{ndex_connect}}
       |                                                   ^
checkRd: (-1) ndex_user_get_showcase.Rd:10: Lost braces
    10 | \item{ndexcon}{object of class NDExConnection link{ndex_connect}}
       |                                                   ^
checkRd: (-1) ndex_user_list_groups.Rd:10: Lost braces
    10 | \item{ndexcon}{object of class NDExConnection link{ndex_connect}}
       |                                                   ^
checkRd: (-1) ndex_user_list_permissions.Rd:17: Lost braces
    17 | \item{ndexcon}{object of class NDExConnection link{ndex_connect}}
       |                                                   ^
checkRd: (-1) ndex_user_mail_password.Rd:10: Lost braces
    10 | \item{ndexcon}{object of class NDExConnection link{ndex_connect}}
       |                                                   ^
checkRd: (-1) ndex_user_show_group.Rd:10: Lost braces
    10 | \item{ndexcon}{object of class NDExConnection link{ndex_connect}}
       |                                                   ^
checkRd: (-1) ndex_user_show_permission.Rd:10: Lost braces
    10 | \item{ndexcon}{object of class NDExConnection link{ndex_connect}}
       |                                                   ^
checkRd: (-1) ndex_verify_user.Rd:10: Lost braces
    10 | \item{ndexcon}{object of class NDExConnection link{ndex_connect}}
       |                                                   ^
* checking Rd metadata ... OK
* checking Rd cross-references ... OK
* checking for missing documentation entries ... OK
* checking for code/documentation mismatches ... OK
* checking Rd \usage sections ... OK
* checking Rd contents ... OK
* checking for unstated dependencies in examples ... OK
* checking files in ‘vignettes’ ... OK
* checking examples ... OK
* checking for unstated dependencies in ‘tests’ ... OK
* checking tests ...
  Running ‘testthat.R’
 OK
* checking for unstated dependencies in vignettes ... OK
* checking package vignettes ... OK
* checking running R code from vignettes ... SKIPPED
* checking re-building of vignette outputs ... SKIPPED
* checking PDF version of manual ... OK
* DONE
Status: 4 NOTEs
See
  ‘/Users/biocbuild/bbs-3.20-bioc/meat/ndexr.Rcheck/00check.log’
for details.
ndexr.Rcheck/00install.out
############################################################################## ############################################################################## ### ### Running command: ### ### /Library/Frameworks/R.framework/Resources/bin/R CMD INSTALL ndexr ### ############################################################################## ############################################################################## * installing to library ‘/Library/Frameworks/R.framework/Versions/4.4-x86_64/Resources/library’ * installing *source* package ‘ndexr’ ... ** using staged installation ** R ** byte-compile and prepare package for lazy loading ** help *** installing help indices ** building package indices ** installing vignettes ** testing if installed package can be loaded from temporary location ** testing if installed package can be loaded from final location ** testing if installed package keeps a record of temporary installation path * DONE (ndexr)
ndexr.Rcheck/tests/testthat.Rout
R version 4.4.1 (2024-06-14) -- "Race for Your Life"
Copyright (C) 2024 The R Foundation for Statistical Computing
Platform: x86_64-apple-darwin20
R is free software and comes with ABSOLUTELY NO WARRANTY.
You are welcome to redistribute it under certain conditions.
Type 'license()' or 'licence()' for distribution details.
R is a collaborative project with many contributors.
Type 'contributors()' for more information and
'citation()' on how to cite R or R packages in publications.
Type 'demo()' for some demos, 'help()' for on-line help, or
'help.start()' for an HTML browser interface to help.
Type 'q()' to quit R.
> library(testthat)
> library(ndexr)
Loading required package: RCX
> 
> test_check("ndexr")
[ FAIL 0 | WARN 0 | SKIP 0 | PASS 124 ]
> 
> proc.time()
   user  system elapsed 
 12.889   0.511  28.481 
ndexr.Rcheck/ndexr-Ex.timings
| name | user | system | elapsed | |
| listToRCode | 0 | 0 | 0 | |
| ndex_conf_header | 0 | 0 | 0 | |
| ndex_config | 0.000 | 0.000 | 0.002 | |
| ndex_connect | 0.031 | 0.010 | 0.306 | |
| ndex_create_group | 0 | 0 | 0 | |
| ndex_create_network | 0 | 0 | 0 | |
| ndex_create_user | 0.001 | 0.000 | 0.000 | |
| ndex_delete_group | 0 | 0 | 0 | |
| ndex_delete_network | 0 | 0 | 0 | |
| ndex_delete_user | 0 | 0 | 0 | |
| ndex_find_groups | 0.036 | 0.003 | 0.194 | |
| ndex_find_networks | 0.051 | 0.003 | 0.505 | |
| ndex_find_user_byId | 0.016 | 0.001 | 0.235 | |
| ndex_find_user_byName | 0.010 | 0.000 | 0.158 | |
| ndex_find_users | 0.011 | 0.001 | 0.161 | |
| ndex_get_group | 0.017 | 0.001 | 0.242 | |
| ndex_get_network | 0.444 | 0.010 | 1.014 | |
| ndex_group_delete_membership | 0 | 0 | 0 | |
| ndex_group_list_networks | 0.031 | 0.002 | 0.332 | |
| ndex_group_list_users | 0.011 | 0.001 | 0.162 | |
| ndex_group_network_get_permission | 0.021 | 0.001 | 0.246 | |
| ndex_group_set_membership | 0 | 0 | 0 | |
| ndex_helper_encodeParams | 0.001 | 0.001 | 0.002 | |
| ndex_helper_getApi | 0.005 | 0.001 | 0.078 | |
| ndex_helper_httpResponseHandler | 0.007 | 0.001 | 0.091 | |
| ndex_network_aspect_get_metadata | 0.018 | 0.001 | 0.308 | |
| ndex_network_delete_permission | 0.000 | 0.001 | 0.001 | |
| ndex_network_get_aspect | 0.044 | 0.001 | 0.340 | |
| ndex_network_get_metadata | 0.018 | 0.001 | 0.240 | |
| ndex_network_get_permission | 0.000 | 0.001 | 0.000 | |
| ndex_network_get_provenance | 0.065 | 0.001 | 0.286 | |
| ndex_network_get_summary | 0.017 | 0.001 | 0.237 | |
| ndex_network_set_systemProperties | 0 | 0 | 0 | |
| ndex_network_update_aspect | 0.001 | 0.000 | 0.001 | |
| ndex_network_update_permission | 0 | 0 | 0 | |
| ndex_network_update_profile | 0.001 | 0.000 | 0.001 | |
| ndex_rest_DELETE | 0.005 | 0.001 | 0.078 | |
| ndex_rest_GET | 0.005 | 0.001 | 0.077 | |
| ndex_rest_POST | 0.005 | 0.000 | 0.077 | |
| ndex_rest_PUT | 0.005 | 0.000 | 0.077 | |
| ndex_update_group | 0 | 0 | 0 | |
| ndex_update_network | 0 | 0 | 0 | |
| ndex_update_user | 0 | 0 | 0 | |
| ndex_user_change_password | 0.001 | 0.000 | 0.000 | |
| ndex_user_forgot_password | 0 | 0 | 0 | |
| ndex_user_get_networksummary | 0.000 | 0.001 | 0.000 | |
| ndex_user_get_showcase | 0.018 | 0.002 | 0.237 | |
| ndex_user_list_groups | 0.000 | 0.000 | 0.001 | |
| ndex_user_list_permissions | 0.000 | 0.001 | 0.000 | |
| ndex_user_mail_password | 0 | 0 | 0 | |
| ndex_user_show_group | 0.000 | 0.000 | 0.001 | |
| ndex_user_show_permission | 0.000 | 0.000 | 0.001 | |
| ndex_verify_user | 0 | 0 | 0 | |
| ndexr-package | 0 | 0 | 0 | |
| print.NDExConnection | 0.011 | 0.002 | 0.157 | |