| Back to Multiple platform build/check report for BioC 3.20: simplified long |
|
This page was generated on 2025-04-02 19:35 -0400 (Wed, 02 Apr 2025).
| Hostname | OS | Arch (*) | R version | Installed pkgs |
|---|---|---|---|---|
| nebbiolo2 | Linux (Ubuntu 24.04.1 LTS) | x86_64 | 4.4.3 (2025-02-28) -- "Trophy Case" | 4764 |
| palomino8 | Windows Server 2022 Datacenter | x64 | 4.4.3 (2025-02-28 ucrt) -- "Trophy Case" | 4495 |
| merida1 | macOS 12.7.5 Monterey | x86_64 | 4.4.3 (2025-02-28) -- "Trophy Case" | 4522 |
| kjohnson1 | macOS 13.6.6 Ventura | arm64 | 4.4.3 (2025-02-28) -- "Trophy Case" | 4449 |
| taishan | Linux (openEuler 24.03 LTS) | aarch64 | 4.4.3 (2025-02-28) -- "Trophy Case" | 4426 |
| Click on any hostname to see more info about the system (e.g. compilers) (*) as reported by 'uname -p', except on Windows and Mac OS X | ||||
| Package 1282/2289 | Hostname | OS / Arch | INSTALL | BUILD | CHECK | BUILD BIN | ||||||||
| mirTarRnaSeq 1.14.0 (landing page) Mercedeh Movassagh
| nebbiolo2 | Linux (Ubuntu 24.04.1 LTS) / x86_64 | OK | OK | OK | |||||||||
| palomino8 | Windows Server 2022 Datacenter / x64 | OK | OK | OK | OK | |||||||||
| merida1 | macOS 12.7.5 Monterey / x86_64 | OK | OK | OK | OK | |||||||||
| kjohnson1 | macOS 13.6.6 Ventura / arm64 | OK | OK | OK | OK | |||||||||
| taishan | Linux (openEuler 24.03 LTS) / aarch64 | OK | OK | OK | ||||||||||
|
To the developers/maintainers of the mirTarRnaSeq package: - Allow up to 24 hours (and sometimes 48 hours) for your latest push to git@git.bioconductor.org:packages/mirTarRnaSeq.git to reflect on this report. See Troubleshooting Build Report for more information. - Use the following Renviron settings to reproduce errors and warnings. - If 'R CMD check' started to fail recently on the Linux builder(s) over a missing dependency, add the missing dependency to 'Suggests:' in your DESCRIPTION file. See Renviron.bioc for more information. - See Martin Grigorov's blog post for how to debug Linux ARM64 related issues on a x86_64 host. |
| Package: mirTarRnaSeq |
| Version: 1.14.0 |
| Command: /home/biocbuild/R/R/bin/R CMD check --install=check:mirTarRnaSeq.install-out.txt --library=/home/biocbuild/R/R/site-library --no-vignettes --timings mirTarRnaSeq_1.14.0.tar.gz |
| StartedAt: 2025-04-01 08:24:05 -0000 (Tue, 01 Apr 2025) |
| EndedAt: 2025-04-01 08:25:04 -0000 (Tue, 01 Apr 2025) |
| EllapsedTime: 59.1 seconds |
| RetCode: 0 |
| Status: OK |
| CheckDir: mirTarRnaSeq.Rcheck |
| Warnings: 0 |
##############################################################################
##############################################################################
###
### Running command:
###
### /home/biocbuild/R/R/bin/R CMD check --install=check:mirTarRnaSeq.install-out.txt --library=/home/biocbuild/R/R/site-library --no-vignettes --timings mirTarRnaSeq_1.14.0.tar.gz
###
##############################################################################
##############################################################################
* using log directory ‘/home/biocbuild/bbs-3.20-bioc/meat/mirTarRnaSeq.Rcheck’
* using R version 4.4.3 (2025-02-28)
* using platform: aarch64-unknown-linux-gnu
* R was compiled by
aarch64-unknown-linux-gnu-gcc (GCC) 14.2.0
GNU Fortran (GCC) 14.2.0
* running under: openEuler 24.03 (LTS)
* using session charset: UTF-8
* using option ‘--no-vignettes’
* checking for file ‘mirTarRnaSeq/DESCRIPTION’ ... OK
* checking extension type ... Package
* this is package ‘mirTarRnaSeq’ version ‘1.14.0’
* package encoding: UTF-8
* checking package namespace information ... OK
* checking package dependencies ... OK
* checking if this is a source package ... OK
* checking if there is a namespace ... OK
* checking for hidden files and directories ... OK
* checking for portable file names ... OK
* checking for sufficient/correct file permissions ... OK
* checking whether package ‘mirTarRnaSeq’ can be installed ... OK
* checking installed package size ... OK
* checking package directory ... OK
* checking ‘build’ directory ... OK
* checking DESCRIPTION meta-information ... OK
* checking top-level files ... OK
* checking for left-over files ... OK
* checking index information ... OK
* checking package subdirectories ... OK
* checking code files for non-ASCII characters ... OK
* checking R files for syntax errors ... OK
* checking whether the package can be loaded ... OK
* checking whether the package can be loaded with stated dependencies ... OK
* checking whether the package can be unloaded cleanly ... OK
* checking whether the namespace can be loaded with stated dependencies ... OK
* checking whether the namespace can be unloaded cleanly ... OK
* checking loading without being on the library search path ... OK
* checking whether startup messages can be suppressed ... OK
* checking dependencies in R code ... NOTE
Package in Depends field not imported from: ‘ggplot2’
These packages need to be imported from (in the NAMESPACE file)
for when this namespace is loaded but not attached.
* checking S3 generic/method consistency ... OK
* checking replacement functions ... OK
* checking foreign function calls ... OK
* checking R code for possible problems ... OK
* checking Rd files ... OK
* checking Rd metadata ... OK
* checking Rd cross-references ... OK
* checking for missing documentation entries ... OK
* checking for code/documentation mismatches ... OK
* checking Rd \usage sections ... OK
* checking Rd contents ... OK
* checking for unstated dependencies in examples ... OK
* checking contents of ‘data’ directory ... OK
* checking data for non-ASCII characters ... OK
* checking LazyData ... OK
* checking data for ASCII and uncompressed saves ... OK
* checking files in ‘vignettes’ ... OK
* checking examples ... OK
* checking for unstated dependencies in vignettes ... OK
* checking package vignettes ... OK
* checking running R code from vignettes ... SKIPPED
* checking re-building of vignette outputs ... SKIPPED
* checking PDF version of manual ... OK
* DONE
Status: 1 NOTE
See
‘/home/biocbuild/bbs-3.20-bioc/meat/mirTarRnaSeq.Rcheck/00check.log’
for details.
mirTarRnaSeq.Rcheck/00install.out
############################################################################## ############################################################################## ### ### Running command: ### ### /home/biocbuild/R/R/bin/R CMD INSTALL mirTarRnaSeq ### ############################################################################## ############################################################################## * installing to library ‘/home/biocbuild/R/R-4.4.3/site-library’ * installing *source* package ‘mirTarRnaSeq’ ... ** using staged installation ** R ** data *** moving datasets to lazyload DB ** inst ** byte-compile and prepare package for lazy loading ** help *** installing help indices *** copying figures ** building package indices ** installing vignettes ** testing if installed package can be loaded from temporary location ** testing if installed package can be loaded from final location ** testing if installed package keeps a record of temporary installation path * DONE (mirTarRnaSeq)
mirTarRnaSeq.Rcheck/mirTarRnaSeq-Ex.timings
| name | user | system | elapsed | |
| combiner | 0.004 | 0.004 | 0.007 | |
| corMirnaRna | 0.084 | 0.008 | 0.092 | |
| corMirnaRnaMiranda | 0.171 | 0.004 | 0.175 | |
| downloadMirandaFile | 0 | 0 | 0 | |
| drawCorPlot | 0 | 0 | 0 | |
| drawInterPlots | 0.026 | 0.000 | 0.027 | |
| fdrSig | 0.697 | 0.040 | 0.739 | |
| finInterResult | 0.001 | 0.000 | 0.001 | |
| geneVari | 0 | 0 | 0 | |
| getInputSpecies | 0.313 | 0.011 | 0.327 | |
| glm_gaussian | 0 | 0 | 0 | |
| glm_multi | 0 | 0 | 0 | |
| glm_nb | 0 | 0 | 0 | |
| glm_poisson | 0.000 | 0.000 | 0.001 | |
| glm_zeroinfl | 0.001 | 0.000 | 0.001 | |
| glm_zeroinfl_negbin | 0.001 | 0.000 | 0.000 | |
| glm_zeroinfl_poisson | 0 | 0 | 0 | |
| importMirandaFile | 0.000 | 0.000 | 0.001 | |
| makeFormulaRightSide | 0 | 0 | 0 | |
| miRanComp | 0.034 | 0.004 | 0.037 | |
| miRandaIntersect | 0.019 | 0.000 | 0.018 | |
| mirRnaDensityCor | 0.033 | 0.000 | 0.033 | |
| mirRnaDensityInter | 0 | 0 | 0 | |
| mirRnaHeatmap | 0.865 | 0.008 | 0.875 | |
| mirRnaHeatmapDiff | 0.113 | 0.000 | 0.113 | |
| mirandaIntersectInter | 0.016 | 0.000 | 0.016 | |
| modelAIC | 0.061 | 0.000 | 0.061 | |
| modelCoefficients | 0.001 | 0.000 | 0.001 | |
| modelData | 0 | 0 | 0 | |
| modelModelName | 0.001 | 0.000 | 0.000 | |
| modelModelPvalue | 0.001 | 0.000 | 0.001 | |
| modelTermPvalues | 0.001 | 0.000 | 0.002 | |
| modelsFilter | 0 | 0 | 0 | |
| one2OneRnaMiRNA | 0 | 0 | 0 | |
| plotFit | 0.004 | 0.004 | 0.008 | |
| plotResiduals | 0.008 | 0.000 | 0.008 | |
| plotTerms | 0.003 | 0.000 | 0.003 | |
| runAllMirnaModels | 0.698 | 0.000 | 0.700 | |
| runModels | 0.663 | 0.008 | 0.672 | |
| sampCorRnaMirna | 0.897 | 0.032 | 0.930 | |
| threshSig | 0.001 | 0.000 | 0.000 | |
| threshSigInter | 0.001 | 0.000 | 0.002 | |
| twoTimePoint | 0 | 0 | 0 | |
| twoTimePointSamp | 0 | 0 | 0 | |
| tzTrans | 0.007 | 0.000 | 0.008 | |