| Back to Multiple platform build/check report for BioC 3.20: simplified long |
|
This page was generated on 2024-11-20 12:07 -0500 (Wed, 20 Nov 2024).
| Hostname | OS | Arch (*) | R version | Installed pkgs |
|---|---|---|---|---|
| teran2 | Linux (Ubuntu 24.04.1 LTS) | x86_64 | 4.4.2 (2024-10-31) -- "Pile of Leaves" | 4481 |
| nebbiolo2 | Linux (Ubuntu 24.04.1 LTS) | x86_64 | 4.4.2 (2024-10-31) -- "Pile of Leaves" | 4479 |
| palomino8 | Windows Server 2022 Datacenter | x64 | 4.4.2 (2024-10-31 ucrt) -- "Pile of Leaves" | 4359 |
| lconway | macOS 12.7.1 Monterey | x86_64 | 4.4.1 (2024-06-14) -- "Race for Your Life" | 4539 |
| kunpeng2 | Linux (openEuler 22.03 LTS-SP1) | aarch64 | 4.4.1 (2024-06-14) -- "Race for Your Life" | 4493 |
| Click on any hostname to see more info about the system (e.g. compilers) (*) as reported by 'uname -p', except on Windows and Mac OS X | ||||
| Package 1253/2289 | Hostname | OS / Arch | INSTALL | BUILD | CHECK | BUILD BIN | ||||||||
| microbiomeExplorer 1.16.0 (landing page) Janina Reeder
| teran2 | Linux (Ubuntu 24.04.1 LTS) / x86_64 | OK | OK | OK | |||||||||
| nebbiolo2 | Linux (Ubuntu 24.04.1 LTS) / x86_64 | OK | OK | OK | ||||||||||
| palomino8 | Windows Server 2022 Datacenter / x64 | OK | OK | OK | OK | |||||||||
| lconway | macOS 12.7.1 Monterey / x86_64 | OK | OK | OK | OK | |||||||||
| kunpeng2 | Linux (openEuler 22.03 LTS-SP1) / aarch64 | OK | OK | OK | ||||||||||
|
To the developers/maintainers of the microbiomeExplorer package: - Allow up to 24 hours (and sometimes 48 hours) for your latest push to git@git.bioconductor.org:packages/microbiomeExplorer.git to reflect on this report. See Troubleshooting Build Report for more information. - Use the following Renviron settings to reproduce errors and warnings. - If 'R CMD check' started to fail recently on the Linux builder(s) over a missing dependency, add the missing dependency to 'Suggests:' in your DESCRIPTION file. See Renviron.bioc for more information. - See Martin Grigorov's blog post for how to debug Linux ARM64 related issues on a x86_64 host. |
| Package: microbiomeExplorer |
| Version: 1.16.0 |
| Command: /home/biocbuild/R/R/bin/R CMD check --install=check:microbiomeExplorer.install-out.txt --library=/home/biocbuild/R/R/site-library --no-vignettes --timings microbiomeExplorer_1.16.0.tar.gz |
| StartedAt: 2024-11-20 09:50:51 -0000 (Wed, 20 Nov 2024) |
| EndedAt: 2024-11-20 09:53:02 -0000 (Wed, 20 Nov 2024) |
| EllapsedTime: 131.2 seconds |
| RetCode: 0 |
| Status: OK |
| CheckDir: microbiomeExplorer.Rcheck |
| Warnings: 0 |
##############################################################################
##############################################################################
###
### Running command:
###
### /home/biocbuild/R/R/bin/R CMD check --install=check:microbiomeExplorer.install-out.txt --library=/home/biocbuild/R/R/site-library --no-vignettes --timings microbiomeExplorer_1.16.0.tar.gz
###
##############################################################################
##############################################################################
* using log directory ‘/home/biocbuild/bbs-3.20-bioc/meat/microbiomeExplorer.Rcheck’
* using R version 4.4.1 (2024-06-14)
* using platform: aarch64-unknown-linux-gnu
* R was compiled by
gcc (GCC) 12.2.1 20220819 (openEuler 12.2.1-14)
GNU Fortran (GCC) 10.3.1
* running under: openEuler 22.03 (LTS-SP1)
* using session charset: UTF-8
* using option ‘--no-vignettes’
* checking for file ‘microbiomeExplorer/DESCRIPTION’ ... OK
* checking extension type ... Package
* this is package ‘microbiomeExplorer’ version ‘1.16.0’
* package encoding: UTF-8
* checking package namespace information ... OK
* checking package dependencies ... OK
* checking if this is a source package ... OK
* checking if there is a namespace ... OK
* checking for hidden files and directories ... OK
* checking for portable file names ... OK
* checking for sufficient/correct file permissions ... OK
* checking whether package ‘microbiomeExplorer’ can be installed ... OK
* checking installed package size ... NOTE
installed size is 7.6Mb
sub-directories of 1Mb or more:
extdata 4.2Mb
shiny 2.9Mb
* checking package directory ... OK
* checking ‘build’ directory ... OK
* checking DESCRIPTION meta-information ... OK
* checking top-level files ... OK
* checking for left-over files ... OK
* checking index information ... OK
* checking package subdirectories ... OK
* checking code files for non-ASCII characters ... OK
* checking R files for syntax errors ... OK
* checking whether the package can be loaded ... OK
* checking whether the package can be loaded with stated dependencies ... OK
* checking whether the package can be unloaded cleanly ... OK
* checking whether the namespace can be loaded with stated dependencies ... OK
* checking whether the namespace can be unloaded cleanly ... OK
* checking loading without being on the library search path ... OK
* checking whether startup messages can be suppressed ... OK
* checking dependencies in R code ... OK
* checking S3 generic/method consistency ... OK
* checking replacement functions ... OK
* checking foreign function calls ... OK
* checking R code for possible problems ... OK
* checking Rd files ... NOTE
checkRd: (-1) plotBeta.Rd:46: Lost braces
46 | \item{plotTitle}{Plot title. By default, becomes PCoA (code{dist.method}).}
| ^
* checking Rd metadata ... OK
* checking Rd cross-references ... OK
* checking for missing documentation entries ... OK
* checking for code/documentation mismatches ... OK
* checking Rd \usage sections ... OK
* checking Rd contents ... OK
* checking for unstated dependencies in examples ... OK
* checking files in ‘vignettes’ ... OK
* checking examples ... OK
* checking for unstated dependencies in ‘tests’ ... OK
* checking tests ...
Running ‘testthat.R’
OK
* checking for unstated dependencies in vignettes ... OK
* checking package vignettes ... OK
* checking running R code from vignettes ... SKIPPED
* checking re-building of vignette outputs ... SKIPPED
* checking PDF version of manual ... OK
* DONE
Status: 2 NOTEs
See
‘/home/biocbuild/bbs-3.20-bioc/meat/microbiomeExplorer.Rcheck/00check.log’
for details.
microbiomeExplorer.Rcheck/00install.out
############################################################################## ############################################################################## ### ### Running command: ### ### /home/biocbuild/R/R/bin/R CMD INSTALL microbiomeExplorer ### ############################################################################## ############################################################################## * installing to library ‘/home/biocbuild/R/R-4.4.1/site-library’ * installing *source* package ‘microbiomeExplorer’ ... ** using staged installation ** R ** inst ** byte-compile and prepare package for lazy loading ** help *** installing help indices ** building package indices ** installing vignettes ** testing if installed package can be loaded from temporary location ** testing if installed package can be loaded from final location ** testing if installed package keeps a record of temporary installation path * DONE (microbiomeExplorer)
microbiomeExplorer.Rcheck/tests/testthat.Rout
R version 4.4.1 (2024-06-14) -- "Race for Your Life"
Copyright (C) 2024 The R Foundation for Statistical Computing
Platform: aarch64-unknown-linux-gnu
R is free software and comes with ABSOLUTELY NO WARRANTY.
You are welcome to redistribute it under certain conditions.
Type 'license()' or 'licence()' for distribution details.
R is a collaborative project with many contributors.
Type 'contributors()' for more information and
'citation()' on how to cite R or R packages in publications.
Type 'demo()' for some demos, 'help()' for on-line help, or
'help.start()' for an HTML browser interface to help.
Type 'q()' to quit R.
> library(testthat)
> library(microbiomeExplorer)
Loading required package: shiny
Loading required package: magrittr
Attaching package: 'magrittr'
The following objects are masked from 'package:testthat':
equals, is_less_than, not
Loading required package: metagenomeSeq
Loading required package: Biobase
Loading required package: BiocGenerics
Attaching package: 'BiocGenerics'
The following objects are masked from 'package:stats':
IQR, mad, sd, var, xtabs
The following objects are masked from 'package:base':
Filter, Find, Map, Position, Reduce, anyDuplicated, aperm, append,
as.data.frame, basename, cbind, colnames, dirname, do.call,
duplicated, eval, evalq, get, grep, grepl, intersect, is.unsorted,
lapply, mapply, match, mget, order, paste, pmax, pmax.int, pmin,
pmin.int, rank, rbind, rownames, sapply, saveRDS, setdiff, table,
tapply, union, unique, unsplit, which.max, which.min
Welcome to Bioconductor
Vignettes contain introductory material; view with
'browseVignettes()'. To cite Bioconductor, see
'citation("Biobase")', and for packages 'citation("pkgname")'.
Loading required package: limma
Attaching package: 'limma'
The following object is masked from 'package:BiocGenerics':
plotMA
Loading required package: glmnet
Loading required package: Matrix
Loaded glmnet 4.1-8
Loading required package: RColorBrewer
>
> test_check("microbiomeExplorer")
[ FAIL 0 | WARN 2 | SKIP 1 | PASS 61 ]
══ Skipped tests (1) ═══════════════════════════════════════════════════════════
• On CRAN (1): 'test-differential_functions.R:47:3'
[ FAIL 0 | WARN 2 | SKIP 1 | PASS 61 ]
>
> proc.time()
user system elapsed
11.676 0.358 11.961
microbiomeExplorer.Rcheck/microbiomeExplorer-Ex.timings
| name | user | system | elapsed | |
| aggFeatures | 0.347 | 0.116 | 0.464 | |
| aggregationTabUI | 0.045 | 0.004 | 0.049 | |
| calculatePCAs | 0.487 | 0.056 | 0.536 | |
| computeDistMat | 0.593 | 0.072 | 0.583 | |
| corrAnalysisUI | 0.973 | 0.080 | 1.057 | |
| corrFeature | 0.861 | 0.024 | 0.887 | |
| corrPhenotype | 0.542 | 0.035 | 0.579 | |
| dataInputUI | 0.406 | 0.023 | 0.432 | |
| diffAnalysisUI | 0.064 | 0.004 | 0.069 | |
| featureAnalysisUI | 0.066 | 0.000 | 0.067 | |
| featureTableUI | 0.03 | 0.00 | 0.03 | |
| filterByPheno | 0.228 | 0.004 | 0.233 | |
| filterMEData | 1.508 | 0.012 | 1.525 | |
| interAnalysisUI | 0.169 | 0.004 | 0.174 | |
| intraAnalysisUI | 0.170 | 0.000 | 0.171 | |
| longAnalysisUI | 0.091 | 0.004 | 0.095 | |
| makeQCPlot | 0.310 | 0.028 | 0.339 | |
| normalizeData | 1.105 | 0.012 | 1.120 | |
| phenotypeTableUI | 0.042 | 0.000 | 0.042 | |
| plotAbundance | 0.963 | 0.016 | 0.982 | |
| plotAlpha | 0.416 | 0.004 | 0.420 | |
| plotAvgAbundance | 0.535 | 0.016 | 0.552 | |
| plotBeta | 0.420 | 0.044 | 0.374 | |
| plotHeatmap | 2.235 | 0.047 | 2.288 | |
| plotLongFeature | 0.444 | 0.028 | 0.479 | |
| plotSingleFeature | 0.407 | 0.016 | 0.424 | |
| plotlyHistogram | 0.228 | 0.008 | 0.236 | |
| plotlySampleBarplot | 0.221 | 0.008 | 0.230 | |
| replaceWithUnknown | 0.167 | 0.028 | 0.196 | |
| reportListUI | 0.043 | 0.000 | 0.043 | |
| rollDownFeatures | 0.118 | 0.000 | 0.118 | |
| runDiffTest | 1.042 | 0.028 | 1.073 | |