| Back to Multiple platform build/check report for BioC 3.20: simplified long |
|
This page was generated on 2024-07-16 11:40 -0400 (Tue, 16 Jul 2024).
| Hostname | OS | Arch (*) | R version | Installed pkgs |
|---|---|---|---|---|
| nebbiolo2 | Linux (Ubuntu 22.04.3 LTS) | x86_64 | 4.4.1 (2024-06-14) -- "Race for Your Life" | 4677 |
| palomino6 | Windows Server 2022 Datacenter | x64 | 4.4.1 (2024-06-14 ucrt) -- "Race for Your Life" | 4416 |
| lconway | macOS 12.7.1 Monterey | x86_64 | 4.4.1 (2024-06-14) -- "Race for Your Life" | 4444 |
| kjohnson3 | macOS 13.6.5 Ventura | arm64 | 4.4.1 (2024-06-14) -- "Race for Your Life" | 4393 |
| palomino8 | Windows Server 2022 Datacenter | x64 | 4.4.1 (2024-06-14 ucrt) -- "Race for Your Life" | 4373 |
| Click on any hostname to see more info about the system (e.g. compilers) (*) as reported by 'uname -p', except on Windows and Mac OS X | ||||
| Package 1207/2243 | Hostname | OS / Arch | INSTALL | BUILD | CHECK | BUILD BIN | ||||||||
| methylInheritance 1.29.0 (landing page) Astrid Deschênes
| nebbiolo2 | Linux (Ubuntu 22.04.3 LTS) / x86_64 | OK | OK | OK | |||||||||
| palomino6 | Windows Server 2022 Datacenter / x64 | OK | OK | OK | OK | |||||||||
| lconway | macOS 12.7.1 Monterey / x86_64 | OK | OK | OK | OK | |||||||||
| kjohnson3 | macOS 13.6.5 Ventura / arm64 | OK | OK | OK | OK | |||||||||
| palomino8 | Windows Server 2022 Datacenter / x64 | OK | OK | OK | OK | |||||||||
|
To the developers/maintainers of the methylInheritance package: - Allow up to 24 hours (and sometimes 48 hours) for your latest push to git@git.bioconductor.org:packages/methylInheritance.git to reflect on this report. See Troubleshooting Build Report for more information. - Use the following Renviron settings to reproduce errors and warnings. - If 'R CMD check' started to fail recently on the Linux builder(s) over a missing dependency, add the missing dependency to 'Suggests:' in your DESCRIPTION file. See Renviron.bioc for more information. |
| Package: methylInheritance |
| Version: 1.29.0 |
| Command: C:\Users\biocbuild\bbs-3.20-bioc\R\bin\R.exe CMD check --no-multiarch --install=check:methylInheritance.install-out.txt --library=C:\Users\biocbuild\bbs-3.20-bioc\R\library --no-vignettes --timings methylInheritance_1.29.0.tar.gz |
| StartedAt: 2024-07-16 01:37:55 -0400 (Tue, 16 Jul 2024) |
| EndedAt: 2024-07-16 01:45:37 -0400 (Tue, 16 Jul 2024) |
| EllapsedTime: 462.6 seconds |
| RetCode: 0 |
| Status: OK |
| CheckDir: methylInheritance.Rcheck |
| Warnings: 0 |
##############################################################################
##############################################################################
###
### Running command:
###
### C:\Users\biocbuild\bbs-3.20-bioc\R\bin\R.exe CMD check --no-multiarch --install=check:methylInheritance.install-out.txt --library=C:\Users\biocbuild\bbs-3.20-bioc\R\library --no-vignettes --timings methylInheritance_1.29.0.tar.gz
###
##############################################################################
##############################################################################
* using log directory 'C:/Users/biocbuild/bbs-3.20-bioc/meat/methylInheritance.Rcheck'
* using R version 4.4.1 (2024-06-14 ucrt)
* using platform: x86_64-w64-mingw32
* R was compiled by
gcc.exe (GCC) 13.2.0
GNU Fortran (GCC) 13.2.0
* running under: Windows Server 2022 x64 (build 20348)
* using session charset: UTF-8
* using option '--no-vignettes'
* checking for file 'methylInheritance/DESCRIPTION' ... OK
* this is package 'methylInheritance' version '1.29.0'
* package encoding: UTF-8
* checking package namespace information ... OK
* checking package dependencies ... OK
* checking if this is a source package ... OK
* checking if there is a namespace ... OK
* checking for hidden files and directories ... OK
* checking for portable file names ... OK
* checking whether package 'methylInheritance' can be installed ... OK
* checking installed package size ... OK
* checking package directory ... OK
* checking 'build' directory ... OK
* checking DESCRIPTION meta-information ... OK
* checking top-level files ... OK
* checking for left-over files ... OK
* checking index information ... OK
* checking package subdirectories ... OK
* checking code files for non-ASCII characters ... OK
* checking R files for syntax errors ... OK
* checking whether the package can be loaded ... OK
* checking whether the package can be loaded with stated dependencies ... OK
* checking whether the package can be unloaded cleanly ... OK
* checking whether the namespace can be loaded with stated dependencies ... OK
* checking whether the namespace can be unloaded cleanly ... OK
* checking dependencies in R code ... OK
* checking S3 generic/method consistency ... OK
* checking replacement functions ... OK
* checking foreign function calls ... OK
* checking R code for possible problems ... OK
* checking Rd files ... NOTE
checkRd: (-1) demoForTransgenerationalAnalysis.Rd:59-61: Lost braces
59 | \item \code{\link{runPermutation}} {for running a
| ^
checkRd: (-1) demoForTransgenerationalAnalysis.Rd:62-63: Lost braces
62 | \item \code{\link{runObservation}} {for running an
| ^
checkRd: (-1) isInterGenerationResults.Rd:21: Lost braces; missing escapes or markup?
21 | "_permutation_{permutationID}.RDS" extension.}
| ^
checkRd: (-1) methylInheritance-package.Rd:19-21: Lost braces
19 | \item \code{\link{runPermutation}} {for running a
| ^
checkRd: (-1) methylInheritance-package.Rd:22-23: Lost braces
22 | \item \code{\link{runObservation}} {for running an
| ^
checkRd: (-1) methylInheritanceResults.Rd:293-294: Lost braces
293 | \item \code{\link{extractInfo}} {for extracting the
| ^
checkRd: (-1) readInterGenerationResults.Rd:25: Lost braces; missing escapes or markup?
25 | "_permutation_{permutationID}.RDS" extension.}
| ^
checkRd: (-1) runOnePermutationOnAllGenerations.Rd:144-173: Lost braces
144 | itemize{
| ^
checkRd: (-1) samplesForTransgenerationalAnalysis.Rd:48-50: Lost braces
48 | \item \code{\link{runPermutation}} {for running a
| ^
checkRd: (-1) saveInterGenerationResults.Rd:27: Lost braces; missing escapes or markup?
27 | "_permutation_{permutationID}.RDS" extension.}
| ^
* checking Rd metadata ... OK
* checking Rd cross-references ... OK
* checking for missing documentation entries ... OK
* checking for code/documentation mismatches ... OK
* checking Rd \usage sections ... OK
* checking Rd contents ... OK
* checking for unstated dependencies in examples ... OK
* checking contents of 'data' directory ... OK
* checking data for non-ASCII characters ... OK
* checking data for ASCII and uncompressed saves ... OK
* checking files in 'vignettes' ... OK
* checking examples ... OK
Examples with CPU (user + system) or elapsed time > 5s
user system elapsed
runPermutation 95.94 1.92 98.41
runObservation 46.11 0.88 47.17
samplesForTransgenerationalAnalysis 30.26 0.95 31.64
runOnePermutationOnAllGenerations 10.76 0.44 11.28
* checking for unstated dependencies in 'tests' ... OK
* checking tests ...
Running 'runTests.R'
OK
* checking for unstated dependencies in vignettes ... OK
* checking package vignettes ... OK
* checking running R code from vignettes ... SKIPPED
* checking re-building of vignette outputs ... SKIPPED
* checking PDF version of manual ... OK
* DONE
Status: 1 NOTE
See
'C:/Users/biocbuild/bbs-3.20-bioc/meat/methylInheritance.Rcheck/00check.log'
for details.
methylInheritance.Rcheck/00install.out
############################################################################## ############################################################################## ### ### Running command: ### ### C:\Users\biocbuild\bbs-3.20-bioc\R\bin\R.exe CMD INSTALL methylInheritance ### ############################################################################## ############################################################################## * installing to library 'C:/Users/biocbuild/bbs-3.20-bioc/R/library' * installing *source* package 'methylInheritance' ... ** using staged installation ** R ** data ** inst ** byte-compile and prepare package for lazy loading ** help *** installing help indices ** building package indices ** installing vignettes ** testing if installed package can be loaded from temporary location ** testing if installed package can be loaded from final location ** testing if installed package keeps a record of temporary installation path * DONE (methylInheritance)
methylInheritance.Rcheck/tests/runTests.Rout
R version 4.4.1 (2024-06-14 ucrt) -- "Race for Your Life"
Copyright (C) 2024 The R Foundation for Statistical Computing
Platform: x86_64-w64-mingw32/x64
R is free software and comes with ABSOLUTELY NO WARRANTY.
You are welcome to redistribute it under certain conditions.
Type 'license()' or 'licence()' for distribution details.
R is a collaborative project with many contributors.
Type 'contributors()' for more information and
'citation()' on how to cite R or R packages in publications.
Type 'demo()' for some demos, 'help()' for on-line help, or
'help.start()' for an HTML browser interface to help.
Type 'q()' to quit R.
> ## Run all tests presnt in the package
> BiocGenerics:::testPackage("methylInheritance")
Loading required package: stats4
Loading required package: BiocGenerics
Attaching package: 'BiocGenerics'
The following objects are masked from 'package:stats':
IQR, mad, sd, var, xtabs
The following objects are masked from 'package:base':
Filter, Find, Map, Position, Reduce, anyDuplicated, aperm, append,
as.data.frame, basename, cbind, colnames, dirname, do.call,
duplicated, eval, evalq, get, grep, grepl, intersect, is.unsorted,
lapply, mapply, match, mget, order, paste, pmax, pmax.int, pmin,
pmin.int, rank, rbind, rownames, sapply, setdiff, table, tapply,
union, unique, unsplit, which.max, which.min
Loading required package: S4Vectors
Attaching package: 'S4Vectors'
The following object is masked from 'package:utils':
findMatches
The following objects are masked from 'package:base':
I, expand.grid, unname
Loading required package: IRanges
Attaching package: 'IRanges'
The following object is masked from 'package:grDevices':
windows
Loading required package: GenomeInfoDb
uniting...
uniting...
uniting...
uniting...
uniting...
uniting...
uniting...
uniting...
uniting...
uniting...
uniting...
uniting...
uniting...
uniting...
uniting...
uniting...
uniting...
uniting...
Permutation Analysis
Number of Generations: 3
Number of Permutations: 20
Observation Results:
SOURCE ELEMENT ANALYSIS TYPE RESULT
1 OBSERVATION SITES i2 HYPER1 4
2 OBSERVATION SITES i2 HYPER2 1
3 OBSERVATION SITES i2 HYPO1 2
4 OBSERVATION SITES i2 HYPO2 2
5 OBSERVATION SITES iAll HYPER 0
6 OBSERVATION SITES iAll HYPO 0
7 OBSERVATION TILES i2 HYPER1 1000
8 OBSERVATION TILES i2 HYPER2 0
9 OBSERVATION TILES i2 HYPO1 0
10 OBSERVATION TILES i2 HYPO2 0
11 OBSERVATION TILES iAll HYPER 0
12 OBSERVATION TILES iAll HYPO 0
RUNIT TEST PROTOCOL -- Tue Jul 16 01:45:27 2024
***********************************************
Number of test functions: 75
Number of errors: 0
Number of failures: 0
1 Test Suite :
methylInheritance RUnit Tests - 75 test functions, 0 errors, 0 failures
Number of test functions: 75
Number of errors: 0
Number of failures: 0
Warning messages:
1: Use of `formatForGraphDataFrame$RESULT` is discouraged.
ℹ Use `RESULT` instead.
2: In max(i) : no non-missing arguments to max; returning -Inf
3: In max(i) : no non-missing arguments to max; returning -Inf
>
> proc.time()
user system elapsed
33.23 1.15 34.50
methylInheritance.Rcheck/methylInheritance-Ex.timings
| name | user | system | elapsed | |
| calculateSignificantLevel | 0.00 | 0.02 | 0.02 | |
| createDataStructure | 0.06 | 0.00 | 0.06 | |
| createOutputDir | 0 | 0 | 0 | |
| demoForTransgenerationalAnalysis | 4.24 | 0.16 | 4.41 | |
| extractInfo | 0.12 | 0.00 | 0.12 | |
| formatInputMethylData | 0.16 | 0.03 | 0.20 | |
| getGRangesFromMethylDiff | 0.09 | 0.00 | 0.09 | |
| interGeneration | 0.94 | 0.01 | 0.97 | |
| isInterGenerationResults | 0 | 0 | 0 | |
| loadAllRDSResults | 0.12 | 0.00 | 0.13 | |
| loadConvergenceData | 0.16 | 0.02 | 0.19 | |
| mergePermutationAndObservation | 0 | 0 | 0 | |
| methylInheritanceAllResults | 0.02 | 0.00 | 0.01 | |
| methylInheritanceResults | 0.01 | 0.00 | 0.02 | |
| plotConvergenceGraph | 0.41 | 0.00 | 0.40 | |
| plotGraph | 0.34 | 0.00 | 0.35 | |
| readInterGenerationResults | 0.02 | 0.01 | 0.03 | |
| runObservation | 46.11 | 0.88 | 47.17 | |
| runOnePermutationOnAllGenerations | 10.76 | 0.44 | 11.28 | |
| runPermutation | 95.94 | 1.92 | 98.41 | |
| samplesForTransgenerationalAnalysis | 30.26 | 0.95 | 31.64 | |
| saveInterGenerationResults | 0.82 | 0.00 | 0.81 | |
| validateExtractInfo | 0 | 0 | 0 | |
| validateLoadConvergenceData | 0 | 0 | 0 | |
| validateMergePermutationAndObservation | 0 | 0 | 0 | |
| validateRunObservation | 0.09 | 0.00 | 0.09 | |
| validateRunPermutation | 0.09 | 0.00 | 0.09 | |