| Back to Multiple platform build/check report for BioC 3.20: simplified long |
|
This page was generated on 2025-04-02 19:35 -0400 (Wed, 02 Apr 2025).
| Hostname | OS | Arch (*) | R version | Installed pkgs |
|---|---|---|---|---|
| nebbiolo2 | Linux (Ubuntu 24.04.1 LTS) | x86_64 | 4.4.3 (2025-02-28) -- "Trophy Case" | 4764 |
| palomino8 | Windows Server 2022 Datacenter | x64 | 4.4.3 (2025-02-28 ucrt) -- "Trophy Case" | 4495 |
| merida1 | macOS 12.7.5 Monterey | x86_64 | 4.4.3 (2025-02-28) -- "Trophy Case" | 4522 |
| kjohnson1 | macOS 13.6.6 Ventura | arm64 | 4.4.3 (2025-02-28) -- "Trophy Case" | 4449 |
| taishan | Linux (openEuler 24.03 LTS) | aarch64 | 4.4.3 (2025-02-28) -- "Trophy Case" | 4426 |
| Click on any hostname to see more info about the system (e.g. compilers) (*) as reported by 'uname -p', except on Windows and Mac OS X | ||||
| Package 1207/2289 | Hostname | OS / Arch | INSTALL | BUILD | CHECK | BUILD BIN | ||||||||
| metagenomeSeq 1.48.1 (landing page) Joseph N. Paulson
| nebbiolo2 | Linux (Ubuntu 24.04.1 LTS) / x86_64 | OK | OK | OK | |||||||||
| palomino8 | Windows Server 2022 Datacenter / x64 | OK | OK | OK | OK | |||||||||
| merida1 | macOS 12.7.5 Monterey / x86_64 | OK | OK | OK | OK | |||||||||
| kjohnson1 | macOS 13.6.6 Ventura / arm64 | OK | OK | OK | OK | |||||||||
| taishan | Linux (openEuler 24.03 LTS) / aarch64 | OK | OK | OK | ||||||||||
|
To the developers/maintainers of the metagenomeSeq package: - Allow up to 24 hours (and sometimes 48 hours) for your latest push to git@git.bioconductor.org:packages/metagenomeSeq.git to reflect on this report. See Troubleshooting Build Report for more information. - Use the following Renviron settings to reproduce errors and warnings. - If 'R CMD check' started to fail recently on the Linux builder(s) over a missing dependency, add the missing dependency to 'Suggests:' in your DESCRIPTION file. See Renviron.bioc for more information. - See Martin Grigorov's blog post for how to debug Linux ARM64 related issues on a x86_64 host. |
| Package: metagenomeSeq |
| Version: 1.48.1 |
| Command: /home/biocbuild/R/R/bin/R CMD check --install=check:metagenomeSeq.install-out.txt --library=/home/biocbuild/R/R/site-library --no-vignettes --timings metagenomeSeq_1.48.1.tar.gz |
| StartedAt: 2025-04-01 08:05:32 -0000 (Tue, 01 Apr 2025) |
| EndedAt: 2025-04-01 08:09:43 -0000 (Tue, 01 Apr 2025) |
| EllapsedTime: 251.2 seconds |
| RetCode: 0 |
| Status: OK |
| CheckDir: metagenomeSeq.Rcheck |
| Warnings: 0 |
##############################################################################
##############################################################################
###
### Running command:
###
### /home/biocbuild/R/R/bin/R CMD check --install=check:metagenomeSeq.install-out.txt --library=/home/biocbuild/R/R/site-library --no-vignettes --timings metagenomeSeq_1.48.1.tar.gz
###
##############################################################################
##############################################################################
* using log directory ‘/home/biocbuild/bbs-3.20-bioc/meat/metagenomeSeq.Rcheck’
* using R version 4.4.3 (2025-02-28)
* using platform: aarch64-unknown-linux-gnu
* R was compiled by
aarch64-unknown-linux-gnu-gcc (GCC) 14.2.0
GNU Fortran (GCC) 14.2.0
* running under: openEuler 24.03 (LTS)
* using session charset: UTF-8
* using option ‘--no-vignettes’
* checking for file ‘metagenomeSeq/DESCRIPTION’ ... OK
* this is package ‘metagenomeSeq’ version ‘1.48.1’
* checking package namespace information ... OK
* checking package dependencies ... OK
* checking if this is a source package ... OK
* checking if there is a namespace ... OK
* checking for hidden files and directories ... OK
* checking for portable file names ... OK
* checking for sufficient/correct file permissions ... OK
* checking whether package ‘metagenomeSeq’ can be installed ... OK
* checking installed package size ... OK
* checking package directory ... OK
* checking ‘build’ directory ... OK
* checking DESCRIPTION meta-information ... OK
* checking top-level files ... OK
* checking for left-over files ... OK
* checking index information ... OK
* checking package subdirectories ... OK
* checking code files for non-ASCII characters ... OK
* checking R files for syntax errors ... OK
* checking whether the package can be loaded ... OK
* checking whether the package can be loaded with stated dependencies ... OK
* checking whether the package can be unloaded cleanly ... OK
* checking whether the namespace can be loaded with stated dependencies ... OK
* checking whether the namespace can be unloaded cleanly ... OK
* checking loading without being on the library search path ... OK
* checking dependencies in R code ... OK
* checking S3 generic/method consistency ... OK
* checking replacement functions ... OK
* checking foreign function calls ... OK
* checking R code for possible problems ... OK
* checking Rd files ... OK
* checking Rd metadata ... OK
* checking Rd cross-references ... OK
* checking for missing documentation entries ... OK
* checking for code/documentation mismatches ... OK
* checking Rd \usage sections ... OK
* checking Rd contents ... OK
* checking for unstated dependencies in examples ... OK
* checking contents of ‘data’ directory ... OK
* checking data for non-ASCII characters ... OK
* checking data for ASCII and uncompressed saves ... OK
* checking files in ‘vignettes’ ... OK
* checking examples ... OK
Examples with CPU (user + system) or elapsed time > 5s
user system elapsed
wrenchNorm 16.734 0.088 16.864
MRfulltable 1.163 0.010 5.914
* checking for unstated dependencies in ‘tests’ ... OK
* checking tests ...
Running ‘testthat.R’
OK
* checking for unstated dependencies in vignettes ... OK
* checking package vignettes ... OK
* checking running R code from vignettes ... SKIPPED
* checking re-building of vignette outputs ... SKIPPED
* checking PDF version of manual ... OK
* DONE
Status: OK
metagenomeSeq.Rcheck/00install.out
############################################################################## ############################################################################## ### ### Running command: ### ### /home/biocbuild/R/R/bin/R CMD INSTALL metagenomeSeq ### ############################################################################## ############################################################################## * installing to library ‘/home/biocbuild/R/R-4.4.3/site-library’ * installing *source* package ‘metagenomeSeq’ ... ** using staged installation ** R ** data ** inst ** byte-compile and prepare package for lazy loading in method for ‘MRihw’ with signature ‘"fitFeatureModelResults"’: no definition for class “fitFeatureModelResults” in method for ‘MRihw’ with signature ‘"fitZigResults"’: no definition for class “fitZigResults” ** help *** installing help indices ** building package indices ** installing vignettes ** testing if installed package can be loaded from temporary location ** testing if installed package can be loaded from final location ** testing if installed package keeps a record of temporary installation path * DONE (metagenomeSeq)
metagenomeSeq.Rcheck/tests/testthat.Rout
R version 4.4.3 (2025-02-28) -- "Trophy Case"
Copyright (C) 2025 The R Foundation for Statistical Computing
Platform: aarch64-unknown-linux-gnu
R is free software and comes with ABSOLUTELY NO WARRANTY.
You are welcome to redistribute it under certain conditions.
Type 'license()' or 'licence()' for distribution details.
R is a collaborative project with many contributors.
Type 'contributors()' for more information and
'citation()' on how to cite R or R packages in publications.
Type 'demo()' for some demos, 'help()' for on-line help, or
'help.start()' for an HTML browser interface to help.
Type 'q()' to quit R.
> library("testthat")
> packageVersion("metagenomeSeq")
[1] '1.48.1'
> # As suggested for opt-out option on testing by users,
> # recommended by CRAN: http://adv-r.had.co.nz/Testing.html
> # Previously, best practice was to put all test files in inst/tests
> # and ensure that R CMD check ran them by putting the following code in tests/test-all.R:
> # >library(testthat)
> # >library(yourpackage)
> # >test_package("yourpackage")
> # Now, recommended practice is to put your tests in tests/testthat,
> # and ensure R CMD check runs them by putting the following code in tests/test-all.R:
> # >library(testthat)
> # >test_check("yourpackage")
> # The advantage of this new structure is that the user has control over whether or not tests are installed using the –install-tests parameter to
> # R CMD install, or INSTALL_opts = c(“–install-tests”) argument to install.packages(). I’m not sure why you wouldn’t want to install the tests,
> # but now you have the flexibility as requested by CRAN maintainers.
> test_check("metagenomeSeq")
Loading required package: metagenomeSeq
Loading required package: Biobase
Loading required package: BiocGenerics
Attaching package: 'BiocGenerics'
The following objects are masked from 'package:stats':
IQR, mad, sd, var, xtabs
The following objects are masked from 'package:base':
Filter, Find, Map, Position, Reduce, anyDuplicated, aperm, append,
as.data.frame, basename, cbind, colnames, dirname, do.call,
duplicated, eval, evalq, get, grep, grepl, intersect, is.unsorted,
lapply, mapply, match, mget, order, paste, pmax, pmax.int, pmin,
pmin.int, rank, rbind, rownames, sapply, saveRDS, setdiff, table,
tapply, union, unique, unsplit, which.max, which.min
Welcome to Bioconductor
Vignettes contain introductory material; view with
'browseVignettes()'. To cite Bioconductor, see
'citation("Biobase")', and for packages 'citation("pkgname")'.
Loading required package: limma
Attaching package: 'limma'
The following object is masked from 'package:BiocGenerics':
plotMA
Loading required package: glmnet
Loading required package: Matrix
Loaded glmnet 4.1-8
Loading required package: RColorBrewer
[ FAIL 0 | WARN 6 | SKIP 0 | PASS 15 ]
[ FAIL 0 | WARN 6 | SKIP 0 | PASS 15 ]
>
> proc.time()
user system elapsed
110.050 2.546 112.871
metagenomeSeq.Rcheck/metagenomeSeq-Ex.timings
| name | user | system | elapsed | |
| MRcoefs | 1.327 | 0.024 | 1.354 | |
| MRcounts | 0.417 | 0.012 | 0.429 | |
| MRexperiment-class | 0.001 | 0.000 | 0.000 | |
| MRfulltable | 1.163 | 0.010 | 5.914 | |
| MRtable | 1.138 | 0.004 | 1.145 | |
| aggregateBySample | 0.169 | 0.000 | 0.170 | |
| aggregateByTaxonomy | 0.185 | 0.003 | 0.189 | |
| biom2MRexperiment | 0.258 | 0.008 | 0.268 | |
| calcNormFactors | 0.684 | 0.004 | 0.690 | |
| correctIndices | 0.109 | 0.004 | 0.112 | |
| correlationTest | 0.235 | 0.004 | 0.240 | |
| cumNorm | 0.515 | 0.000 | 0.516 | |
| cumNormMat | 0.542 | 0.008 | 0.551 | |
| cumNormStat | 0.760 | 0.000 | 0.761 | |
| cumNormStatFast | 0.338 | 0.000 | 0.339 | |
| expSummary | 0.108 | 0.000 | 0.108 | |
| exportMat | 0.980 | 0.456 | 1.442 | |
| exportStats | 0.436 | 0.008 | 0.444 | |
| extractMR | 0.611 | 0.168 | 0.780 | |
| filterData | 0.205 | 0.004 | 0.210 | |
| fitDO | 0.418 | 0.002 | 3.204 | |
| fitFeatureModel | 1.205 | 0.012 | 1.219 | |
| fitLogNormal | 1.784 | 0.020 | 1.810 | |
| fitMultipleTimeSeries | 1.932 | 0.015 | 1.951 | |
| fitPA | 0.390 | 0.000 | 3.013 | |
| fitSSTimeSeries | 0.426 | 0.007 | 0.435 | |
| fitTimeSeries | 0.453 | 0.000 | 0.453 | |
| fitZig | 1.849 | 0.004 | 1.857 | |
| libSize-set | 0.282 | 0.004 | 0.286 | |
| libSize | 0.274 | 0.000 | 0.274 | |
| loadBiom | 0.048 | 0.000 | 0.047 | |
| loadMeta | 0.022 | 0.000 | 0.024 | |
| loadMetaQ | 0 | 0 | 0 | |
| loadPhenoData | 0.010 | 0.000 | 0.011 | |
| makeLabels | 0 | 0 | 0 | |
| mergeMRexperiments | 1.461 | 0.075 | 1.540 | |
| newMRexperiment | 0.039 | 0.000 | 0.039 | |
| normFactors-set | 0.276 | 0.004 | 0.281 | |
| normFactors | 0.25 | 0.00 | 0.25 | |
| plotBubble | 0.280 | 0.016 | 2.927 | |
| plotClassTimeSeries | 1.061 | 0.007 | 1.076 | |
| plotCorr | 0.723 | 0.004 | 0.730 | |
| plotFeature | 0.158 | 0.004 | 0.163 | |
| plotGenus | 0.151 | 0.000 | 0.151 | |
| plotMRheatmap | 2.542 | 0.016 | 2.564 | |
| plotOTU | 0.145 | 0.008 | 0.153 | |
| plotOrd | 0.258 | 0.000 | 0.258 | |
| plotRare | 0.150 | 0.004 | 0.154 | |
| plotTimeSeries | 1.061 | 0.004 | 1.068 | |
| posteriorProbs | 1.951 | 0.016 | 1.971 | |
| returnAppropriateObj | 0.292 | 0.000 | 0.292 | |
| ssFit | 0 | 0 | 0 | |
| ssIntervalCandidate | 0 | 0 | 0 | |
| ssPerm | 0 | 0 | 0 | |
| ssPermAnalysis | 0 | 0 | 0 | |
| trapz | 0.000 | 0.000 | 0.001 | |
| ts2MRexperiment | 1.801 | 0.000 | 1.805 | |
| uniqueFeatures | 0.123 | 0.000 | 0.124 | |
| wrenchNorm | 16.734 | 0.088 | 16.864 | |
| zigControl | 0 | 0 | 0 | |