| Back to Multiple platform build/check report for BioC 3.20: simplified long |
|
This page was generated on 2024-11-20 12:07 -0500 (Wed, 20 Nov 2024).
| Hostname | OS | Arch (*) | R version | Installed pkgs |
|---|---|---|---|---|
| teran2 | Linux (Ubuntu 24.04.1 LTS) | x86_64 | 4.4.2 (2024-10-31) -- "Pile of Leaves" | 4481 |
| nebbiolo2 | Linux (Ubuntu 24.04.1 LTS) | x86_64 | 4.4.2 (2024-10-31) -- "Pile of Leaves" | 4479 |
| palomino8 | Windows Server 2022 Datacenter | x64 | 4.4.2 (2024-10-31 ucrt) -- "Pile of Leaves" | 4359 |
| lconway | macOS 12.7.1 Monterey | x86_64 | 4.4.1 (2024-06-14) -- "Race for Your Life" | 4539 |
| kunpeng2 | Linux (openEuler 22.03 LTS-SP1) | aarch64 | 4.4.1 (2024-06-14) -- "Race for Your Life" | 4493 |
| Click on any hostname to see more info about the system (e.g. compilers) (*) as reported by 'uname -p', except on Windows and Mac OS X | ||||
| Package 1207/2289 | Hostname | OS / Arch | INSTALL | BUILD | CHECK | BUILD BIN | ||||||||
| metagenomeSeq 1.48.0 (landing page) Joseph N. Paulson
| teran2 | Linux (Ubuntu 24.04.1 LTS) / x86_64 | OK | OK | ERROR | |||||||||
| nebbiolo2 | Linux (Ubuntu 24.04.1 LTS) / x86_64 | OK | OK | ERROR | ||||||||||
| palomino8 | Windows Server 2022 Datacenter / x64 | OK | OK | ERROR | OK | |||||||||
| lconway | macOS 12.7.1 Monterey / x86_64 | OK | OK | ERROR | OK | |||||||||
| kunpeng2 | Linux (openEuler 22.03 LTS-SP1) / aarch64 | OK | OK | ERROR | ||||||||||
|
To the developers/maintainers of the metagenomeSeq package: - Allow up to 24 hours (and sometimes 48 hours) for your latest push to git@git.bioconductor.org:packages/metagenomeSeq.git to reflect on this report. See Troubleshooting Build Report for more information. - Use the following Renviron settings to reproduce errors and warnings. - If 'R CMD check' started to fail recently on the Linux builder(s) over a missing dependency, add the missing dependency to 'Suggests:' in your DESCRIPTION file. See Renviron.bioc for more information. - See Martin Grigorov's blog post for how to debug Linux ARM64 related issues on a x86_64 host. |
| Package: metagenomeSeq |
| Version: 1.48.0 |
| Command: /home/biocbuild/R/R/bin/R CMD check --install=check:metagenomeSeq.install-out.txt --library=/home/biocbuild/R/R/site-library --no-vignettes --timings metagenomeSeq_1.48.0.tar.gz |
| StartedAt: 2024-11-20 09:38:27 -0000 (Wed, 20 Nov 2024) |
| EndedAt: 2024-11-20 09:43:05 -0000 (Wed, 20 Nov 2024) |
| EllapsedTime: 278.5 seconds |
| RetCode: 1 |
| Status: ERROR |
| CheckDir: metagenomeSeq.Rcheck |
| Warnings: NA |
##############################################################################
##############################################################################
###
### Running command:
###
### /home/biocbuild/R/R/bin/R CMD check --install=check:metagenomeSeq.install-out.txt --library=/home/biocbuild/R/R/site-library --no-vignettes --timings metagenomeSeq_1.48.0.tar.gz
###
##############################################################################
##############################################################################
* using log directory ‘/home/biocbuild/bbs-3.20-bioc/meat/metagenomeSeq.Rcheck’
* using R version 4.4.1 (2024-06-14)
* using platform: aarch64-unknown-linux-gnu
* R was compiled by
gcc (GCC) 12.2.1 20220819 (openEuler 12.2.1-14)
GNU Fortran (GCC) 10.3.1
* running under: openEuler 22.03 (LTS-SP1)
* using session charset: UTF-8
* using option ‘--no-vignettes’
* checking for file ‘metagenomeSeq/DESCRIPTION’ ... OK
* this is package ‘metagenomeSeq’ version ‘1.48.0’
* checking package namespace information ... OK
* checking package dependencies ... OK
* checking if this is a source package ... OK
* checking if there is a namespace ... OK
* checking for hidden files and directories ... OK
* checking for portable file names ... OK
* checking for sufficient/correct file permissions ... OK
* checking whether package ‘metagenomeSeq’ can be installed ... OK
* checking installed package size ... OK
* checking package directory ... OK
* checking ‘build’ directory ... OK
* checking DESCRIPTION meta-information ... OK
* checking top-level files ... OK
* checking for left-over files ... OK
* checking index information ... OK
* checking package subdirectories ... OK
* checking code files for non-ASCII characters ... OK
* checking R files for syntax errors ... OK
* checking whether the package can be loaded ... OK
* checking whether the package can be loaded with stated dependencies ... OK
* checking whether the package can be unloaded cleanly ... OK
* checking whether the namespace can be loaded with stated dependencies ... OK
* checking whether the namespace can be unloaded cleanly ... OK
* checking loading without being on the library search path ... OK
* checking dependencies in R code ... OK
* checking S3 generic/method consistency ... OK
* checking replacement functions ... OK
* checking foreign function calls ... OK
* checking R code for possible problems ... OK
* checking Rd files ... OK
* checking Rd metadata ... OK
* checking Rd cross-references ... OK
* checking for missing documentation entries ... OK
* checking for code/documentation mismatches ... OK
* checking Rd \usage sections ... OK
* checking Rd contents ... OK
* checking for unstated dependencies in examples ... OK
* checking contents of ‘data’ directory ... OK
* checking data for non-ASCII characters ... OK
* checking data for ASCII and uncompressed saves ... OK
* checking files in ‘vignettes’ ... OK
* checking examples ... OK
Examples with CPU (user + system) or elapsed time > 5s
user system elapsed
wrenchNorm 17.706 0.192 17.925
MRfulltable 1.386 0.024 6.680
* checking for unstated dependencies in ‘tests’ ... OK
* checking tests ...
Running ‘testthat.R’
ERROR
Running the tests in ‘tests/testthat.R’ failed.
Last 13 lines of output:
── Failure ('test-fitZig.R:67:3'): `fitZig` function treats a matrix the same ──
`fit` not equal to `fit2`.
Component "eb": Component "df.prior": Mean relative difference: 0.01522971
Component "eb": Component "s2.prior": Mean relative difference: 0.0208853
Component "eb": Component "var.prior": Mean relative difference: 0.01489299
Component "eb": Component "s2.post": Mean relative difference: 0.002818974
Component "eb": Component "t": Mean relative difference: 0.001476944
Component "eb": Component "df.total": Mean relative difference: 0.002226407
Component "eb": Component "p.value": Mean relative difference: 0.001045802
Component "eb": Component "lods": Mean relative difference: 0.002124969
Component "eb": Component "F": Mean relative difference: 0.002818882
[ FAIL 2 | WARN 6 | SKIP 0 | PASS 13 ]
Error: Test failures
Execution halted
* checking for unstated dependencies in vignettes ... OK
* checking package vignettes ... OK
* checking running R code from vignettes ... SKIPPED
* checking re-building of vignette outputs ... SKIPPED
* checking PDF version of manual ... OK
* DONE
Status: 1 ERROR
See
‘/home/biocbuild/bbs-3.20-bioc/meat/metagenomeSeq.Rcheck/00check.log’
for details.
metagenomeSeq.Rcheck/00install.out
############################################################################## ############################################################################## ### ### Running command: ### ### /home/biocbuild/R/R/bin/R CMD INSTALL metagenomeSeq ### ############################################################################## ############################################################################## * installing to library ‘/home/biocbuild/R/R-4.4.1/site-library’ * installing *source* package ‘metagenomeSeq’ ... ** using staged installation ** R ** data ** inst ** byte-compile and prepare package for lazy loading in method for ‘MRihw’ with signature ‘"fitFeatureModelResults"’: no definition for class “fitFeatureModelResults” in method for ‘MRihw’ with signature ‘"fitZigResults"’: no definition for class “fitZigResults” ** help *** installing help indices ** building package indices ** installing vignettes ** testing if installed package can be loaded from temporary location ** testing if installed package can be loaded from final location ** testing if installed package keeps a record of temporary installation path * DONE (metagenomeSeq)
metagenomeSeq.Rcheck/tests/testthat.Rout.fail
R version 4.4.1 (2024-06-14) -- "Race for Your Life"
Copyright (C) 2024 The R Foundation for Statistical Computing
Platform: aarch64-unknown-linux-gnu
R is free software and comes with ABSOLUTELY NO WARRANTY.
You are welcome to redistribute it under certain conditions.
Type 'license()' or 'licence()' for distribution details.
R is a collaborative project with many contributors.
Type 'contributors()' for more information and
'citation()' on how to cite R or R packages in publications.
Type 'demo()' for some demos, 'help()' for on-line help, or
'help.start()' for an HTML browser interface to help.
Type 'q()' to quit R.
> library("testthat")
> packageVersion("metagenomeSeq")
[1] '1.48.0'
> # As suggested for opt-out option on testing by users,
> # recommended by CRAN: http://adv-r.had.co.nz/Testing.html
> # Previously, best practice was to put all test files in inst/tests
> # and ensure that R CMD check ran them by putting the following code in tests/test-all.R:
> # >library(testthat)
> # >library(yourpackage)
> # >test_package("yourpackage")
> # Now, recommended practice is to put your tests in tests/testthat,
> # and ensure R CMD check runs them by putting the following code in tests/test-all.R:
> # >library(testthat)
> # >test_check("yourpackage")
> # The advantage of this new structure is that the user has control over whether or not tests are installed using the –install-tests parameter to
> # R CMD install, or INSTALL_opts = c(“–install-tests”) argument to install.packages(). I’m not sure why you wouldn’t want to install the tests,
> # but now you have the flexibility as requested by CRAN maintainers.
> test_check("metagenomeSeq")
Loading required package: metagenomeSeq
Loading required package: Biobase
Loading required package: BiocGenerics
Attaching package: 'BiocGenerics'
The following objects are masked from 'package:stats':
IQR, mad, sd, var, xtabs
The following objects are masked from 'package:base':
Filter, Find, Map, Position, Reduce, anyDuplicated, aperm, append,
as.data.frame, basename, cbind, colnames, dirname, do.call,
duplicated, eval, evalq, get, grep, grepl, intersect, is.unsorted,
lapply, mapply, match, mget, order, paste, pmax, pmax.int, pmin,
pmin.int, rank, rbind, rownames, sapply, saveRDS, setdiff, table,
tapply, union, unique, unsplit, which.max, which.min
Welcome to Bioconductor
Vignettes contain introductory material; view with
'browseVignettes()'. To cite Bioconductor, see
'citation("Biobase")', and for packages 'citation("pkgname")'.
Loading required package: limma
Attaching package: 'limma'
The following object is masked from 'package:BiocGenerics':
plotMA
Loading required package: glmnet
Loading required package: Matrix
Loaded glmnet 4.1-8
Loading required package: RColorBrewer
[ FAIL 2 | WARN 6 | SKIP 0 | PASS 13 ]
══ Failed tests ════════════════════════════════════════════════════════════════
── Failure ('test-fitZig.R:35:3'): `fitZig` function provides expected values prior to split ──
`fit` not equal to `fit2`.
Component "eb": Component "df.prior": Mean relative difference: 0.01522971
Component "eb": Component "s2.prior": Mean relative difference: 0.0208853
Component "eb": Component "var.prior": Mean relative difference: 0.01489299
Component "eb": Component "s2.post": Mean relative difference: 0.002818974
Component "eb": Component "t": Mean relative difference: 0.001476944
Component "eb": Component "df.total": Mean relative difference: 0.002226407
Component "eb": Component "p.value": Mean relative difference: 0.001045802
Component "eb": Component "lods": Mean relative difference: 0.002124969
Component "eb": Component "F": Mean relative difference: 0.002818882
── Failure ('test-fitZig.R:67:3'): `fitZig` function treats a matrix the same ──
`fit` not equal to `fit2`.
Component "eb": Component "df.prior": Mean relative difference: 0.01522971
Component "eb": Component "s2.prior": Mean relative difference: 0.0208853
Component "eb": Component "var.prior": Mean relative difference: 0.01489299
Component "eb": Component "s2.post": Mean relative difference: 0.002818974
Component "eb": Component "t": Mean relative difference: 0.001476944
Component "eb": Component "df.total": Mean relative difference: 0.002226407
Component "eb": Component "p.value": Mean relative difference: 0.001045802
Component "eb": Component "lods": Mean relative difference: 0.002124969
Component "eb": Component "F": Mean relative difference: 0.002818882
[ FAIL 2 | WARN 6 | SKIP 0 | PASS 13 ]
Error: Test failures
Execution halted
metagenomeSeq.Rcheck/metagenomeSeq-Ex.timings
| name | user | system | elapsed | |
| MRcoefs | 1.547 | 0.064 | 1.613 | |
| MRcounts | 0.533 | 0.000 | 0.535 | |
| MRexperiment-class | 0 | 0 | 0 | |
| MRfulltable | 1.386 | 0.024 | 6.680 | |
| MRtable | 1.377 | 0.056 | 1.436 | |
| aggregateBySample | 0.174 | 0.004 | 0.178 | |
| aggregateByTaxonomy | 0.190 | 0.008 | 0.198 | |
| biom2MRexperiment | 0.269 | 0.012 | 0.283 | |
| calcNormFactors | 0.880 | 0.044 | 0.925 | |
| correctIndices | 0.117 | 0.004 | 0.122 | |
| correlationTest | 0.247 | 0.008 | 0.256 | |
| cumNorm | 0.660 | 0.004 | 0.665 | |
| cumNormMat | 0.696 | 0.008 | 0.705 | |
| cumNormStat | 0.981 | 0.028 | 1.010 | |
| cumNormStatFast | 0.388 | 0.004 | 0.393 | |
| expSummary | 0.104 | 0.004 | 0.108 | |
| exportMat | 1.082 | 0.499 | 1.584 | |
| exportStats | 0.505 | 0.012 | 0.518 | |
| extractMR | 0.578 | 0.211 | 0.791 | |
| filterData | 0.254 | 0.003 | 0.259 | |
| fitDO | 0.506 | 0.001 | 3.558 | |
| fitFeatureModel | 1.464 | 0.056 | 1.523 | |
| fitLogNormal | 2.672 | 0.072 | 2.749 | |
| fitMultipleTimeSeries | 2.414 | 0.075 | 2.494 | |
| fitPA | 0.518 | 0.008 | 3.415 | |
| fitSSTimeSeries | 0.523 | 0.020 | 0.545 | |
| fitTimeSeries | 0.544 | 0.004 | 0.549 | |
| fitZig | 2.222 | 0.032 | 2.258 | |
| libSize-set | 0.316 | 0.012 | 0.328 | |
| libSize | 0.295 | 0.000 | 0.296 | |
| loadBiom | 0.045 | 0.004 | 0.049 | |
| loadMeta | 0.024 | 0.000 | 0.025 | |
| loadMetaQ | 0 | 0 | 0 | |
| loadPhenoData | 0.012 | 0.000 | 0.012 | |
| makeLabels | 0 | 0 | 0 | |
| mergeMRexperiments | 2.051 | 0.060 | 2.113 | |
| newMRexperiment | 0.036 | 0.000 | 0.036 | |
| normFactors-set | 0.312 | 0.000 | 0.312 | |
| normFactors | 0.275 | 0.004 | 0.280 | |
| plotBubble | 0.334 | 0.007 | 3.183 | |
| plotClassTimeSeries | 1.198 | 0.027 | 1.228 | |
| plotCorr | 0.830 | 0.008 | 0.840 | |
| plotFeature | 0.153 | 0.012 | 0.166 | |
| plotGenus | 0.153 | 0.004 | 0.158 | |
| plotMRheatmap | 2.711 | 0.020 | 2.735 | |
| plotOTU | 0.171 | 0.000 | 0.171 | |
| plotOrd | 0.318 | 0.000 | 0.312 | |
| plotRare | 0.252 | 0.004 | 0.177 | |
| plotTimeSeries | 1.156 | 0.008 | 1.166 | |
| posteriorProbs | 2.481 | 0.052 | 2.538 | |
| returnAppropriateObj | 0.300 | 0.008 | 0.308 | |
| ssFit | 0.001 | 0.000 | 0.000 | |
| ssIntervalCandidate | 0 | 0 | 0 | |
| ssPerm | 0 | 0 | 0 | |
| ssPermAnalysis | 0 | 0 | 0 | |
| trapz | 0 | 0 | 0 | |
| ts2MRexperiment | 2.109 | 0.014 | 2.126 | |
| uniqueFeatures | 0.121 | 0.001 | 0.122 | |
| wrenchNorm | 17.706 | 0.192 | 17.925 | |
| zigControl | 0 | 0 | 0 | |