Back to Multiple platform build/check report for BioC 3.20: simplified long |
|
This page was generated on 2025-02-06 12:05 -0500 (Thu, 06 Feb 2025).
Hostname | OS | Arch (*) | R version | Installed pkgs |
---|---|---|---|---|
nebbiolo2 | Linux (Ubuntu 24.04.1 LTS) | x86_64 | 4.4.2 (2024-10-31) -- "Pile of Leaves" | 4753 |
palomino8 | Windows Server 2022 Datacenter | x64 | 4.4.2 (2024-10-31 ucrt) -- "Pile of Leaves" | 4501 |
merida1 | macOS 12.7.5 Monterey | x86_64 | 4.4.2 (2024-10-31) -- "Pile of Leaves" | 4524 |
kjohnson1 | macOS 13.6.6 Ventura | arm64 | 4.4.2 (2024-10-31) -- "Pile of Leaves" | 4476 |
taishan | Linux (openEuler 24.03 LTS) | aarch64 | 4.4.2 (2024-10-31) -- "Pile of Leaves" | 4407 |
Click on any hostname to see more info about the system (e.g. compilers) (*) as reported by 'uname -p', except on Windows and Mac OS X |
Package 1154/2289 | Hostname | OS / Arch | INSTALL | BUILD | CHECK | BUILD BIN | ||||||||
maser 1.24.0 (landing page) Diogo F.T. Veiga
| nebbiolo2 | Linux (Ubuntu 24.04.1 LTS) / x86_64 | OK | OK | OK | ![]() | ||||||||
palomino8 | Windows Server 2022 Datacenter / x64 | OK | OK | OK | OK | ![]() | ||||||||
merida1 | macOS 12.7.5 Monterey / x86_64 | OK | OK | OK | OK | ![]() | ||||||||
kjohnson1 | macOS 13.6.6 Ventura / arm64 | OK | OK | OK | OK | ![]() | ||||||||
taishan | Linux (openEuler 24.03 LTS) / aarch64 | OK | OK | OK | ||||||||||
To the developers/maintainers of the maser package: - Allow up to 24 hours (and sometimes 48 hours) for your latest push to git@git.bioconductor.org:packages/maser.git to reflect on this report. See Troubleshooting Build Report for more information. - Use the following Renviron settings to reproduce errors and warnings. - If 'R CMD check' started to fail recently on the Linux builder(s) over a missing dependency, add the missing dependency to 'Suggests:' in your DESCRIPTION file. See Renviron.bioc for more information. |
Package: maser |
Version: 1.24.0 |
Command: /home/biocbuild/bbs-3.20-bioc/R/bin/R CMD check --install=check:maser.install-out.txt --library=/home/biocbuild/bbs-3.20-bioc/R/site-library --timings maser_1.24.0.tar.gz |
StartedAt: 2025-02-03 23:45:51 -0500 (Mon, 03 Feb 2025) |
EndedAt: 2025-02-03 23:53:43 -0500 (Mon, 03 Feb 2025) |
EllapsedTime: 472.5 seconds |
RetCode: 0 |
Status: OK |
CheckDir: maser.Rcheck |
Warnings: 0 |
############################################################################## ############################################################################## ### ### Running command: ### ### /home/biocbuild/bbs-3.20-bioc/R/bin/R CMD check --install=check:maser.install-out.txt --library=/home/biocbuild/bbs-3.20-bioc/R/site-library --timings maser_1.24.0.tar.gz ### ############################################################################## ############################################################################## * using log directory ‘/home/biocbuild/bbs-3.20-bioc/meat/maser.Rcheck’ * using R version 4.4.2 (2024-10-31) * using platform: x86_64-pc-linux-gnu * R was compiled by gcc (Ubuntu 13.2.0-23ubuntu4) 13.2.0 GNU Fortran (Ubuntu 13.2.0-23ubuntu4) 13.2.0 * running under: Ubuntu 24.04.1 LTS * using session charset: UTF-8 * checking for file ‘maser/DESCRIPTION’ ... OK * checking extension type ... Package * this is package ‘maser’ version ‘1.24.0’ * package encoding: UTF-8 * checking package namespace information ... OK * checking package dependencies ... OK * checking if this is a source package ... OK * checking if there is a namespace ... OK * checking for hidden files and directories ... OK * checking for portable file names ... OK * checking for sufficient/correct file permissions ... OK * checking whether package ‘maser’ can be installed ... OK * checking installed package size ... OK * checking package directory ... OK * checking ‘build’ directory ... OK * checking DESCRIPTION meta-information ... OK * checking top-level files ... OK * checking for left-over files ... OK * checking index information ... OK * checking package subdirectories ... OK * checking code files for non-ASCII characters ... OK * checking R files for syntax errors ... OK * checking whether the package can be loaded ... OK * checking whether the package can be loaded with stated dependencies ... OK * checking whether the package can be unloaded cleanly ... OK * checking whether the namespace can be loaded with stated dependencies ... OK * checking whether the namespace can be unloaded cleanly ... OK * checking loading without being on the library search path ... OK * checking whether startup messages can be suppressed ... OK * checking dependencies in R code ... OK * checking S3 generic/method consistency ... OK * checking replacement functions ... OK * checking foreign function calls ... OK * checking R code for possible problems ... NOTE availableFeaturesUniprotKB: no visible global function definition for 'read.csv' availableFeaturesUniprotKB: no visible binding for global variable 'Category' availableFeaturesUniprotKB: no visible binding for global variable 'Name' filterByIds: no visible binding for global variable 'ID' mapTranscriptsA3SSevent: no visible global function definition for 'subjectHits' mapTranscriptsA5SSevent: no visible global function definition for 'subjectHits' mapTranscriptsMXEevent: no visible global function definition for 'subjectHits' mapTranscriptsRIevent: no visible global function definition for 'subjectHits' mapTranscriptsSEevent: no visible global function definition for 'subjectHits' overlappingFeatures: no visible global function definition for 'subjectHits' urlTracksUniprotKB: no visible global function definition for 'read.csv' Undefined global functions or variables: Category ID Name read.csv subjectHits Consider adding importFrom("utils", "read.csv") to your NAMESPACE file. * checking Rd files ... OK * checking Rd metadata ... OK * checking Rd cross-references ... OK * checking for missing documentation entries ... OK * checking for code/documentation mismatches ... OK * checking Rd \usage sections ... OK * checking Rd contents ... OK * checking for unstated dependencies in examples ... OK * checking R/sysdata.rda ... OK * checking files in ‘vignettes’ ... OK * checking examples ... OK Examples with CPU (user + system) or elapsed time > 5s user system elapsed plotTranscripts 6.863 0.330 7.194 plotUniprotKBFeatures 5.840 0.106 6.986 * checking for unstated dependencies in vignettes ... OK * checking package vignettes ... OK * checking re-building of vignette outputs ... OK * checking PDF version of manual ... OK * DONE Status: 1 NOTE See ‘/home/biocbuild/bbs-3.20-bioc/meat/maser.Rcheck/00check.log’ for details.
maser.Rcheck/00install.out
############################################################################## ############################################################################## ### ### Running command: ### ### /home/biocbuild/bbs-3.20-bioc/R/bin/R CMD INSTALL maser ### ############################################################################## ############################################################################## * installing to library ‘/home/biocbuild/bbs-3.20-bioc/R/site-library’ * installing *source* package ‘maser’ ... ** using staged installation ** R ** inst ** byte-compile and prepare package for lazy loading ** help *** installing help indices ** building package indices ** installing vignettes ** testing if installed package can be loaded from temporary location ** testing if installed package can be loaded from final location ** testing if installed package keeps a record of temporary installation path * DONE (maser)
maser.Rcheck/maser-Ex.timings
name | user | system | elapsed | |
PSI-Maser-character-method | 0.604 | 0.017 | 0.622 | |
PSI | 0.472 | 0.001 | 0.473 | |
annotation-Maser-method | 0.618 | 0.042 | 0.662 | |
availableFeaturesUniprotKB | 0.103 | 0.052 | 0.561 | |
boxplot_PSI_levels | 2.552 | 0.330 | 2.882 | |
counts-Maser-method | 0.481 | 0.088 | 0.570 | |
display | 1.519 | 0.126 | 1.646 | |
dotplot | 1.243 | 0.098 | 1.341 | |
filterByCoverage | 0.826 | 0.030 | 0.856 | |
filterByEventId | 1.940 | 0.241 | 2.181 | |
geneEvents | 0.717 | 0.016 | 0.733 | |
granges-Maser-method | 0.524 | 0.005 | 0.528 | |
mapProteinFeaturesToEvents | 3.283 | 0.275 | 4.943 | |
mapTranscriptsToEvents | 1.500 | 0.095 | 1.595 | |
maser | 0.519 | 0.036 | 0.555 | |
pca | 1.038 | 0.078 | 1.116 | |
plotGenePSI | 1.515 | 0.060 | 1.576 | |
plotTranscripts | 6.863 | 0.330 | 7.194 | |
plotUniprotKBFeatures | 5.840 | 0.106 | 6.986 | |
splicingDistribution | 1.037 | 0.084 | 1.120 | |
summary-Maser-method | 0.616 | 0.053 | 0.669 | |
topEvents | 0.829 | 0.055 | 0.883 | |
volcano | 0.951 | 0.009 | 0.960 | |