| Back to Multiple platform build/check report for BioC 3.20: simplified long |
|
This page was generated on 2024-11-20 12:07 -0500 (Wed, 20 Nov 2024).
| Hostname | OS | Arch (*) | R version | Installed pkgs |
|---|---|---|---|---|
| teran2 | Linux (Ubuntu 24.04.1 LTS) | x86_64 | 4.4.2 (2024-10-31) -- "Pile of Leaves" | 4481 |
| nebbiolo2 | Linux (Ubuntu 24.04.1 LTS) | x86_64 | 4.4.2 (2024-10-31) -- "Pile of Leaves" | 4479 |
| palomino8 | Windows Server 2022 Datacenter | x64 | 4.4.2 (2024-10-31 ucrt) -- "Pile of Leaves" | 4359 |
| lconway | macOS 12.7.1 Monterey | x86_64 | 4.4.1 (2024-06-14) -- "Race for Your Life" | 4539 |
| kunpeng2 | Linux (openEuler 22.03 LTS-SP1) | aarch64 | 4.4.1 (2024-06-14) -- "Race for Your Life" | 4493 |
| Click on any hostname to see more info about the system (e.g. compilers) (*) as reported by 'uname -p', except on Windows and Mac OS X | ||||
| Package 1125/2289 | Hostname | OS / Arch | INSTALL | BUILD | CHECK | BUILD BIN | ||||||||
| lute 1.2.0 (landing page) Sean K Maden
| teran2 | Linux (Ubuntu 24.04.1 LTS) / x86_64 | OK | OK | OK | |||||||||
| nebbiolo2 | Linux (Ubuntu 24.04.1 LTS) / x86_64 | OK | OK | OK | ||||||||||
| palomino8 | Windows Server 2022 Datacenter / x64 | OK | OK | OK | OK | |||||||||
| lconway | macOS 12.7.1 Monterey / x86_64 | OK | OK | OK | OK | |||||||||
| kunpeng2 | Linux (openEuler 22.03 LTS-SP1) / aarch64 | OK | OK | OK | ||||||||||
|
To the developers/maintainers of the lute package: - Allow up to 24 hours (and sometimes 48 hours) for your latest push to git@git.bioconductor.org:packages/lute.git to reflect on this report. See Troubleshooting Build Report for more information. - Use the following Renviron settings to reproduce errors and warnings. - If 'R CMD check' started to fail recently on the Linux builder(s) over a missing dependency, add the missing dependency to 'Suggests:' in your DESCRIPTION file. See Renviron.bioc for more information. - See Martin Grigorov's blog post for how to debug Linux ARM64 related issues on a x86_64 host. |
| Package: lute |
| Version: 1.2.0 |
| Command: /home/biocbuild/R/R/bin/R CMD check --install=check:lute.install-out.txt --library=/home/biocbuild/R/R/site-library --no-vignettes --timings lute_1.2.0.tar.gz |
| StartedAt: 2024-11-20 09:22:42 -0000 (Wed, 20 Nov 2024) |
| EndedAt: 2024-11-20 09:27:06 -0000 (Wed, 20 Nov 2024) |
| EllapsedTime: 264.5 seconds |
| RetCode: 0 |
| Status: OK |
| CheckDir: lute.Rcheck |
| Warnings: 0 |
##############################################################################
##############################################################################
###
### Running command:
###
### /home/biocbuild/R/R/bin/R CMD check --install=check:lute.install-out.txt --library=/home/biocbuild/R/R/site-library --no-vignettes --timings lute_1.2.0.tar.gz
###
##############################################################################
##############################################################################
* using log directory ‘/home/biocbuild/bbs-3.20-bioc/meat/lute.Rcheck’
* using R version 4.4.1 (2024-06-14)
* using platform: aarch64-unknown-linux-gnu
* R was compiled by
gcc (GCC) 12.2.1 20220819 (openEuler 12.2.1-14)
GNU Fortran (GCC) 10.3.1
* running under: openEuler 22.03 (LTS-SP1)
* using session charset: UTF-8
* using option ‘--no-vignettes’
* checking for file ‘lute/DESCRIPTION’ ... OK
* this is package ‘lute’ version ‘1.2.0’
* package encoding: UTF-8
* checking package namespace information ... OK
* checking package dependencies ... OK
* checking if this is a source package ... OK
* checking if there is a namespace ... OK
* checking for hidden files and directories ... OK
* checking for portable file names ... OK
* checking for sufficient/correct file permissions ... OK
* checking whether package ‘lute’ can be installed ... OK
* checking installed package size ... OK
* checking package directory ... OK
* checking ‘build’ directory ... OK
* checking DESCRIPTION meta-information ... OK
* checking top-level files ... OK
* checking for left-over files ... NOTE
The following files look like leftovers:
‘lute/NEWS.Rd’
Please remove them from your package.
* checking index information ... OK
* checking package subdirectories ... OK
* checking code files for non-ASCII characters ... OK
* checking R files for syntax errors ... OK
* checking whether the package can be loaded ... OK
* checking whether the package can be loaded with stated dependencies ... OK
* checking whether the package can be unloaded cleanly ... OK
* checking whether the namespace can be loaded with stated dependencies ... OK
* checking whether the namespace can be unloaded cleanly ... OK
* checking loading without being on the library search path ... OK
* checking dependencies in R code ... NOTE
Namespace in Imports field not imported from: ‘ggplot2’
All declared Imports should be used.
* checking S3 generic/method consistency ... OK
* checking replacement functions ... OK
* checking foreign function calls ... OK
* checking R code for possible problems ... OK
* checking Rd files ... OK
* checking Rd metadata ... OK
* checking Rd cross-references ... OK
* checking for missing documentation entries ... OK
* checking for code/documentation mismatches ... OK
* checking Rd \usage sections ... OK
* checking Rd contents ... OK
* checking for unstated dependencies in examples ... OK
* checking files in ‘vignettes’ ... OK
* checking examples ... OK
* checking for unstated dependencies in vignettes ... OK
* checking package vignettes ... OK
* checking running R code from vignettes ... SKIPPED
* checking re-building of vignette outputs ... SKIPPED
* checking PDF version of manual ... OK
* DONE
Status: 2 NOTEs
See
‘/home/biocbuild/bbs-3.20-bioc/meat/lute.Rcheck/00check.log’
for details.
lute.Rcheck/00install.out
############################################################################## ############################################################################## ### ### Running command: ### ### /home/biocbuild/R/R/bin/R CMD INSTALL lute ### ############################################################################## ############################################################################## * installing to library ‘/home/biocbuild/R/R-4.4.1/site-library’ * installing *source* package ‘lute’ ... ** using staged installation ** R ** inst ** byte-compile and prepare package for lazy loading ** help *** installing help indices ** building package indices ** installing vignettes ** testing if installed package can be loaded from temporary location ** testing if installed package can be loaded from final location ** testing if installed package keeps a record of temporary installation path * DONE (lute)
lute.Rcheck/lute-Ex.timings
| name | user | system | elapsed | |
| bisqueParam-class | 4.894 | 0.056 | 4.875 | |
| bisqueParam | 2.072 | 0.004 | 1.994 | |
| cellProportionsPredictions-class | 0.015 | 0.000 | 0.016 | |
| cellProportionsPredictions | 0.000 | 0.000 | 0.001 | |
| deconvolution-bisqueParam-method | 2.135 | 0.032 | 2.086 | |
| deconvolution-deconvolutionParam-method | 0.001 | 0.000 | 0.001 | |
| deconvolution-independentbulkParam-method | 0.002 | 0.000 | 0.002 | |
| deconvolution-nnlsParam-method | 0.014 | 0.000 | 0.014 | |
| deconvolution-referencebasedParam-method | 0.003 | 0.000 | 0.003 | |
| deconvolution | 0.004 | 0.000 | 0.004 | |
| deconvolutionParam-class | 0 | 0 | 0 | |
| eset_to_sce | 0.521 | 0.004 | 0.527 | |
| eset_to_se | 0.382 | 0.000 | 0.384 | |
| findmarkersParam-class | 0.885 | 0.012 | 0.899 | |
| findmarkersParam | 0.693 | 0.068 | 0.763 | |
| getDeconvolutionExampleData | 0 | 0 | 0 | |
| getDeconvolutionExampleDataBisque | 0.386 | 0.016 | 0.402 | |
| getDeconvolutionExampleDataSCDC | 0.149 | 0.012 | 0.161 | |
| get_celltypes_from_sce | 0 | 0 | 0 | |
| get_csf_reference | 0 | 0 | 0 | |
| get_eset_from_matrix | 0 | 0 | 0 | |
| independentbulkParam-class | 0.001 | 0.000 | 0.001 | |
| independentbulkParam | 0.001 | 0.000 | 0.001 | |
| lute | 0.15 | 0.00 | 0.15 | |
| luteSupportedDeconvolutionAlgorithms | 0.006 | 0.000 | 0.007 | |
| new_workflow_table | 0.001 | 0.000 | 0.001 | |
| nnlsParam-class | 0.007 | 0.000 | 0.007 | |
| nnlsParam | 0.006 | 0.000 | 0.006 | |
| parseDeconvolutionPredictionsResults | 0 | 0 | 0 | |
| proportionsVectorsList | 0 | 0 | 0 | |
| randomMarkersVectorsList | 0.001 | 0.000 | 0.001 | |
| randomSingleCellExperiment | 0.074 | 0.000 | 0.074 | |
| referenceFromSingleCellExperiment | 0.000 | 0.001 | 0.001 | |
| referencebasedParam-class | 0.000 | 0.002 | 0.002 | |
| referencebasedParam | 0.002 | 0.000 | 0.002 | |
| rmse | 0.001 | 0.000 | 0.001 | |
| rmseTest | 0 | 0 | 0 | |
| sce_to_eset | 0.117 | 0.008 | 0.126 | |
| sce_to_se | 0.103 | 0.000 | 0.103 | |
| se_to_eset | 0.130 | 0.004 | 0.135 | |
| se_to_sce | 0.116 | 0.000 | 0.116 | |
| show-bisqueParam-method | 1.376 | 0.036 | 1.414 | |
| show-cellProportionsPredictions-method | 0.000 | 0.000 | 0.001 | |
| show-deconvolutionParam-method | 0 | 0 | 0 | |
| show-findmarkersParam-method | 0.720 | 0.016 | 0.738 | |
| show-independentbulkParam-method | 0.001 | 0.000 | 0.001 | |
| show-nnlsParam-method | 0.000 | 0.002 | 0.002 | |
| show-referencebasedParam-method | 0.001 | 0.002 | 0.002 | |
| show-typemarkersParam-method | 0.001 | 0.000 | 0.001 | |
| sub-sub-deconvolutionParam-ANY-ANY-method | 0 | 0 | 0 | |
| sub-sub-typemarkersParam-ANY-ANY-method | 0 | 0 | 0 | |
| typemarkers-findmarkersParam-method | 0.712 | 0.000 | 0.714 | |
| typemarkers-typemarkersParam-method | 0 | 0 | 0 | |
| typemarkers | 0 | 0 | 0 | |
| typemarkersParam-class | 0 | 0 | 0 | |
| typemarkersParam | 0 | 0 | 0 | |
| ypb_from_sce | 0.153 | 0.000 | 0.155 | |
| z_matrix_from_sce | 0.091 | 0.000 | 0.092 | |