| Back to Multiple platform build/check report for BioC 3.20: simplified long |
|
This page was generated on 2025-04-02 19:34 -0400 (Wed, 02 Apr 2025).
| Hostname | OS | Arch (*) | R version | Installed pkgs |
|---|---|---|---|---|
| nebbiolo2 | Linux (Ubuntu 24.04.1 LTS) | x86_64 | 4.4.3 (2025-02-28) -- "Trophy Case" | 4764 |
| palomino8 | Windows Server 2022 Datacenter | x64 | 4.4.3 (2025-02-28 ucrt) -- "Trophy Case" | 4495 |
| merida1 | macOS 12.7.5 Monterey | x86_64 | 4.4.3 (2025-02-28) -- "Trophy Case" | 4522 |
| kjohnson1 | macOS 13.6.6 Ventura | arm64 | 4.4.3 (2025-02-28) -- "Trophy Case" | 4449 |
| taishan | Linux (openEuler 24.03 LTS) | aarch64 | 4.4.3 (2025-02-28) -- "Trophy Case" | 4426 |
| Click on any hostname to see more info about the system (e.g. compilers) (*) as reported by 'uname -p', except on Windows and Mac OS X | ||||
| Package 1125/2289 | Hostname | OS / Arch | INSTALL | BUILD | CHECK | BUILD BIN | ||||||||
| lute 1.2.0 (landing page) Sean K Maden
| nebbiolo2 | Linux (Ubuntu 24.04.1 LTS) / x86_64 | OK | OK | OK | |||||||||
| palomino8 | Windows Server 2022 Datacenter / x64 | OK | OK | OK | OK | |||||||||
| merida1 | macOS 12.7.5 Monterey / x86_64 | OK | OK | OK | OK | |||||||||
| kjohnson1 | macOS 13.6.6 Ventura / arm64 | OK | OK | OK | OK | |||||||||
| taishan | Linux (openEuler 24.03 LTS) / aarch64 | OK | OK | OK | ||||||||||
|
To the developers/maintainers of the lute package: - Allow up to 24 hours (and sometimes 48 hours) for your latest push to git@git.bioconductor.org:packages/lute.git to reflect on this report. See Troubleshooting Build Report for more information. - Use the following Renviron settings to reproduce errors and warnings. - If 'R CMD check' started to fail recently on the Linux builder(s) over a missing dependency, add the missing dependency to 'Suggests:' in your DESCRIPTION file. See Renviron.bioc for more information. |
| Package: lute |
| Version: 1.2.0 |
| Command: /Library/Frameworks/R.framework/Resources/bin/R CMD check --install=check:lute.install-out.txt --library=/Library/Frameworks/R.framework/Resources/library --no-vignettes --timings lute_1.2.0.tar.gz |
| StartedAt: 2025-04-01 23:20:34 -0400 (Tue, 01 Apr 2025) |
| EndedAt: 2025-04-01 23:24:14 -0400 (Tue, 01 Apr 2025) |
| EllapsedTime: 219.2 seconds |
| RetCode: 0 |
| Status: OK |
| CheckDir: lute.Rcheck |
| Warnings: 0 |
##############################################################################
##############################################################################
###
### Running command:
###
### /Library/Frameworks/R.framework/Resources/bin/R CMD check --install=check:lute.install-out.txt --library=/Library/Frameworks/R.framework/Resources/library --no-vignettes --timings lute_1.2.0.tar.gz
###
##############################################################################
##############################################################################
* using log directory ‘/Users/biocbuild/bbs-3.20-bioc/meat/lute.Rcheck’
* using R version 4.4.3 (2025-02-28)
* using platform: aarch64-apple-darwin20
* R was compiled by
Apple clang version 14.0.0 (clang-1400.0.29.202)
GNU Fortran (GCC) 12.2.0
* running under: macOS Ventura 13.7.1
* using session charset: UTF-8
* using option ‘--no-vignettes’
* checking for file ‘lute/DESCRIPTION’ ... OK
* this is package ‘lute’ version ‘1.2.0’
* package encoding: UTF-8
* checking package namespace information ... OK
* checking package dependencies ... OK
* checking if this is a source package ... OK
* checking if there is a namespace ... OK
* checking for hidden files and directories ... OK
* checking for portable file names ... OK
* checking for sufficient/correct file permissions ... OK
* checking whether package ‘lute’ can be installed ... OK
* checking installed package size ... OK
* checking package directory ... OK
* checking ‘build’ directory ... OK
* checking DESCRIPTION meta-information ... OK
* checking top-level files ... OK
* checking for left-over files ... NOTE
The following files look like leftovers:
‘lute/NEWS.Rd’
Please remove them from your package.
* checking index information ... OK
* checking package subdirectories ... OK
* checking code files for non-ASCII characters ... OK
* checking R files for syntax errors ... OK
* checking whether the package can be loaded ... OK
* checking whether the package can be loaded with stated dependencies ... OK
* checking whether the package can be unloaded cleanly ... OK
* checking whether the namespace can be loaded with stated dependencies ... OK
* checking whether the namespace can be unloaded cleanly ... OK
* checking dependencies in R code ... NOTE
Namespace in Imports field not imported from: ‘ggplot2’
All declared Imports should be used.
* checking S3 generic/method consistency ... OK
* checking replacement functions ... OK
* checking foreign function calls ... OK
* checking R code for possible problems ... OK
* checking Rd files ... OK
* checking Rd metadata ... OK
* checking Rd cross-references ... OK
* checking for missing documentation entries ... OK
* checking for code/documentation mismatches ... OK
* checking Rd \usage sections ... OK
* checking Rd contents ... OK
* checking for unstated dependencies in examples ... OK
* checking files in ‘vignettes’ ... OK
* checking examples ... OK
* checking for unstated dependencies in vignettes ... OK
* checking package vignettes ... OK
* checking running R code from vignettes ... SKIPPED
* checking re-building of vignette outputs ... SKIPPED
* checking PDF version of manual ... OK
* DONE
Status: 2 NOTEs
See
‘/Users/biocbuild/bbs-3.20-bioc/meat/lute.Rcheck/00check.log’
for details.
lute.Rcheck/00install.out
############################################################################## ############################################################################## ### ### Running command: ### ### /Library/Frameworks/R.framework/Resources/bin/R CMD INSTALL lute ### ############################################################################## ############################################################################## * installing to library ‘/Library/Frameworks/R.framework/Versions/4.4-arm64/Resources/library’ * installing *source* package ‘lute’ ... ** using staged installation ** R ** inst ** byte-compile and prepare package for lazy loading ** help *** installing help indices ** building package indices ** installing vignettes ** testing if installed package can be loaded from temporary location ** testing if installed package can be loaded from final location ** testing if installed package keeps a record of temporary installation path * DONE (lute)
lute.Rcheck/lute-Ex.timings
| name | user | system | elapsed | |
| bisqueParam-class | 3.221 | 0.104 | 3.335 | |
| bisqueParam | 1.319 | 0.077 | 1.397 | |
| cellProportionsPredictions-class | 0.018 | 0.001 | 0.019 | |
| cellProportionsPredictions | 0.001 | 0.000 | 0.001 | |
| deconvolution-bisqueParam-method | 2.894 | 0.104 | 3.022 | |
| deconvolution-deconvolutionParam-method | 0.001 | 0.000 | 0.001 | |
| deconvolution-independentbulkParam-method | 0.003 | 0.001 | 0.002 | |
| deconvolution-nnlsParam-method | 0.016 | 0.002 | 0.018 | |
| deconvolution-referencebasedParam-method | 0.003 | 0.001 | 0.004 | |
| deconvolution | 0.003 | 0.000 | 0.003 | |
| deconvolutionParam-class | 0.001 | 0.000 | 0.000 | |
| eset_to_sce | 0.595 | 0.022 | 0.635 | |
| eset_to_se | 0.496 | 0.016 | 0.521 | |
| findmarkersParam-class | 0.701 | 0.019 | 0.727 | |
| findmarkersParam | 0.505 | 0.015 | 0.520 | |
| getDeconvolutionExampleData | 0.001 | 0.000 | 0.001 | |
| getDeconvolutionExampleDataBisque | 0.473 | 0.004 | 0.478 | |
| getDeconvolutionExampleDataSCDC | 0.104 | 0.001 | 0.105 | |
| get_celltypes_from_sce | 0.001 | 0.000 | 0.000 | |
| get_csf_reference | 0 | 0 | 0 | |
| get_eset_from_matrix | 0 | 0 | 0 | |
| independentbulkParam-class | 0.001 | 0.000 | 0.001 | |
| independentbulkParam | 0.001 | 0.000 | 0.001 | |
| lute | 0.118 | 0.002 | 0.120 | |
| luteSupportedDeconvolutionAlgorithms | 0.007 | 0.002 | 0.010 | |
| new_workflow_table | 0.000 | 0.000 | 0.001 | |
| nnlsParam-class | 0.005 | 0.001 | 0.005 | |
| nnlsParam | 0.005 | 0.001 | 0.005 | |
| parseDeconvolutionPredictionsResults | 0 | 0 | 0 | |
| proportionsVectorsList | 0.001 | 0.001 | 0.000 | |
| randomMarkersVectorsList | 0.001 | 0.000 | 0.001 | |
| randomSingleCellExperiment | 0.051 | 0.001 | 0.052 | |
| referenceFromSingleCellExperiment | 0 | 0 | 0 | |
| referencebasedParam-class | 0.002 | 0.000 | 0.002 | |
| referencebasedParam | 0.001 | 0.001 | 0.001 | |
| rmse | 0.001 | 0.000 | 0.001 | |
| rmseTest | 0 | 0 | 0 | |
| sce_to_eset | 0.096 | 0.005 | 0.100 | |
| sce_to_se | 0.066 | 0.001 | 0.067 | |
| se_to_eset | 0.090 | 0.001 | 0.091 | |
| se_to_sce | 0.077 | 0.002 | 0.079 | |
| show-bisqueParam-method | 0.568 | 0.007 | 0.575 | |
| show-cellProportionsPredictions-method | 0.001 | 0.000 | 0.000 | |
| show-deconvolutionParam-method | 0 | 0 | 0 | |
| show-findmarkersParam-method | 0.532 | 0.005 | 0.560 | |
| show-independentbulkParam-method | 0.000 | 0.000 | 0.001 | |
| show-nnlsParam-method | 0.001 | 0.000 | 0.002 | |
| show-referencebasedParam-method | 0.001 | 0.000 | 0.001 | |
| show-typemarkersParam-method | 0.001 | 0.000 | 0.000 | |
| sub-sub-deconvolutionParam-ANY-ANY-method | 0 | 0 | 0 | |
| sub-sub-typemarkersParam-ANY-ANY-method | 0 | 0 | 0 | |
| typemarkers-findmarkersParam-method | 0.500 | 0.003 | 0.504 | |
| typemarkers-typemarkersParam-method | 0 | 0 | 0 | |
| typemarkers | 0 | 0 | 0 | |
| typemarkersParam-class | 0 | 0 | 0 | |
| typemarkersParam | 0 | 0 | 0 | |
| ypb_from_sce | 0.069 | 0.001 | 0.070 | |
| z_matrix_from_sce | 0.064 | 0.002 | 0.066 | |