| Back to Multiple platform build/check report for BioC 3.20: simplified long |
|
This page was generated on 2025-04-02 19:34 -0400 (Wed, 02 Apr 2025).
| Hostname | OS | Arch (*) | R version | Installed pkgs |
|---|---|---|---|---|
| nebbiolo2 | Linux (Ubuntu 24.04.1 LTS) | x86_64 | 4.4.3 (2025-02-28) -- "Trophy Case" | 4764 |
| palomino8 | Windows Server 2022 Datacenter | x64 | 4.4.3 (2025-02-28 ucrt) -- "Trophy Case" | 4495 |
| merida1 | macOS 12.7.5 Monterey | x86_64 | 4.4.3 (2025-02-28) -- "Trophy Case" | 4522 |
| kjohnson1 | macOS 13.6.6 Ventura | arm64 | 4.4.3 (2025-02-28) -- "Trophy Case" | 4449 |
| taishan | Linux (openEuler 24.03 LTS) | aarch64 | 4.4.3 (2025-02-28) -- "Trophy Case" | 4426 |
| Click on any hostname to see more info about the system (e.g. compilers) (*) as reported by 'uname -p', except on Windows and Mac OS X | ||||
| Package 900/2289 | Hostname | OS / Arch | INSTALL | BUILD | CHECK | BUILD BIN | ||||||||
| graph 1.84.1 (landing page) Bioconductor Package Maintainer
| nebbiolo2 | Linux (Ubuntu 24.04.1 LTS) / x86_64 | OK | OK | OK | |||||||||
| palomino8 | Windows Server 2022 Datacenter / x64 | OK | OK | OK | OK | |||||||||
| merida1 | macOS 12.7.5 Monterey / x86_64 | OK | OK | OK | OK | |||||||||
| kjohnson1 | macOS 13.6.6 Ventura / arm64 | OK | OK | OK | OK | |||||||||
| taishan | Linux (openEuler 24.03 LTS) / aarch64 | OK | OK | OK | ||||||||||
|
To the developers/maintainers of the graph package: - Allow up to 24 hours (and sometimes 48 hours) for your latest push to git@git.bioconductor.org:packages/graph.git to reflect on this report. See Troubleshooting Build Report for more information. - Use the following Renviron settings to reproduce errors and warnings. - If 'R CMD check' started to fail recently on the Linux builder(s) over a missing dependency, add the missing dependency to 'Suggests:' in your DESCRIPTION file. See Renviron.bioc for more information. |
| Package: graph |
| Version: 1.84.1 |
| Command: /Library/Frameworks/R.framework/Resources/bin/R CMD check --install=check:graph.install-out.txt --library=/Library/Frameworks/R.framework/Resources/library --no-vignettes --timings graph_1.84.1.tar.gz |
| StartedAt: 2025-04-01 21:11:00 -0400 (Tue, 01 Apr 2025) |
| EndedAt: 2025-04-01 21:11:58 -0400 (Tue, 01 Apr 2025) |
| EllapsedTime: 57.7 seconds |
| RetCode: 0 |
| Status: OK |
| CheckDir: graph.Rcheck |
| Warnings: 0 |
##############################################################################
##############################################################################
###
### Running command:
###
### /Library/Frameworks/R.framework/Resources/bin/R CMD check --install=check:graph.install-out.txt --library=/Library/Frameworks/R.framework/Resources/library --no-vignettes --timings graph_1.84.1.tar.gz
###
##############################################################################
##############################################################################
* using log directory ‘/Users/biocbuild/bbs-3.20-bioc/meat/graph.Rcheck’
* using R version 4.4.3 (2025-02-28)
* using platform: aarch64-apple-darwin20
* R was compiled by
Apple clang version 14.0.0 (clang-1400.0.29.202)
GNU Fortran (GCC) 12.2.0
* running under: macOS Ventura 13.7.1
* using session charset: UTF-8
* using option ‘--no-vignettes’
* checking for file ‘graph/DESCRIPTION’ ... OK
* this is package ‘graph’ version ‘1.84.1’
* checking package namespace information ... OK
* checking package dependencies ... OK
* checking if this is a source package ... OK
* checking if there is a namespace ... OK
* checking for hidden files and directories ... OK
* checking for portable file names ... OK
* checking for sufficient/correct file permissions ... OK
* checking whether package ‘graph’ can be installed ... OK
* used C compiler: ‘Apple clang version 15.0.0 (clang-1500.0.40.1)’
* used SDK: ‘MacOSX11.3.sdk’
* checking installed package size ... OK
* checking package directory ... OK
* checking ‘build’ directory ... OK
* checking DESCRIPTION meta-information ... OK
* checking top-level files ... OK
* checking for left-over files ... OK
* checking index information ... OK
* checking package subdirectories ... OK
* checking code files for non-ASCII characters ... OK
* checking R files for syntax errors ... OK
* checking whether the package can be loaded ... OK
* checking whether the package can be loaded with stated dependencies ... OK
* checking whether the package can be unloaded cleanly ... OK
* checking whether the namespace can be loaded with stated dependencies ... OK
* checking whether the namespace can be unloaded cleanly ... OK
* checking dependencies in R code ... OK
* checking S3 generic/method consistency ... OK
* checking replacement functions ... OK
* checking foreign function calls ... OK
* checking R code for possible problems ... OK
* checking Rd files ... OK
* checking Rd metadata ... OK
* checking Rd cross-references ... OK
* checking for missing documentation entries ... OK
* checking for code/documentation mismatches ... OK
* checking Rd \usage sections ... OK
* checking Rd contents ... OK
* checking for unstated dependencies in examples ... OK
* checking contents of ‘data’ directory ... OK
* checking data for non-ASCII characters ... OK
* checking data for ASCII and uncompressed saves ... OK
* checking line endings in C/C++/Fortran sources/headers ... OK
* checking line endings in Makefiles ... OK
* checking compilation flags in Makevars ... OK
* checking for GNU extensions in Makefiles ... OK
* checking for portable use of $(BLAS_LIBS) and $(LAPACK_LIBS) ... OK
* checking use of PKG_*FLAGS in Makefiles ... OK
* checking include directives in Makefiles ... OK
* checking compiled code ... NOTE
Note: information on .o files is not available
* checking files in ‘vignettes’ ... OK
* checking examples ... OK
* checking for unstated dependencies in ‘tests’ ... OK
* checking tests ...
Running ‘graph_unit_tests.R’
OK
* checking for unstated dependencies in vignettes ... OK
* checking package vignettes ... OK
* checking running R code from vignettes ... SKIPPED
* checking re-building of vignette outputs ... SKIPPED
* checking PDF version of manual ... OK
* DONE
Status: 1 NOTE
See
‘/Users/biocbuild/bbs-3.20-bioc/meat/graph.Rcheck/00check.log’
for details.
graph.Rcheck/00install.out
##############################################################################
##############################################################################
###
### Running command:
###
### /Library/Frameworks/R.framework/Resources/bin/R CMD INSTALL graph
###
##############################################################################
##############################################################################
* installing to library ‘/Library/Frameworks/R.framework/Versions/4.4-arm64/Resources/library’
* installing *source* package ‘graph’ ...
** using staged installation
** libs
using C compiler: ‘Apple clang version 15.0.0 (clang-1500.0.40.1)’
using SDK: ‘MacOSX11.3.sdk’
clang -arch arm64 -I"/Library/Frameworks/R.framework/Resources/include" -DNDEBUG -I/opt/R/arm64/include -fPIC -falign-functions=64 -Wall -g -O2 -c graph.c -o graph.o
graph.c:764:9: warning: variable 'cmnIndx' set but not used [-Wunused-but-set-variable]
int cmnIndx = 0;
^
1 warning generated.
clang -arch arm64 -dynamiclib -Wl,-headerpad_max_install_names -undefined dynamic_lookup -L/Library/Frameworks/R.framework/Resources/lib -L/opt/R/arm64/lib -o graph.so graph.o -F/Library/Frameworks/R.framework/.. -framework R -Wl,-framework -Wl,CoreFoundation
mv graph.so BioC_graph.so
installing to /Library/Frameworks/R.framework/Versions/4.4-arm64/Resources/library/00LOCK-graph/00new/graph/libs
** R
** data
** inst
** byte-compile and prepare package for lazy loading
** help
*** installing help indices
** building package indices
** installing vignettes
** testing if installed package can be loaded from temporary location
** checking absolute paths in shared objects and dynamic libraries
** testing if installed package can be loaded from final location
** testing if installed package keeps a record of temporary installation path
* DONE (graph)
graph.Rcheck/tests/graph_unit_tests.Rout
R version 4.4.3 (2025-02-28) -- "Trophy Case"
Copyright (C) 2025 The R Foundation for Statistical Computing
Platform: aarch64-apple-darwin20
R is free software and comes with ABSOLUTELY NO WARRANTY.
You are welcome to redistribute it under certain conditions.
Type 'license()' or 'licence()' for distribution details.
R is a collaborative project with many contributors.
Type 'contributors()' for more information and
'citation()' on how to cite R or R packages in publications.
Type 'demo()' for some demos, 'help()' for on-line help, or
'help.start()' for an HTML browser interface to help.
Type 'q()' to quit R.
> BiocGenerics:::testPackage("graph", pattern="_test.R")
Attaching package: 'BiocGenerics'
The following objects are masked from 'package:stats':
IQR, mad, sd, var, xtabs
The following objects are masked from 'package:base':
Filter, Find, Map, Position, Reduce, anyDuplicated, aperm, append,
as.data.frame, basename, cbind, colnames, dirname, do.call,
duplicated, eval, evalq, get, grep, grepl, intersect, is.unsorted,
lapply, mapply, match, mget, order, paste, pmax, pmax.int, pmin,
pmin.int, rank, rbind, rownames, sapply, saveRDS, setdiff, table,
tapply, union, unique, unsplit, which.max, which.min
RUNIT TEST PROTOCOL -- Tue Apr 1 21:11:45 2025
***********************************************
Number of test functions: 211
Number of errors: 0
Number of failures: 0
1 Test Suite :
graph RUnit Tests - 211 test functions, 0 errors, 0 failures
Number of test functions: 211
Number of errors: 0
Number of failures: 0
>
> proc.time()
user system elapsed
3.762 0.136 3.922
graph.Rcheck/graph-Ex.timings
| name | user | system | elapsed | |
| DFS | 0.192 | 0.002 | 0.194 | |
| IMCA | 0.134 | 0.021 | 0.156 | |
| MAPKsig | 0.082 | 0.004 | 0.086 | |
| MultiGraph-class | 0.113 | 0.004 | 0.116 | |
| acc-methods | 0.008 | 0.001 | 0.008 | |
| addEdge | 0.033 | 0.000 | 0.034 | |
| addNode | 0.007 | 0.000 | 0.007 | |
| adj-methods | 0.002 | 0.000 | 0.002 | |
| adjacencyMatrix | 0.002 | 0.000 | 0.002 | |
| apoptosisGraph | 0.013 | 0.003 | 0.016 | |
| attrData-class | 0.000 | 0.001 | 0.001 | |
| aveNumEdges | 0.003 | 0.000 | 0.004 | |
| biocRepos | 0.001 | 0.002 | 0.003 | |
| boundary | 0.002 | 0.000 | 0.003 | |
| calcProb | 0.000 | 0.000 | 0.001 | |
| calcSumProb | 0.003 | 0.000 | 0.004 | |
| clearNode | 0.012 | 0.000 | 0.013 | |
| clusterGraph-class | 0.013 | 0.001 | 0.014 | |
| clusteringCoefficient-methods | 0.025 | 0.001 | 0.025 | |
| combineNodes | 0.066 | 0.001 | 0.067 | |
| distGraph-class | 0.000 | 0.000 | 0.001 | |
| duplicatedEdges | 0 | 0 | 0 | |
| edgeMatrix | 0.007 | 0.001 | 0.008 | |
| edgeSets | 0.042 | 0.005 | 0.046 | |
| edgeWeights | 0.008 | 0.000 | 0.009 | |
| fromGXL-methods | 0.180 | 0.010 | 0.192 | |
| graph-class | 0.003 | 0.002 | 0.004 | |
| graph2SparseM | 0.096 | 0.003 | 0.099 | |
| graphAM-class | 0.008 | 0.000 | 0.009 | |
| graphBAM-class | 0.024 | 0.001 | 0.026 | |
| graphExamples | 0.004 | 0.002 | 0.006 | |
| graphNEL-class | 0.013 | 0.001 | 0.014 | |
| inEdges | 0.005 | 0.000 | 0.006 | |
| leaves | 0.007 | 0.003 | 0.010 | |
| listEdges | 0.008 | 0.001 | 0.009 | |
| matrix2Graph | 0.021 | 0.001 | 0.023 | |
| mostEdges | 0.005 | 0.001 | 0.006 | |
| numNoEdges | 0.002 | 0.000 | 0.002 | |
| pancrCaIni | 0.118 | 0.005 | 0.123 | |
| randomEGraph | 0.004 | 0.000 | 0.004 | |
| randomGraph | 0.002 | 0.001 | 0.003 | |
| randomNodeGraph | 0.002 | 0.001 | 0.003 | |
| removeEdge | 0.007 | 0.000 | 0.008 | |
| removeNode | 0.005 | 0.000 | 0.005 | |
| renderInfo-class | 0.004 | 0.001 | 0.005 | |
| reverseEdgeDirections | 0.003 | 0.001 | 0.003 | |
| simpleEdge-class | 0.000 | 0.000 | 0.001 | |
| standardLabeling | 0.044 | 0.001 | 0.046 | |
| subGraph | 0.001 | 0.000 | 0.001 | |
| toDotR-methods | 0.020 | 0.004 | 0.024 | |
| ugraph | 0.007 | 0.000 | 0.008 | |
| validGraph | 0.001 | 0.000 | 0.001 | |