| Back to Multiple platform build/check report for BioC 3.20: simplified long |
|
This page was generated on 2025-04-02 19:35 -0400 (Wed, 02 Apr 2025).
| Hostname | OS | Arch (*) | R version | Installed pkgs |
|---|---|---|---|---|
| nebbiolo2 | Linux (Ubuntu 24.04.1 LTS) | x86_64 | 4.4.3 (2025-02-28) -- "Trophy Case" | 4764 |
| palomino8 | Windows Server 2022 Datacenter | x64 | 4.4.3 (2025-02-28 ucrt) -- "Trophy Case" | 4495 |
| merida1 | macOS 12.7.5 Monterey | x86_64 | 4.4.3 (2025-02-28) -- "Trophy Case" | 4522 |
| kjohnson1 | macOS 13.6.6 Ventura | arm64 | 4.4.3 (2025-02-28) -- "Trophy Case" | 4449 |
| taishan | Linux (openEuler 24.03 LTS) | aarch64 | 4.4.3 (2025-02-28) -- "Trophy Case" | 4426 |
| Click on any hostname to see more info about the system (e.g. compilers) (*) as reported by 'uname -p', except on Windows and Mac OS X | ||||
| Package 870/2289 | Hostname | OS / Arch | INSTALL | BUILD | CHECK | BUILD BIN | ||||||||
| glmGamPoi 1.18.0 (landing page) Constantin Ahlmann-Eltze
| nebbiolo2 | Linux (Ubuntu 24.04.1 LTS) / x86_64 | OK | OK | OK | |||||||||
| palomino8 | Windows Server 2022 Datacenter / x64 | OK | OK | OK | OK | |||||||||
| merida1 | macOS 12.7.5 Monterey / x86_64 | OK | OK | OK | OK | |||||||||
| kjohnson1 | macOS 13.6.6 Ventura / arm64 | OK | OK | OK | OK | |||||||||
| taishan | Linux (openEuler 24.03 LTS) / aarch64 | OK | OK | OK | ||||||||||
|
To the developers/maintainers of the glmGamPoi package: - Allow up to 24 hours (and sometimes 48 hours) for your latest push to git@git.bioconductor.org:packages/glmGamPoi.git to reflect on this report. See Troubleshooting Build Report for more information. - Use the following Renviron settings to reproduce errors and warnings. - If 'R CMD check' started to fail recently on the Linux builder(s) over a missing dependency, add the missing dependency to 'Suggests:' in your DESCRIPTION file. See Renviron.bioc for more information. - See Martin Grigorov's blog post for how to debug Linux ARM64 related issues on a x86_64 host. |
| Package: glmGamPoi |
| Version: 1.18.0 |
| Command: /home/biocbuild/R/R/bin/R CMD INSTALL glmGamPoi |
| StartedAt: 2025-03-31 20:25:08 -0000 (Mon, 31 Mar 2025) |
| EndedAt: 2025-03-31 20:26:49 -0000 (Mon, 31 Mar 2025) |
| EllapsedTime: 101.3 seconds |
| RetCode: 0 |
| Status: OK |
##############################################################################
##############################################################################
###
### Running command:
###
### /home/biocbuild/R/R/bin/R CMD INSTALL glmGamPoi
###
##############################################################################
##############################################################################
* installing to library ‘/home/biocbuild/R/R-4.4.3/site-library’
* installing *source* package ‘glmGamPoi’ ...
** using staged installation
** libs
using C++ compiler: ‘aarch64-unknown-linux-gnu-g++ (GCC) 14.2.0’
using C++11
/opt/ohpc/pub/compiler/gcc/14.2.0/bin/aarch64-unknown-linux-gnu-g++ -std=gnu++11 -I"/home/biocbuild/R/R-4.4.3/include" -DNDEBUG -I../inst/include/ -I'/home/biocbuild/R/R-4.4.3/site-library/Rcpp/include' -I'/home/biocbuild/R/R-4.4.3/site-library/RcppArmadillo/include' -I'/home/biocbuild/R/R-4.4.3/site-library/beachmat/include' -I/usr/local/include -fPIC -g -O2 -Wall -c RcppExports.cpp -o RcppExports.o
/opt/ohpc/pub/compiler/gcc/14.2.0/bin/aarch64-unknown-linux-gnu-g++ -std=gnu++11 -I"/home/biocbuild/R/R-4.4.3/include" -DNDEBUG -I../inst/include/ -I'/home/biocbuild/R/R-4.4.3/site-library/Rcpp/include' -I'/home/biocbuild/R/R-4.4.3/site-library/RcppArmadillo/include' -I'/home/biocbuild/R/R-4.4.3/site-library/beachmat/include' -I/usr/local/include -fPIC -g -O2 -Wall -c beta_estimation.cpp -o beta_estimation.o
beta_estimation.cpp: In function ‘bool lte_n_equal_rows(const Rcpp::NumericMatrix&, int, double)’:
beta_estimation.cpp:32:35: warning: comparison of integer expressions of different signedness: ‘size_t’ {aka ‘long unsigned int’} and ‘int’ [-Wsign-compare]
32 | for(size_t row_idx = 0; row_idx < matrix.nrow(); row_idx++){
| ~~~~~~~~^~~~~~~~~~~~~~~
beta_estimation.cpp:44:20: warning: comparison of integer expressions of different signedness: ‘size_t’ {aka ‘long unsigned int’} and ‘int’ [-Wsign-compare]
44 | if(n_matches > n){
| ~~~~~~~~~~^~~
beta_estimation.cpp: In function ‘Rcpp::IntegerVector get_row_groups(const Rcpp::NumericMatrix&, int, double)’:
beta_estimation.cpp:58:35: warning: comparison of integer expressions of different signedness: ‘size_t’ {aka ‘long unsigned int’} and ‘int’ [-Wsign-compare]
58 | for(size_t row_idx = 0; row_idx < matrix.nrow(); row_idx++){
| ~~~~~~~~^~~~~~~~~~~~~~~
In file included from beta_estimation.cpp:6:
../inst/include/deviance.h: In instantiation of ‘arma::Mat<double> compute_gp_deviance_residuals_matrix_impl(arma::Mat<eT>, arma::Mat<double>, Rcpp::NumericVector) [with NumericType = int; Rcpp::NumericVector = Rcpp::Vector<14, Rcpp::PreserveStorage>]’:
../inst/include/deviance.h:88:58: required from here
88 | return compute_gp_deviance_residuals_matrix_impl<int>(Y, Mu, thetas);
| ~~~~~~~~~~~~~~~~~~~~~~~~~~~~~~~~~~~~~~~~~~~~~~^~~~~~~~~~~~~~~
../inst/include/deviance.h:76:20: warning: comparison of integer expressions of different signedness: ‘int’ and ‘const arma::uword’ {aka ‘const unsigned int’} [-Wsign-compare]
76 | for(int i = 0; i < Y.n_elem; i++){
| ~~^~~~~~~~~~
../inst/include/deviance.h: In instantiation of ‘arma::Mat<double> compute_gp_deviance_residuals_matrix_impl(arma::Mat<eT>, arma::Mat<double>, Rcpp::NumericVector) [with NumericType = double; Rcpp::NumericVector = Rcpp::Vector<14, Rcpp::PreserveStorage>]’:
../inst/include/deviance.h:91:61: required from here
91 | return compute_gp_deviance_residuals_matrix_impl<double>(Y, Mu, thetas);
| ~~~~~~~~~~~~~~~~~~~~~~~~~~~~~~~~~~~~~~~~~~~~~~~~~^~~~~~~~~~~~~~~
../inst/include/deviance.h:76:20: warning: comparison of integer expressions of different signedness: ‘int’ and ‘const arma::uword’ {aka ‘const unsigned int’} [-Wsign-compare]
76 | for(int i = 0; i < Y.n_elem; i++){
| ~~^~~~~~~~~~
beta_estimation.cpp: In instantiation of ‘void clamp_inplace(arma::Mat<eT>&, double, double) [with NumericType = double]’:
beta_estimation.cpp:81:16: required from here
81 | clamp_inplace(mu_hat, 1e-50, 1e50);
| ~~~~~~~~~~~~~^~~~~~~~~~~~~~~~~~~~~
beta_estimation.cpp:15:20: warning: comparison of integer expressions of different signedness: ‘int’ and ‘const arma::uword’ {aka ‘const unsigned int’} [-Wsign-compare]
15 | for(int i = 0; i < v.n_elem; i++){
| ~~^~~~~~~~~~
../inst/include/deviance.h: In instantiation of ‘double compute_gp_deviance_sum(const arma::Mat<eT>&, const arma::Mat<double>&, double) [with NumericType = int]’:
beta_estimation.cpp:246:40: required from ‘Rcpp::List fitBeta_fisher_scoring_impl(Rcpp::RObject, const arma::mat&, Rcpp::RObject, Rcpp::NumericVector, SEXP, Rcpp::Nullable<Rcpp::Matrix<14> >, double, double, int, bool) [with NumericType = int; BMNumericType = beachmat::lin_matrix<int, Rcpp::Vector<13> >; Rcpp::List = Rcpp::Vector<19>; Rcpp::RObject = Rcpp::RObject_Impl<Rcpp::PreserveStorage>; arma::mat = arma::Mat<double>; Rcpp::NumericVector = Rcpp::Vector<14, Rcpp::PreserveStorage>; SEXP = SEXPREC*]’
246 | dev_old = compute_gp_deviance_sum(counts, mu_hat, thetas(gene_idx)) + pen_sum;
| ~~~~~~~~~~~~~~~~~~~~~~~^~~~~~~~~~~~~~~~~~~~~~~~~~~~~~~~~~
beta_estimation.cpp:301:70: required from here
301 | return fitBeta_fisher_scoring_impl<int, beachmat::integer_matrix>(Y, model_matrix, exp_offset_matrix,
| ~~~~~~~~~~~~~~~~~~~~~~~~~~~~~~~~~~~~~~~~~~~~~~~~~~~~~~~~~~^~~~~~~~~~~~~~~~~~~~~~~~~~~~~~~~~~~~
302 | thetas, beta_matSEXP,
| ~~~~~~~~~~~~~~~~~~~~~~
303 | /*ridge_penalty=*/ ridge_penalty_nl,
| ~~~~~~~~~~~~~~~~~~~~~~~~~~~~~~~~~~~~
304 | tolerance, max_rel_mu_change, max_iter,
| ~~~~~~~~~~~~~~~~~~~~~~~~~~~~~~~~~~~~~~~
305 | /*use_diagonal_approx=*/ false);
| ~~~~~~~~~~~~~~~~~~~~~~~~~~~~~~~
../inst/include/deviance.h:53:21: warning: comparison of integer expressions of different signedness: ‘int’ and ‘const arma::uword’ {aka ‘const unsigned int’} [-Wsign-compare]
53 | for (int i = 0; i < Y.n_elem; i++) {
| ~~^~~~~~~~~~
../inst/include/deviance.h: In instantiation of ‘double compute_gp_deviance_sum(const arma::Mat<eT>&, const arma::Mat<double>&, double) [with NumericType = double]’:
beta_estimation.cpp:246:40: required from ‘Rcpp::List fitBeta_fisher_scoring_impl(Rcpp::RObject, const arma::mat&, Rcpp::RObject, Rcpp::NumericVector, SEXP, Rcpp::Nullable<Rcpp::Matrix<14> >, double, double, int, bool) [with NumericType = double; BMNumericType = beachmat::lin_matrix<double, Rcpp::Vector<14, Rcpp::PreserveStorage> >; Rcpp::List = Rcpp::Vector<19>; Rcpp::RObject = Rcpp::RObject_Impl<Rcpp::PreserveStorage>; arma::mat = arma::Mat<double>; Rcpp::NumericVector = Rcpp::Vector<14, Rcpp::PreserveStorage>; SEXP = SEXPREC*]’
246 | dev_old = compute_gp_deviance_sum(counts, mu_hat, thetas(gene_idx)) + pen_sum;
| ~~~~~~~~~~~~~~~~~~~~~~~^~~~~~~~~~~~~~~~~~~~~~~~~~~~~~~~~~
beta_estimation.cpp:307:73: required from here
307 | return fitBeta_fisher_scoring_impl<double, beachmat::numeric_matrix>(Y, model_matrix, exp_offset_matrix,
| ~~~~~~~~~~~~~~~~~~~~~~~~~~~~~~~~~~~~~~~~~~~~~~~~~~~~~~~~~~~~~^~~~~~~~~~~~~~~~~~~~~~~~~~~~~~~~~~~~
308 | thetas, beta_matSEXP,
| ~~~~~~~~~~~~~~~~~~~~~~
309 | /*ridge_penalty=*/ ridge_penalty_nl,
| ~~~~~~~~~~~~~~~~~~~~~~~~~~~~~~~~~~~~
310 | tolerance, max_rel_mu_change, max_iter,
| ~~~~~~~~~~~~~~~~~~~~~~~~~~~~~~~~~~~~~~~
311 | /*use_diagonal_approx=*/ false);
| ~~~~~~~~~~~~~~~~~~~~~~~~~~~~~~~
../inst/include/deviance.h:53:21: warning: comparison of integer expressions of different signedness: ‘int’ and ‘const arma::uword’ {aka ‘const unsigned int’} [-Wsign-compare]
53 | for (int i = 0; i < Y.n_elem; i++) {
| ~~^~~~~~~~~~
/opt/ohpc/pub/compiler/gcc/14.2.0/bin/aarch64-unknown-linux-gnu-g++ -std=gnu++11 -I"/home/biocbuild/R/R-4.4.3/include" -DNDEBUG -I../inst/include/ -I'/home/biocbuild/R/R-4.4.3/site-library/Rcpp/include' -I'/home/biocbuild/R/R-4.4.3/site-library/RcppArmadillo/include' -I'/home/biocbuild/R/R-4.4.3/site-library/beachmat/include' -I/usr/local/include -fPIC -g -O2 -Wall -c deviance.cpp -o deviance.o
In file included from deviance.cpp:3:
../inst/include/deviance.h: In instantiation of ‘arma::Mat<double> compute_gp_deviance_residuals_matrix_impl(arma::Mat<eT>, arma::Mat<double>, Rcpp::NumericVector) [with NumericType = int; Rcpp::NumericVector = Rcpp::Vector<14, Rcpp::PreserveStorage>]’:
../inst/include/deviance.h:88:58: required from here
88 | return compute_gp_deviance_residuals_matrix_impl<int>(Y, Mu, thetas);
| ~~~~~~~~~~~~~~~~~~~~~~~~~~~~~~~~~~~~~~~~~~~~~~^~~~~~~~~~~~~~~
../inst/include/deviance.h:76:20: warning: comparison of integer expressions of different signedness: ‘int’ and ‘const arma::uword’ {aka ‘const unsigned int’} [-Wsign-compare]
76 | for(int i = 0; i < Y.n_elem; i++){
| ~~^~~~~~~~~~
../inst/include/deviance.h: In instantiation of ‘arma::Mat<double> compute_gp_deviance_residuals_matrix_impl(arma::Mat<eT>, arma::Mat<double>, Rcpp::NumericVector) [with NumericType = double; Rcpp::NumericVector = Rcpp::Vector<14, Rcpp::PreserveStorage>]’:
../inst/include/deviance.h:91:61: required from here
91 | return compute_gp_deviance_residuals_matrix_impl<double>(Y, Mu, thetas);
| ~~~~~~~~~~~~~~~~~~~~~~~~~~~~~~~~~~~~~~~~~~~~~~~~~^~~~~~~~~~~~~~~
../inst/include/deviance.h:76:20: warning: comparison of integer expressions of different signedness: ‘int’ and ‘const arma::uword’ {aka ‘const unsigned int’} [-Wsign-compare]
76 | for(int i = 0; i < Y.n_elem; i++){
| ~~^~~~~~~~~~
/opt/ohpc/pub/compiler/gcc/14.2.0/bin/aarch64-unknown-linux-gnu-g++ -std=gnu++11 -I"/home/biocbuild/R/R-4.4.3/include" -DNDEBUG -I../inst/include/ -I'/home/biocbuild/R/R-4.4.3/site-library/Rcpp/include' -I'/home/biocbuild/R/R-4.4.3/site-library/RcppArmadillo/include' -I'/home/biocbuild/R/R-4.4.3/site-library/beachmat/include' -I/usr/local/include -fPIC -g -O2 -Wall -c overdispersion.cpp -o overdispersion.o
overdispersion.cpp: In function ‘Rcpp::List make_table_if_small(const Rcpp::NumericVector&, int)’:
overdispersion.cpp:26:22: warning: comparison of integer expressions of different signedness: ‘std::unordered_map<long int, long unsigned int>::size_type’ {aka ‘long unsigned int’} and ‘int’ [-Wsign-compare]
26 | if(counts.size() > stop_if_larger){
| ~~~~~~~~~~~~~~^~~~~~~~~~~~~~~~
overdispersion.cpp: In function ‘double conventional_loglikelihood_fast(Rcpp::NumericVector, Rcpp::NumericVector, double, const arma::mat&, bool, Rcpp::NumericVector, Rcpp::NumericVector)’:
overdispersion.cpp:93:31: warning: comparison of integer expressions of different signedness: ‘size_t’ {aka ‘long unsigned int’} and ‘R_xlen_t’ {aka ‘long int’} [-Wsign-compare]
93 | for(size_t iter = 0; iter < count_frequencies.size(); ++iter){
| ~~~~~^~~~~~~~~~~~~~~~~~~~~~~~~~
overdispersion.cpp:101:23: warning: comparison of integer expressions of different signedness: ‘size_t’ {aka ‘long unsigned int’} and ‘R_xlen_t’ {aka ‘long int’} [-Wsign-compare]
101 | for(size_t i = 0; i < y.size(); ++i){
| ~~^~~~~~~~~~
overdispersion.cpp: In function ‘double conventional_score_function_fast(Rcpp::NumericVector, Rcpp::NumericVector, double, const arma::mat&, bool, Rcpp::NumericVector, Rcpp::NumericVector)’:
overdispersion.cpp:137:31: warning: comparison of integer expressions of different signedness: ‘size_t’ {aka ‘long unsigned int’} and ‘R_xlen_t’ {aka ‘long int’} [-Wsign-compare]
137 | for(size_t iter = 0; iter < count_frequencies.size(); ++iter){
| ~~~~~^~~~~~~~~~~~~~~~~~~~~~~~~~
overdispersion.cpp:160:31: warning: comparison of integer expressions of different signedness: ‘size_t’ {aka ‘long unsigned int’} and ‘R_xlen_t’ {aka ‘long int’} [-Wsign-compare]
160 | for(size_t iter = 0; iter < y.size(); ++iter){
| ~~~~~^~~~~~~~~~
overdispersion.cpp:178:23: warning: comparison of integer expressions of different signedness: ‘size_t’ {aka ‘long unsigned int’} and ‘R_xlen_t’ {aka ‘long int’} [-Wsign-compare]
178 | for(size_t i = 0; i < y.size(); ++i){
| ~~^~~~~~~~~~
overdispersion.cpp: In function ‘double conventional_deriv_score_function_fast(Rcpp::NumericVector, Rcpp::NumericVector, double, const arma::mat&, bool, Rcpp::NumericVector, Rcpp::NumericVector)’:
overdispersion.cpp:234:31: warning: comparison of integer expressions of different signedness: ‘size_t’ {aka ‘long unsigned int’} and ‘R_xlen_t’ {aka ‘long int’} [-Wsign-compare]
234 | for(size_t iter = 0; iter < count_frequencies.size(); ++iter){
| ~~~~~^~~~~~~~~~~~~~~~~~~~~~~~~~
overdispersion.cpp:252:23: warning: comparison of integer expressions of different signedness: ‘size_t’ {aka ‘long unsigned int’} and ‘R_xlen_t’ {aka ‘long int’} [-Wsign-compare]
252 | for(size_t i = 0; i < y.size(); ++i){
| ~~^~~~~~~~~~
overdispersion.cpp: In instantiation of ‘Rcpp::List estimate_overdispersions_fast_internal(Rcpp::RObject, Rcpp::RObject, Rcpp::NumericMatrix, bool, double, int) [with NumericType = beachmat::lin_matrix<int, Rcpp::Vector<13> >; Rcpp::List = Rcpp::Vector<19>; Rcpp::RObject = Rcpp::RObject_Impl<Rcpp::PreserveStorage>; Rcpp::NumericMatrix = Rcpp::Matrix<14>]’:
overdispersion.cpp:313:76: required from here
313 | return estimate_overdispersions_fast_internal<beachmat::integer_matrix>(Y, mean_matrix, model_matrix, do_cox_reid_adjustment, n_subsamples, max_iter);
| ~~~~~~~~~~~~~~~~~~~~~~~~~~~~~~~~~~~~~~~~~~~~~~~~~~~~~~~~~~~~~~~~^~~~~~~~~~~~~~~~~~~~~~~~~~~~~~~~~~~~~~~~~~~~~~~~~~~~~~~~~~~~~~~~~~~~~~~~~~~~~~
overdispersion.cpp:275:14: warning: comparison of integer expressions of different signedness: ‘int’ and ‘size_t’ {aka ‘long unsigned int’} [-Wsign-compare]
275 | if(n_genes != mean_mat_bm->get_nrow() || n_samples != mean_mat_bm->get_ncol()){
| ~~~~~~~~^~~~~~~~~~~~~~~~~~~~~~~~~~
overdispersion.cpp:275:54: warning: comparison of integer expressions of different signedness: ‘int’ and ‘size_t’ {aka ‘long unsigned int’} [-Wsign-compare]
275 | if(n_genes != mean_mat_bm->get_nrow() || n_samples != mean_mat_bm->get_ncol()){
| ~~~~~~~~~~^~~~~~~~~~~~~~~~~~~~~~~~~~
overdispersion.cpp: In instantiation of ‘Rcpp::List estimate_overdispersions_fast_internal(Rcpp::RObject, Rcpp::RObject, Rcpp::NumericMatrix, bool, double, int) [with NumericType = beachmat::lin_matrix<double, Rcpp::Vector<14, Rcpp::PreserveStorage> >; Rcpp::List = Rcpp::Vector<19>; Rcpp::RObject = Rcpp::RObject_Impl<Rcpp::PreserveStorage>; Rcpp::NumericMatrix = Rcpp::Matrix<14>]’:
overdispersion.cpp:315:76: required from here
315 | return estimate_overdispersions_fast_internal<beachmat::numeric_matrix>(Y, mean_matrix, model_matrix, do_cox_reid_adjustment, n_subsamples, max_iter);
| ~~~~~~~~~~~~~~~~~~~~~~~~~~~~~~~~~~~~~~~~~~~~~~~~~~~~~~~~~~~~~~~~^~~~~~~~~~~~~~~~~~~~~~~~~~~~~~~~~~~~~~~~~~~~~~~~~~~~~~~~~~~~~~~~~~~~~~~~~~~~~~
overdispersion.cpp:275:14: warning: comparison of integer expressions of different signedness: ‘int’ and ‘size_t’ {aka ‘long unsigned int’} [-Wsign-compare]
275 | if(n_genes != mean_mat_bm->get_nrow() || n_samples != mean_mat_bm->get_ncol()){
| ~~~~~~~~^~~~~~~~~~~~~~~~~~~~~~~~~~
overdispersion.cpp:275:54: warning: comparison of integer expressions of different signedness: ‘int’ and ‘size_t’ {aka ‘long unsigned int’} [-Wsign-compare]
275 | if(n_genes != mean_mat_bm->get_nrow() || n_samples != mean_mat_bm->get_ncol()){
| ~~~~~~~~~~^~~~~~~~~~~~~~~~~~~~~~~~~~
/opt/ohpc/pub/compiler/gcc/14.2.0/bin/aarch64-unknown-linux-gnu-g++ -std=gnu++11 -I"/home/biocbuild/R/R-4.4.3/include" -DNDEBUG -I../inst/include/ -I'/home/biocbuild/R/R-4.4.3/site-library/Rcpp/include' -I'/home/biocbuild/R/R-4.4.3/site-library/RcppArmadillo/include' -I'/home/biocbuild/R/R-4.4.3/site-library/beachmat/include' -I/usr/local/include -fPIC -g -O2 -Wall -c utils.cpp -o utils.o
/opt/ohpc/pub/compiler/gcc/14.2.0/bin/aarch64-unknown-linux-gnu-g++ -std=gnu++11 -shared -L/home/biocbuild/R/R-4.4.3/lib -L/usr/local/lib -o glmGamPoi.so RcppExports.o beta_estimation.o deviance.o overdispersion.o utils.o -lopenblas -lgfortran -lm -L/home/biocbuild/R/R-4.4.3/lib -lR
installing to /home/biocbuild/R/R-4.4.3/site-library/00LOCK-glmGamPoi/00new/glmGamPoi/libs
** R
** inst
** byte-compile and prepare package for lazy loading
** help
*** installing help indices
*** copying figures
** building package indices
** installing vignettes
** testing if installed package can be loaded from temporary location
** checking absolute paths in shared objects and dynamic libraries
** testing if installed package can be loaded from final location
** testing if installed package keeps a record of temporary installation path
* DONE (glmGamPoi)