| Back to Multiple platform build/check report for BioC 3.20: simplified long | 
  | 
This page was generated on 2024-11-20 12:07 -0500 (Wed, 20 Nov 2024).
| Hostname | OS | Arch (*) | R version | Installed pkgs | 
|---|---|---|---|---|
| teran2 | Linux (Ubuntu 24.04.1 LTS) | x86_64 | 4.4.2 (2024-10-31) -- "Pile of Leaves" | 4481 | 
| nebbiolo2 | Linux (Ubuntu 24.04.1 LTS) | x86_64 | 4.4.2 (2024-10-31) -- "Pile of Leaves" | 4479 | 
| palomino8 | Windows Server 2022 Datacenter | x64 | 4.4.2 (2024-10-31 ucrt) -- "Pile of Leaves" | 4359 | 
| lconway | macOS 12.7.1 Monterey | x86_64 | 4.4.1 (2024-06-14) -- "Race for Your Life" | 4539 | 
| kunpeng2 | Linux (openEuler 22.03 LTS-SP1) | aarch64 | 4.4.1 (2024-06-14) -- "Race for Your Life" | 4493 | 
| Click on any hostname to see more info about the system (e.g. compilers) (*) as reported by 'uname -p', except on Windows and Mac OS X | ||||
| Package 859/2289 | Hostname | OS / Arch | INSTALL | BUILD | CHECK | BUILD BIN | ||||||||
| ggtree 3.14.0  (landing page) Guangchuang Yu 
  | teran2 | Linux (Ubuntu 24.04.1 LTS) / x86_64 | OK | OK | OK | |||||||||
| nebbiolo2 | Linux (Ubuntu 24.04.1 LTS) / x86_64 | OK | OK | OK | ||||||||||
| palomino8 | Windows Server 2022 Datacenter / x64 | OK | OK | OK | OK | |||||||||
| lconway | macOS 12.7.1 Monterey / x86_64 | OK | OK | OK | OK | |||||||||
| kunpeng2 | Linux (openEuler 22.03 LTS-SP1) / aarch64 | OK | OK | OK | ||||||||||
| 
To the developers/maintainers of the ggtree package: - Allow up to 24 hours (and sometimes 48 hours) for your latest push to git@git.bioconductor.org:packages/ggtree.git to reflect on this report. See Troubleshooting Build Report for more information. - Use the following Renviron settings to reproduce errors and warnings. - If 'R CMD check' started to fail recently on the Linux builder(s) over a missing dependency, add the missing dependency to 'Suggests:' in your DESCRIPTION file. See Renviron.bioc for more information. - See Martin Grigorov's blog post for how to debug Linux ARM64 related issues on a x86_64 host.  | 
| Package: ggtree | 
| Version: 3.14.0 | 
| Command: /home/biocbuild/R/R/bin/R CMD check --install=check:ggtree.install-out.txt --library=/home/biocbuild/R/R/site-library --no-vignettes --timings ggtree_3.14.0.tar.gz | 
| StartedAt: 2024-11-20 08:22:32 -0000 (Wed, 20 Nov 2024) | 
| EndedAt: 2024-11-20 08:24:01 -0000 (Wed, 20 Nov 2024) | 
| EllapsedTime: 89.2 seconds | 
| RetCode: 0 | 
| Status: OK | 
| CheckDir: ggtree.Rcheck | 
| Warnings: 0 | 
##############################################################################
##############################################################################
###
### Running command:
###
###   /home/biocbuild/R/R/bin/R CMD check --install=check:ggtree.install-out.txt --library=/home/biocbuild/R/R/site-library --no-vignettes --timings ggtree_3.14.0.tar.gz
###
##############################################################################
##############################################################################
* using log directory ‘/home/biocbuild/bbs-3.20-bioc/meat/ggtree.Rcheck’
* using R version 4.4.1 (2024-06-14)
* using platform: aarch64-unknown-linux-gnu
* R was compiled by
    gcc (GCC) 12.2.1 20220819 (openEuler 12.2.1-14)
    GNU Fortran (GCC) 10.3.1
* running under: openEuler 22.03 (LTS-SP1)
* using session charset: UTF-8
* using option ‘--no-vignettes’
* checking for file ‘ggtree/DESCRIPTION’ ... OK
* checking extension type ... Package
* this is package ‘ggtree’ version ‘3.14.0’
* package encoding: UTF-8
* checking package namespace information ... OK
* checking package dependencies ... OK
* checking if this is a source package ... OK
* checking if there is a namespace ... OK
* checking for hidden files and directories ... OK
* checking for portable file names ... OK
* checking for sufficient/correct file permissions ... OK
* checking whether package ‘ggtree’ can be installed ... OK
* checking installed package size ... OK
* checking package directory ... OK
* checking ‘build’ directory ... OK
* checking DESCRIPTION meta-information ... OK
* checking top-level files ... OK
* checking for left-over files ... OK
* checking index information ... OK
* checking package subdirectories ... OK
* checking code files for non-ASCII characters ... OK
* checking R files for syntax errors ... OK
* checking whether the package can be loaded ... OK
* checking whether the package can be loaded with stated dependencies ... OK
* checking whether the package can be unloaded cleanly ... OK
* checking whether the namespace can be loaded with stated dependencies ... OK
* checking whether the namespace can be unloaded cleanly ... OK
* checking loading without being on the library search path ... OK
* checking whether startup messages can be suppressed ... OK
* checking dependencies in R code ... OK
* checking S3 generic/method consistency ... OK
* checking replacement functions ... OK
* checking foreign function calls ... OK
* checking R code for possible problems ... OK
* checking Rd files ... OK
* checking Rd metadata ... OK
* checking Rd cross-references ... OK
* checking for missing documentation entries ... OK
* checking for code/documentation mismatches ... OK
* checking Rd \usage sections ... OK
* checking Rd contents ... OK
* checking for unstated dependencies in examples ... OK
* checking files in ‘vignettes’ ... OK
* checking examples ... OK
* checking for unstated dependencies in ‘tests’ ... OK
* checking tests ...
  Running ‘testthat.R’
 OK
* checking for unstated dependencies in vignettes ... OK
* checking package vignettes ... OK
* checking running R code from vignettes ... SKIPPED
* checking re-building of vignette outputs ... SKIPPED
* checking PDF version of manual ... OK
* DONE
Status: OK
ggtree.Rcheck/00install.out
############################################################################## ############################################################################## ### ### Running command: ### ### /home/biocbuild/R/R/bin/R CMD INSTALL ggtree ### ############################################################################## ############################################################################## * installing to library ‘/home/biocbuild/R/R-4.4.1/site-library’ * installing *source* package ‘ggtree’ ... ** using staged installation ** R ** inst ** byte-compile and prepare package for lazy loading ** help *** installing help indices ** building package indices ** installing vignettes ** testing if installed package can be loaded from temporary location ** testing if installed package can be loaded from final location ** testing if installed package keeps a record of temporary installation path * DONE (ggtree)
ggtree.Rcheck/tests/testthat.Rout
R version 4.4.1 (2024-06-14) -- "Race for Your Life"
Copyright (C) 2024 The R Foundation for Statistical Computing
Platform: aarch64-unknown-linux-gnu
R is free software and comes with ABSOLUTELY NO WARRANTY.
You are welcome to redistribute it under certain conditions.
Type 'license()' or 'licence()' for distribution details.
R is a collaborative project with many contributors.
Type 'contributors()' for more information and
'citation()' on how to cite R or R packages in publications.
Type 'demo()' for some demos, 'help()' for on-line help, or
'help.start()' for an HTML browser interface to help.
Type 'q()' to quit R.
> library(testthat)
> library(ggtree)
ggtree v3.14.0 Learn more at https://yulab-smu.top/contribution-tree-data/
Please cite:
S Xu, Z Dai, P Guo, X Fu, S Liu, L Zhou, W Tang, T Feng, M Chen, L
Zhan, T Wu, E Hu, Y Jiang, X Bo, G Yu. ggtreeExtra: Compact
visualization of richly annotated phylogenetic data. Molecular Biology
and Evolution. 2021, 38(9):4039-4042. doi: 10.1093/molbev/msab166
> 
> test_check("ggtree")
[ FAIL 0 | WARN 3 | SKIP 0 | PASS 14 ]
[ FAIL 0 | WARN 3 | SKIP 0 | PASS 14 ]
> 
> proc.time()
   user  system elapsed 
  2.814   0.127   2.848 
ggtree.Rcheck/ggtree-Ex.timings
| name | user | system | elapsed | |
| collapse | 0.397 | 0.008 | 0.406 | |
| expand | 0.213 | 0.000 | 0.213 | |
| facet-plot | 0.342 | 0.000 | 0.344 | |
| flip | 0.248 | 0.016 | 0.264 | |
| geom-hilight | 2.447 | 0.024 | 2.475 | |
| geom_balance | 0.321 | 0.020 | 0.342 | |
| geom_cladelab | 0.548 | 0.004 | 0.554 | |
| geom_label2 | 0.277 | 0.000 | 0.277 | |
| geom_point2 | 1.238 | 0.004 | 1.245 | |
| geom_rootedge | 0.860 | 0.000 | 0.862 | |
| geom_rootpoint | 0.365 | 0.032 | 0.398 | |
| geom_strip | 0.215 | 0.000 | 0.216 | |
| geom_striplab | 0.271 | 0.000 | 0.271 | |
| geom_tiplab | 0.205 | 0.000 | 0.205 | |
| geom_tiplab2 | 0.314 | 0.000 | 0.314 | |
| geom_tippoint | 0.188 | 0.000 | 0.189 | |
| geom_tree | 0.164 | 0.000 | 0.164 | |
| get_taxa_name | 0.042 | 0.000 | 0.042 | |
| ggdensitree | 2.032 | 0.008 | 2.045 | |
| ggexpand | 0.288 | 0.000 | 0.289 | |
| ggtree-format-painter | 0.233 | 0.020 | 0.254 | |
| ggtree | 0.193 | 0.000 | 0.193 | |
| label_pad | 0.001 | 0.000 | 0.001 | |
| open_tree | 0.302 | 0.000 | 0.302 | |
| reexports | 0.314 | 0.000 | 0.315 | |
| revts | 0.200 | 0.000 | 0.201 | |
| rotate | 0.203 | 0.000 | 0.203 | |
| rotate_tree | 0.297 | 0.000 | 0.297 | |
| scaleClade | 0.250 | 0.000 | 0.251 | |
| theme_tree | 0.191 | 0.004 | 0.196 | |
| theme_tree2 | 0.213 | 0.000 | 0.215 | |
| tree-layout | 1.246 | 0.004 | 1.253 | |
| viewClade | 0.282 | 0.000 | 0.282 | |
| xlim_expand | 0.343 | 0.000 | 0.344 | |
| xlim_tree | 0.361 | 0.000 | 0.362 | |
| zoomClade | 0 | 0 | 0 | |